Uber Exif Photo
Make : Leica Camera AG
Camera Model Name : Leica S2
Software : Adobe Photoshop Lightroom Classic 8.0 (Macintosh)
Modify Date : 2018:11:14 23:26:53
Exposure Time : 1/250
F Number : 11.0
Exposure Program : Aperture-priority AE
ISO : 320
Date/Time Original : 2018:05:07 18:09:26
Create Date : 2018:05:07 18:09:26
Shutter Speed Value : 1/250
Aperture Value : 11.0
Exposure Compensation : -1/2
Max Aperture Value : 2.0
Metering Mode : Multi-spot
Light Source : Unknown
Flash : No Flash
Focal Length : 100.0 mm
Color Space : Uncalibrated
Scene Type : Directly photographed
Custom Rendered : Normal
White Balance : Auto
Digital Zoom Ratio : 0
Scene Capture Type : Standard
Contrast : Normal
Saturation : Normal
Sharpness : Normal
Serial Number : 3800658
Lens Model : Summicron-S 100
Orientation : Horizontal (normal)
Profile Description : Adobe RGB (1998)
Creator Tool : Adobe Photoshop Lightroom Classic 8.0 (Macintosh)
Rating : 1
Lens : Summicron-S 100
Distortion Correction Already Applied : True
Lateral Chromatic Aberration Correction Already Applied : True
Approximate Focus Distance : 4294967295
Date Created : 2018:05:07 18:09:26
Format : image/tiff
Raw File Name : Version : 11.0
Process Version : 10.0
Color Temperature : 5300
Tint : +22
Luminance Smoothing : 10
Color Noise Reduction : 25
Vignette Amount : 0
Shadow Tint : 0
Red Hue : 0
Red Saturation : 0
Green Hue : 0
Green Saturation : 0
Blue Hue : 0
Blue Saturation : 0
Vibrance : +25
Hue Adjustment Red : 0
Hue Adjustment Orange : 0
Hue Adjustment Yellow : 0
Hue Adjustment Green : +5
Hue Adjustment Aqua : 0
Hue Adjustment Blue : 0
Hue Adjustment Purple : 0
Hue Adjustment Magenta : 0
Saturation Adjustment Red : 0
Saturation Adjustment Orange : 0
Saturation Adjustment Yellow : 0
Saturation Adjustment Green : 0
Saturation Adjustment Aqua : 0
Saturation Adjustment Blue : 0
Saturation Adjustment Purple : 0
Saturation Adjustment Magenta : 0
Luminance Adjustment Red : 0
Luminance Adjustment Orange : 0
Luminance Adjustment Yellow : 0
Luminance Adjustment Green : +10
Luminance Adjustment Aqua : 0
Luminance Adjustment Blue : 0
Luminance Adjustment Purple : 0
Luminance Adjustment Magenta : 0
Split Toning Shadow Hue : 0
Split Toning Shadow Saturation : 0
Split Toning Highlight Hue : 0
Split Toning Highlight Saturation : 0
Split Toning Balance : 0
Parametric Shadows : 0
Parametric Darks : 0
Parametric Lights : 0
Parametric Highlights : 0
Parametric Shadow Split : 25
Parametric Midtone Split : 50
Parametric Highlight Split : 75
Sharpen Radius : +1.0
Sharpen Detail : 25
Sharpen Edge Masking : 0
Post Crop Vignette Amount : 0
Grain Amount : 0
Luminance Noise Reduction Detail : 50
Color Noise Reduction Detail : 50
Luminance Noise Reduction Contrast : 0
Color Noise Reduction Smoothness : 50
Lens Profile Enable : 1
Lens Manual Distortion Amount : 0
Perspective Vertical : +6
Perspective Horizontal : 0
Perspective Rotate : -1.5
Perspective Scale : 100
Perspective Aspect : 0
Perspective Upright : Off
Perspective X : 0.00
Perspective Y : 0.00
Auto Lateral CA : 1
Exposure 2012 : +0.40
Contrast 2012 : +35
Highlights 2012 : -35
Shadows 2012 : +35
Whites 2012 : 0
Blacks 2012 : -46
Clarity 2012 : +15
Defringe Purple Amount : 0
Defringe Purple Hue Lo : 14
Defringe Purple Hue Hi : 52
Defringe Green Amount : 0
Defringe Green Hue Lo : 40
Defringe Green Hue Hi : 60
Dehaze : 0
Tone Map Strength : 0
Convert To Grayscale : False
Override Look Vignette : False
Tone Curve Name : Linear
Tone Curve Name 2012 : Linear
Camera Profile : Embedded
Lens Profile Setup : LensDefaults
Lens Profile Name : Adobe (Leica SUMMICRON-S 1:2/100 mm ASPH.)
Lens Profile Filename : Leica Camera AG (Leica SUMMICRON-S 100 mm f2 mm ASPH.) - RAW.lcp
Lens Profile Distortion Scale : 100
Lens Profile Chromatic Aberration Scale : 100
Lens Profile Vignetting Scale : 100
Has Settings : True
Crop Top : 0.02609
Crop Left : 0.023347
Crop Bottom : 0.988688
Crop Right : 0.985945
Crop Angle : 0
Crop Constrain To Warp : 1
Has Crop : True
Already Applied : True
Tone Curve : 0, 0, 255, 255
Tone Curve Red : 0, 0, 255, 255
Tone Curve Green : 0, 0, 255, 255
Tone Curve Blue : 0, 0, 255, 255
Tone Curve PV2012 : 0, 0, 255, 255
Tone Curve PV2012 Red : 0, 0, 255, 255
Tone Curve PV2012 Green : 0, 0, 255, 255
Tone Curve PV2012 Blue : 0, 0, 255, 255
Look Name : Image Width : 250
Image Height : 166
Bits Per Sample : 8
Color Components : 3
Aperture : 11.0
Image Size : 250x166
Megapixels : 0.042
Shutter Speed : 1/250
Light Value : 13.2
Lens ID : Summicron-S 100