Uber Exif Photo
By-line : DOUG MILES
Copyright Notice : DOUG MILES
Make : RICOH IMAGING COMPANY, LTD.
Camera Model Name : PENTAX K-1
Software : Adobe Photoshop Lightroom Classic 7.4 (Macintosh)
Modify Date : 2018:10:07 20:04:54
Artist : DOUG MILES
Exposure Time : 1/250
F Number : 5.0
Exposure Program : Program AE
ISO : 200
Sensitivity Type : Standard Output Sensitivity
Standard Output Sensitivity : 200
Date/Time Original : 2018:03:01 12:48:44
Create Date : 2018:03:01 12:48:44
Shutter Speed Value : 1/250
Aperture Value : 5.0
Exposure Compensation : 0
Metering Mode : Multi-segment
Flash : Off, Did not fire
Focal Length : 31.0 mm
Color Space : Uncalibrated
Sensing Method : One-chip color area
Custom Rendered : Normal
Exposure Mode : Auto
White Balance : Auto
Focal Length In 35mm Format : 31 mm
Scene Capture Type : Standard
Contrast : High
Saturation : Normal
Sharpness : Hard
Subject Distance Range : Distant
Lens Info : 31mm f/1.8
Lens Model : smc PENTAX-FA 31mm F1.8AL Limited
Orientation : Horizontal (normal)
Profile Description : Adobe RGB (1998)
Format : image/tiff
Creator : DOUG MILES
Rights : DOUG MILES
Creator Tool : Adobe Photoshop Lightroom Classic 7.4 (Macintosh)
Rating : 1
Lens : smc PENTAX-FA 31mm F1.8AL Limited
Approximate Focus Distance : 4
Lateral Chromatic Aberration Correction Already Applied : True
Date Created : 2018:03:01 12:48:44
Raw File Name : Version : 10.4
Process Version : 10.0
Color Temperature : 5000
Tint : -4
Luminance Smoothing : 0
Color Noise Reduction : 25
Vignette Amount : 0
Shadow Tint : 0
Red Hue : 0
Red Saturation : 0
Green Hue : 0
Green Saturation : 0
Blue Hue : 0
Blue Saturation : 0
Vibrance : +25
Hue Adjustment Red : 0
Hue Adjustment Orange : 0
Hue Adjustment Yellow : 0
Hue Adjustment Green : +5
Hue Adjustment Aqua : 0
Hue Adjustment Blue : 0
Hue Adjustment Purple : 0
Hue Adjustment Magenta : 0
Saturation Adjustment Red : 0
Saturation Adjustment Orange : 0
Saturation Adjustment Yellow : 0
Saturation Adjustment Green : 0
Saturation Adjustment Aqua : 0
Saturation Adjustment Blue : 0
Saturation Adjustment Purple : 0
Saturation Adjustment Magenta : 0
Luminance Adjustment Red : 0
Luminance Adjustment Orange : 0
Luminance Adjustment Yellow : 0
Luminance Adjustment Green : +10
Luminance Adjustment Aqua : 0
Luminance Adjustment Blue : 0
Luminance Adjustment Purple : 0
Luminance Adjustment Magenta : 0
Split Toning Shadow Hue : 0
Split Toning Shadow Saturation : 0
Split Toning Highlight Hue : 0
Split Toning Highlight Saturation : 0
Split Toning Balance : 0
Parametric Shadows : 0
Parametric Darks : 0
Parametric Lights : 0
Parametric Highlights : 0
Parametric Shadow Split : 25
Parametric Midtone Split : 50
Parametric Highlight Split : 75
Sharpen Radius : +1.0
Sharpen Detail : 25
Sharpen Edge Masking : 0
Post Crop Vignette Amount : 0
Grain Amount : 0
Color Noise Reduction Detail : 50
Color Noise Reduction Smoothness : 50
Lens Profile Enable : 0
Lens Manual Distortion Amount : 0
Perspective Vertical : 0
Perspective Horizontal : 0
Perspective Rotate : -1.7
Perspective Scale : 100
Perspective Aspect : 0
Perspective Upright : Off
Perspective X : 0.00
Perspective Y : 0.00
Auto Lateral CA : 1
Exposure 2012 : +0.40
Contrast 2012 : +30
Highlights 2012 : -35
Shadows 2012 : +35
Whites 2012 : +1
Blacks 2012 : 0
Clarity 2012 : +15
Defringe Purple Amount : 5
Defringe Purple Hue Lo : 14
Defringe Purple Hue Hi : 52
Defringe Green Amount : 5
Defringe Green Hue Lo : 40
Defringe Green Hue Hi : 60
Dehaze : 0
Tone Map Strength : 0
Convert To Grayscale : False
Override Look Vignette : False
Tone Curve Name : Linear
Tone Curve Name 2012 : Linear
Camera Profile : Embedded
Lens Profile Setup : LensDefaults
Has Settings : True
Crop Top : 0.021738
Crop Left : 0.032282
Crop Bottom : 0.977708
Crop Right : 0.989292
Crop Angle : 0
Crop Constrain To Warp : 1
Has Crop : True
Already Applied : True
Tone Curve : 0, 0, 255, 255
Tone Curve Red : 0, 0, 255, 255
Tone Curve Green : 0, 0, 255, 255
Tone Curve Blue : 0, 0, 255, 255
Tone Curve PV2012 : 0, 0, 255, 255
Tone Curve PV2012 Red : 0, 0, 255, 255
Tone Curve PV2012 Green : 0, 0, 255, 255
Tone Curve PV2012 Blue : 0, 0, 255, 255
Look Name : Image Width : 250
Image Height : 167
Bits Per Sample : 8
Color Components : 3
Aperture : 5.0
Image Size : 250x167
Megapixels : 0.042
Scale Factor To 35 mm Equivalent : 1.0
Shutter Speed : 1/250
Circle Of Confusion : 0.030 mm
Depth Of Field : 8.07 m (2.47 - 10.54 m)
Field Of View : 60.3 deg
Focal Length : 31.0 mm (35 mm equivalent: 31.0 mm)
Hyperfocal Distance : 6.40 m
Light Value : 11.6
Lens ID : smc PENTAX-FA 31mm F1.8 AL Limited