Uber Exif Photo
Caption-Abstract : OLYMPUS DIGITAL CAMERA
By-line : Jordan Atkins
Copyright Notice : Jordan Atkins
Copyright Flag : False
Image Description : OLYMPUS DIGITAL CAMERA
Make : OLYMPUS IMAGING CORP.
Camera Model Name : E-M1
Orientation : Horizontal (normal)
Software : Adobe Photoshop CS3 Windows
Modify Date : 2016:11:07 00:46:29
Artist : Jordan Atkins
Copyright : Jordan Atkins
Exposure Time : 1/1250
F Number : 9.0
Exposure Program : Aperture-priority AE
ISO : 200
Sensitivity Type : Standard Output Sensitivity
Date/Time Original : 2016:10:15 13:23:56
Create Date : 2016:10:15 13:23:56
Shutter Speed Value : 1/1250
Aperture Value : 9.0
Exposure Compensation : -0.3
Max Aperture Value : 4.8
Metering Mode : Multi-segment
Light Source : Unknown
Focal Length : 300.0 mm
Color Space : sRGB
Exif Image Width : 600
Exif Image Height : 800
CFA Pattern : [Blue,Green][Green,Red]
Custom Rendered : Normal
Exposure Mode : Manual
White Balance : Auto
Digital Zoom Ratio : 1
Focal Length In 35mm Format : 601 mm
Scene Capture Type : Standard
Gain Control : Low gain up
Contrast : Normal
Saturation : Normal
Sharpness : Normal
Serial Number : BHP278033
Lens Info : 75-300mm f/4.8-6.7
Lens Model : OLYMPUS M.75-300mm F4.8-6.7 II
Lens Serial Number : 343047323
Profile Description : sRGB IEC61966-2.1
Format : image/jpeg
Creator Tool : Adobe Photoshop CS3 Windows
Lens : OLYMPUS M.75-300mm F4.8-6.7 II
Approximate Focus Distance : 4294967295
Flash Compensation : 0
Date Created : 2016:10:15
Color Mode : RGB
ICC Profile Name : sRGB IEC61966-2.1
Version : 8.7.1
Process Version : 6.7
Auto White Version : 134348800
Color Temperature : 5350
Tint : +9
Luminance Smoothing : 0
Color Noise Reduction : 25
Vignette Amount : 0
Shadow Tint : 0
Red Hue : 0
Red Saturation : 0
Green Hue : 0
Green Saturation : 0
Blue Hue : 0
Blue Saturation : 0
Vibrance : +25
Hue Adjustment Red : 0
Hue Adjustment Orange : 0
Hue Adjustment Yellow : 0
Hue Adjustment Green : 0
Hue Adjustment Aqua : 0
Hue Adjustment Blue : 0
Hue Adjustment Purple : 0
Hue Adjustment Magenta : 0
Saturation Adjustment Red : 0
Saturation Adjustment Orange : 0
Saturation Adjustment Yellow : 0
Saturation Adjustment Green : 0
Saturation Adjustment Aqua : 0
Saturation Adjustment Blue : 0
Saturation Adjustment Purple : 0
Saturation Adjustment Magenta : 0
Luminance Adjustment Red : 0
Luminance Adjustment Orange : 0
Luminance Adjustment Yellow : 0
Luminance Adjustment Green : 0
Luminance Adjustment Aqua : 0
Luminance Adjustment Blue : 0
Luminance Adjustment Purple : 0
Luminance Adjustment Magenta : 0
Split Toning Shadow Hue : 0
Split Toning Shadow Saturation : 0
Split Toning Highlight Hue : 0
Split Toning Highlight Saturation : 0
Split Toning Balance : 0
Parametric Shadows : 0
Parametric Darks : 0
Parametric Lights : 0
Parametric Highlights : 0
Parametric Shadow Split : 25
Parametric Midtone Split : 50
Parametric Highlight Split : 75
Sharpen Radius : +0.8
Sharpen Detail : 35
Sharpen Edge Masking : 0
Post Crop Vignette Amount : 0
Grain Amount : 0
Color Noise Reduction Detail : 50
Color Noise Reduction Smoothness : 50
Lens Profile Enable : 0
Lens Manual Distortion Amount : 0
Perspective Vertical : 0
Perspective Horizontal : 0
Perspective Rotate : 0.0
Perspective Scale : 100
Perspective Aspect : 0
Perspective Upright : Off
Auto Lateral CA : 0
Exposure 2012 : 0.00
Contrast 2012 : 0
Highlights 2012 : 0
Shadows 2012 : 0
Whites 2012 : 0
Blacks 2012 : 0
Clarity 2012 : +30
Defringe Purple Amount : 0
Defringe Purple Hue Lo : 30
Defringe Purple Hue Hi : 70
Defringe Green Amount : 0
Defringe Green Hue Lo : 40
Defringe Green Hue Hi : 60
Convert To Grayscale : False
Tone Curve Name : Linear
Tone Curve Name 2012 : Linear
Camera Profile : Adobe Standard
Lens Profile Setup : LensDefaults
Has Settings : True
Has Crop : False
Already Applied : True
Date/Time Digitized : 2016:10:15 13:23:56-07:00
Creator : Jordan Atkins
Rights : Jordan Atkins
Description : OLYMPUS DIGITAL CAMERA
Tone Curve : 0, 0, 255, 255
Tone Curve Red : 0, 0, 255, 255
Tone Curve Green : 0, 0, 255, 255
Tone Curve Blue : 0, 0, 255, 255
Tone Curve PV2012 : 0, 0, 255, 255
Tone Curve PV2012 Red : 0, 0, 255, 255
Tone Curve PV2012 Green : 0, 0, 255, 255
Tone Curve PV2012 Blue : 0, 0, 255, 255
Flash Fired : False
Flash Return : No return detection
Flash Mode : Auto
Flash Function : False
Flash Red Eye Mode : False
Image Width : 250
Image Height : 333
Bits Per Sample : 8
Color Components : 1
Aperture : 9.0
Image Size : 250x333
Megapixels : 0.083
Scale Factor To 35 mm Equivalent : 2.0
Shutter Speed : 1/1250
Flash : Auto, Did not fire
Circle Of Confusion : 0.015 mm
Depth Of Field : inf (666.75 m - inf)
Field Of View : 3.4 deg
Focal Length : 300.0 mm (35 mm equivalent: 601.0 mm)
Hyperfocal Distance : 666.75 m
Light Value : 15.6
Lens ID : OLYMPUS M.75-300mm F4.8-6.7 II