Uber Exif Photo
Object Name : Roots of a fallen giant redwood...
Make : Leica Camera AG
Camera Model Name : M9 Digital Camera
Software : Adobe Photoshop Lightroom 4.1 (Macintosh)
Modify Date : 2012:06:02 09:21:58
Exposure Time : 1/125
F Number : 5.7
Exposure Program : Aperture-priority AE
ISO : 160
Date/Time Original : 2012:05:27 11:37:55
Create Date : 2012:05:27 11:37:55
Shutter Speed Value : 1/125
Aperture Value : 5.7
Exposure Compensation : 0
Max Aperture Value : 2.0
Metering Mode : Center-weighted average
Light Source : Unknown
Flash : No Flash
Focal Length : 35.0 mm
Contrast : Normal
Sharpening : Normal
Saturation : Normal
White Balance : Auto
JPEG Quality : Fine
WB RGB Levels : 0.4743760496 1 0.753668522
User Profile : JPEG Size : 5216x3472
Firmware Version : 1.176
Base ISO : 160
Sensor Width : 5270
Sensor Height : 3516
Sensor Bit Depth : 14
Camera Temperature : 18 C
Lens Type : Summicron-M 35mm f/2 (IV)
Approximate F Number : 5.0
Measured LV : 3.99
External Sensor Brightness Value : 4.31
Color Space : Uncalibrated
Scene Type : Directly photographed
Exposure Mode : Manual
Digital Zoom Ratio : 0
Focal Length In 35mm Format : 35 mm
Scene Capture Type : Standard
Serial Number : 3811076
Lens Model : Leica Summicron-M 35mm f/2 (IV)
Maker Note Safety : Safe
Profile Description : sRGB IEC61966-2.1
Lens : Leica Summicron-M 35mm f/2 (IV)
Format : image/jpeg
Title : Roots of a fallen giant redwood...
Sharpness : Hard
Date Created : 2012:05:27 11:37:55
Creator Tool : Adobe Photoshop Lightroom 4.1 (Macintosh)
Already Applied : True
Blue Hue : 0
Blue Saturation : 0
Camera Profile : Adobe Standard
Color Noise Reduction : 25
Color Noise Reduction Detail : 50
Convert To Grayscale : True
Grain Amount : 0
Gray Mixer Aqua : -18
Gray Mixer Blue : +9
Gray Mixer Green : -26
Gray Mixer Magenta : +4
Gray Mixer Orange : -18
Gray Mixer Purple : +15
Gray Mixer Red : -9
Gray Mixer Yellow : -22
Green Hue : 0
Green Saturation : 0
Has Crop : False
Has Settings : True
Lens Manual Distortion Amount : 0
Lens Profile Enable : 0
Lens Profile Setup : LensDefaults
Luminance Smoothing : 0
Parametric Darks : -3
Parametric Highlight Split : 75
Parametric Highlights : 0
Parametric Lights : 0
Parametric Midtone Split : 50
Parametric Shadow Split : 25
Parametric Shadows : -14
Perspective Horizontal : 0
Perspective Rotate : 0.0
Perspective Scale : 100
Perspective Vertical : 0
Post Crop Vignette Amount : -15
Post Crop Vignette Feather : 50
Post Crop Vignette Midpoint : 50
Post Crop Vignette Roundness : 0
Post Crop Vignette Style : Highlight Priority
Process Version : 6.7
Red Hue : 0
Red Saturation : 0
Shadow Tint : +8
Sharpen Detail : 25
Sharpen Edge Masking : 0
Sharpen Radius : +1.0
Split Toning Balance : 0
Split Toning Highlight Hue : 0
Split Toning Highlight Saturation : 0
Split Toning Shadow Hue : 0
Split Toning Shadow Saturation : 0
Color Temperature : 12500
Tint : +35
Version : 7.1
Vignette Amount : 0
Image Width : 250
Image Height : 175
Bits Per Sample : 8
Color Components : 3
Aperture : 5.7
Blue Balance : 0.753669
Image Size : 250x175
Lens ID : Leica Summicron-M 35mm f/2 (IV)
Megapixels : 0.044
Red Balance : 0.474376
Scale Factor To 35 mm Equivalent : 1.0
Shutter Speed : 1/125
Circle Of Confusion : 0.030 mm
Field Of View : 54.4 deg
Focal Length : 35.0 mm (35 mm equivalent: 35.0 mm)
Hyperfocal Distance : 7.15 m
Light Value : 11.3