Uber Exif Photo
Make : Leica Camera AG
Camera Model Name : M8 Digital Camera
Software : 2.005
Modify Date : 2012:01:02 23:15:08
Exposure Time : 1/180
F Number : 1.7
Exposure Program : Manual
ISO : 1250
Date/Time Original : 2011:12:31 21:21:52
Create Date : 2011:12:31 21:21:52
Shutter Speed Value : 1/180
Aperture Value : 1.7
Exposure Compensation : 0
Max Aperture Value : 1.0
Metering Mode : Center-weighted average
Light Source : Unknown
Scene Type : Directly photographed
White Balance : Auto
Digital Zoom Ratio : 0
Scene Capture Type : Standard
Profile Description : sRGB IEC61966-2.1
Date/Time Digitized : 2011:12:31 21:21:52+01:00
Exif Image Width : 800
Exif Image Height : 538
Creator Tool : Adobe Photoshop Lightroom
Serial Number : 3331960
Version : 6.1
Process Version : 5.7
Color Temperature : 3250
Tint : +6
Exposure : +0.32
Shadows : 5
Brightness : +50
Contrast : +25
Sharpness : 48
Luminance Smoothing : 14
Color Noise Reduction : 100
Chromatic Aberration R : 0
Chromatic Aberration B : 0
Vignette Amount : -71
Vignette Midpoint : 39
Shadow Tint : 0
Red Hue : 0
Red Saturation : +1
Green Hue : +6
Green Saturation : -1
Blue Hue : +8
Blue Saturation : -47
Fill Light : 0
Highlight Recovery : 0
Clarity : 0
Defringe : 0
Gray Mixer Red : -9
Gray Mixer Orange : -19
Gray Mixer Yellow : -24
Gray Mixer Green : -28
Gray Mixer Aqua : -19
Gray Mixer Blue : +11
Gray Mixer Purple : +18
Gray Mixer Magenta : +6
Split Toning Shadow Hue : 0
Split Toning Shadow Saturation : 0
Split Toning Highlight Hue : 0
Split Toning Highlight Saturation : 0
Split Toning Balance : 0
Parametric Shadows : -28
Parametric Darks : +43
Parametric Lights : +94
Parametric Highlights : 0
Parametric Shadow Split : 25
Parametric Midtone Split : 50
Parametric Highlight Split : 75
Sharpen Radius : +0.8
Sharpen Detail : 25
Sharpen Edge Masking : 0
Post Crop Vignette Amount : 0
Grain Amount : 0
Luminance Noise Reduction Detail : 50
Color Noise Reduction Detail : 50
Luminance Noise Reduction Contrast : 0
Lens Profile Enable : 0
Lens Manual Distortion Amount : 0
Perspective Vertical : 0
Perspective Horizontal : 0
Perspective Rotate : 0.0
Perspective Scale : 100
Convert To Grayscale : True
Tone Curve Name : Medium Contrast
Camera Profile : Camera Standard
Lens Profile Setup : LensDefaults
Has Settings : True
Crop Top : 0.109231
Crop Left : 0.011525
Crop Bottom : 0.871809
Crop Right : 0.869146
Crop Angle : -3.04281
Crop Constrain To Warp : 0
Crop Width : 800
Crop Height : 538
Crop Unit : pixels
Has Crop : True
Already Applied : True
Flash Fired : False
Flash Return : No return detection
Flash Mode : On
Flash Function : False
Flash Red Eye Mode : False
Tone Curve : 0, 0, 32, 22, 64, 56, 128, 128, 192, 196, 255, 255
Paint Correction What : Correction
Paint Correction Amount : 1.000000
Paint Correction Active : true
Paint Correction Exposure : -0.171000
Paint Correction Saturation : 0.000000
Paint Correction Contrast : 0.000000
Paint Correction Clarity : 0.000000
Paint Correction Sharpness : 0.000000
Paint Correction Brightness : 0.000000
Paint Correction Toning Hue : 0.000000
Paint Correction Toning Saturation : 0.000000
Paint Correction Mask What : Mask/Paint
Paint Correction Mask Value : 1.000000
Paint Correction Mask Radius : 0.149562
Paint Correction Mask Flow : 1.000000
Paint Correction Mask Center Weight : 0.000000
Image Width : 250
Image Height : 168
Bits Per Sample : 8
Color Components : 1
Aperture : 1.7
Image Size : 250x168
Megapixels : 0.042
Scale Factor To 35 mm Equivalent : 6.6
Shutter Speed : 1/180
Flash : On, Did not fire
Circle Of Confusion : 0.005 mm
Light Value : 5.4