Uber Exif Photo
Software : Adobe Lightroom 7.1.2 (Macintosh)
Modify Date : 2024:02:11 11:50:46
Date/Time Original : 2024:02:11 11:48:02
Color Space : sRGB
Profile Description : sRGB IEC61966-2.1
Format : image/jpeg
Date Created : 2024:02:11 11:48:02
Raw File Name : img20240211_11480607.jpg
Version : 16.1
Process Version : 15.4
Shadows : 5
Brightness : +50
Contrast : +25
Exposure 2012 : -0.20
Contrast 2012 : +7
Highlights 2012 : 0
Shadows 2012 : +3
Whites 2012 : +9
Blacks 2012 : 0
Texture : 0
Clarity 2012 : 0
Dehaze : 0
Parametric Shadows : 0
Parametric Darks : 0
Parametric Lights : 0
Parametric Highlights : 0
Parametric Shadow Split : 25
Parametric Midtone Split : 50
Parametric Highlight Split : 75
Sharpness : 0
Luminance Smoothing : 0
Split Toning Shadow Hue : 0
Split Toning Shadow Saturation : 0
Split Toning Highlight Hue : 0
Split Toning Highlight Saturation : 0
Split Toning Balance : 0
Color Grade Midtone Hue : 0
Color Grade Midtone Sat : 0
Color Grade Shadow Lum : 0
Color Grade Midtone Lum : 0
Color Grade Highlight Lum : 0
Color Grade Blending : 50
Color Grade Global Hue : 0
Color Grade Global Sat : 0
Color Grade Global Lum : 0
Lens Profile Enable : 0
Lens Manual Distortion Amount : 0
Vignette Amount : 0
Perspective Upright : Off
Perspective Vertical : 0
Perspective Horizontal : 0
Perspective Rotate : 0.0
Perspective Aspect : 0
Perspective Scale : 100
Perspective X : 0.00
Perspective Y : 0.00
Grain Amount : 0
Post Crop Vignette Amount : 0
HDR Edit Mode : 0
Override Look Vignette : False
Tone Curve Name 2012 : Linear
Has Settings : True
Crop Top : 0.006429
Crop Left : 0
Crop Bottom : 0.995574
Crop Right : 1
Crop Angle : 0
Crop Constrain To Warp : 0
Has Crop : True
Already Applied : True
Creator Tool : Adobe Lightroom 7.1.2 (Macintosh)
Tone Curve PV2012 : 0, 0, 255, 255
Tone Curve PV2012 Red : 0, 0, 255, 255
Tone Curve PV2012 Green : 0, 0, 255, 255
Tone Curve PV2012 Blue : 0, 0, 255, 255
Point Colors : -1.000000, -1.000000, -1.000000, -1.000000, -1.000000, -1.000000, -1.000000, -1.000000, -1.000000, -1.000000, -1.000000, -1.000000, -1.000000, -1.000000, -1.000000, -1.000000, -1.000000, -1.000000, -1.000000
Image Width : 400
Image Height : 254
Bits Per Sample : 8
Color Components : 3
Image Size : 400x254
Megapixels : 0.102
Modify Date : 2024:02:11 11:50:46-07:00