Uber Exif Photo
Make : SONY
Camera Model Name : ILCE-7RM2
Software : Adobe Photoshop Lightroom Classic 13.2 (Macintosh)
Modify Date : 2024:04:28 10:15:27
Artist : Tom Stermitz
Copyright : © Tom Stermitz
Exposure Time : 1/200
F Number : 9.0
Exposure Program : Aperture-priority AE
ISO : 200
Sensitivity Type : Recommended Exposure Index
Recommended Exposure Index : 200
Date/Time Original : 2024:04:28 08:48:42
Create Date : 2024:04:28 08:48:42
Shutter Speed Value : 1/200
Aperture Value : 9.0
Brightness Value : 8.9546875
Exposure Compensation : 0
Max Aperture Value : 2.0
Metering Mode : Multi-segment
Light Source : Unknown
Flash : Off, Did not fire
Focal Length : 65.0 mm
Color Space : sRGB
Scene Type : Directly photographed
Custom Rendered : Normal
Exposure Mode : Auto
White Balance : Auto
Digital Zoom Ratio : 1
Focal Length In 35mm Format : 65 mm
Scene Capture Type : Standard
Contrast : Normal
Saturation : Normal
Sharpness : Normal
Lens Info : 65mm f/2
Lens Model : Voigtlander MACRO APO-LANTHAR 65mm F2 Aspherical
Keywords : Cottonwood, ELC, Rain, Spring, Tree
By-line : Tom Stermitz
Copyright Notice : © Tom Stermitz
Copyright Flag : True
URL : https://photokinesisi.info
Profile Description : sRGB IEC61966-2.1
Format : image/jpeg
Creator Tool : Adobe Photoshop Lightroom Classic 13.2 (Macintosh)
Rating : 5
Lens : Voigtlander MACRO APO-LANTHAR 65mm F2 Aspherical
Lens Distort Info : 1068811389/1073741824 9138325/1073741824 -3923272/1073741824 -315508/1073741824
Distortion Correction Already Applied : True
Vignette Correction Already Applied : True
Date Created : 2024:04:28 08:48:42
Preserved File Name : _DSC9318.ARW
Marked : True
Web Statement : https://photokinesisi.info
Pick : 0
Raw File Name : _DSC9318.ARW
Version : 16.2
Process Version : 15.4
Color Temperature : 4900
Tint : +6
Exposure 2012 : -0.10
Contrast 2012 : +6
Highlights 2012 : -73
Shadows 2012 : +25
Whites 2012 : +26
Blacks 2012 : -20
Texture : 0
Clarity 2012 : +13
Dehaze : 0
Vibrance : +15
Parametric Shadows : 0
Parametric Darks : +31
Parametric Lights : 0
Parametric Highlights : -19
Parametric Shadow Split : 25
Parametric Midtone Split : 50
Parametric Highlight Split : 75
Sharpen Radius : +1.0
Sharpen Detail : 25
Sharpen Edge Masking : 0
Luminance Smoothing : 0
Color Noise Reduction : 25
Color Noise Reduction Detail : 50
Color Noise Reduction Smoothness : 50
Gray Mixer Red : 0
Gray Mixer Orange : 0
Gray Mixer Yellow : +48
Gray Mixer Green : -77
Gray Mixer Aqua : 0
Gray Mixer Blue : 0
Gray Mixer Purple : 0
Gray Mixer Magenta : 0
Split Toning Shadow Hue : 0
Split Toning Shadow Saturation : 0
Split Toning Highlight Hue : 0
Split Toning Highlight Saturation : 0
Split Toning Balance : 0
Color Grade Midtone Hue : 0
Color Grade Midtone Sat : 0
Color Grade Shadow Lum : 0
Color Grade Midtone Lum : 0
Color Grade Highlight Lum : 0
Color Grade Blending : 50
Color Grade Global Hue : 0
Color Grade Global Sat : 0
Color Grade Global Lum : 0
Auto Lateral CA : 0
Lens Profile Enable : 1
Lens Manual Distortion Amount : 0
Vignette Amount : 0
Perspective Upright : Off
Perspective Vertical : 0
Perspective Horizontal : 0
Perspective Rotate : 0.0
Perspective Aspect : 0
Perspective Scale : 100
Perspective X : 0.00
Perspective Y : 0.00
Grain Amount : 0
Post Crop Vignette Amount : 0
Shadow Tint : 0
Red Hue : 0
Red Saturation : 0
Green Hue : 0
Green Saturation : 0
Blue Hue : 0
Blue Saturation : 0
HDR Edit Mode : 0
Override Look Vignette : False
Tone Curve Name 2012 : Linear
Camera Profile : Adobe Standard
Lens Profile Setup : LensDefaults
Lens Profile Name : Adobe (Voigtlander MACRO APO-LANTHAR 65mm F2 Aspherical)
Lens Profile Filename : SONY (Voigtlander MACRO APO-LANTHAR 65mm F2 Aspherical) - RAW.lcp
Lens Profile Is Embedded : False
Lens Profile Distortion Scale : 100
Lens Profile Vignetting Scale : 100
Has Settings : True
Crop Top : 0
Crop Left : 0.110664
Crop Bottom : 1
Crop Right : 1
Crop Angle : 0
Crop Constrain To Warp : 0
Has Crop : True
Already Applied : True
Creator : Tom Stermitz
Rights : © Tom Stermitz
Subject : Cottonwood, ELC, Rain, Spring, Tree
Usage Terms : All Rights Reserved
Creator Region : Colorado
Creator Country : USA
Creator City : Fort Collins
Weighted Flat Subject : ELC, Spring, Rain, Cottonwood, Tree
Hierarchical Subject : ELC, Rain, Spring, Tree|Cottonwood
Tone Curve PV2012 : 0, 0, 255, 255
Tone Curve PV2012 Red : 0, 0, 255, 255
Tone Curve PV2012 Green : 0, 0, 255, 255
Tone Curve PV2012 Blue : 0, 0, 255, 255
Point Colors : -1.000000, -1.000000, -1.000000, -1.000000, -1.000000, -1.000000, -1.000000, -1.000000, -1.000000, -1.000000, -1.000000, -1.000000, -1.000000, -1.000000, -1.000000, -1.000000, -1.000000, -1.000000, -1.000000
Look Name : Adobe Monochrome
Look Amount : 1
Look Supports Amount : false
Look Supports Monochrome : false
Look Supports Output Referred : false
Look Group : Profiles
Look Parameters Version : 16.2
Look Parameters Process Version : 15.4
Look Parameters Clarity 2012 : +8
Look Parameters Convert To Grayscale : True
Look Parameters Camera Profile : Adobe Standard
Look Parameters Look Table : 73ED6C18DDE909DD7EA2D771F5AC282D
Look Parameters Tone Curve PV2012 : 0, 0, 64, 56, 128, 128, 192, 197, 255, 255
Look Parameters Tone Curve PV2012 Red : 0, 0, 255, 255
Look Parameters Tone Curve PV2012 Green : 0, 0, 255, 255
Look Parameters Tone Curve PV2012 Blue : 0, 0, 255, 255
Image Width : 300
Image Height : 400
Bits Per Sample : 8
Color Components : 3
Aperture : 9.0
Image Size : 300x400
Megapixels : 0.120
Scale Factor To 35 mm Equivalent : 1.0
Shutter Speed : 1/200
Modify Date : 2024:04:28 10:15:27-06:00
Circle Of Confusion : 0.030 mm
Field Of View : 31.0 deg
Focal Length : 65.0 mm (35 mm equivalent: 65.0 mm)
Hyperfocal Distance : 15.62 m
Light Value : 13.0
Lens ID : Voigtlander MACRO APO-LANTHAR 65mm F2 Aspherical