Uber Exif Photo
Make : Canon
Camera Model Name : Canon PowerShot S95
Software : Adobe Photoshop Lightroom Classic 13.1 (Macintosh)
Modify Date : 2024:02:05 09:36:45
Artist : Tom Stermitz; Photokinesis.us
Copyright : @ Copyright Tom Stermitz, 2014
Exposure Time : 1/30
F Number : 3.2
ISO : 100
Sensitivity Type : Standard Output Sensitivity and Recommended Exposure Index
Date/Time Original : 2014:05:05 01:26:11
Create Date : 2014:05:05 01:26:11
Shutter Speed Value : 1/30
Aperture Value : 3.2
Exposure Compensation : 0
Max Aperture Value : 2.0
Metering Mode : Multi-segment
Flash : Off, Did not fire
Focal Length : 6.0 mm
Color Space : sRGB
Sensing Method : One-chip color area
Custom Rendered : Normal
Exposure Mode : Auto
White Balance : Auto
Digital Zoom Ratio : 1
Scene Capture Type : Standard
Lens Info : 6-22.5mm f/?
Lens Model : 6.0-22.5 mm
GPS Version ID : 2.2.0.0
GPS Latitude Ref : North
GPS Longitude Ref : West
Object Name : Abe Lincoln
Keywords : Amy Beaudet, BW, FAMILY, Isabel Stermitz-Beaudet, United States, Washington DC
By-line : Tom Stermitz, Photokinesis.us
Sub-location : Northwest Washington
Province-State : District of Columbia
Country-Primary Location Code : US
Country-Primary Location Name : United States
Copyright Notice : @ Copyright Tom Stermitz, 2014
Copyright Flag : True
Profile Description : sRGB IEC61966-2.1
Rating : 5
Label : Blue
Creator Tool : Adobe Photoshop Lightroom Classic 13.1 (Macintosh)
Lens : 6.0-22.5 mm
Approximate Focus Distance : 0.31
Flash Compensation : 0
Firmware : 1.00
Date Created : 2014:05:05 01:26:11
City : Washington
State : District of Columbia
Country : United States
Format : image/jpeg
Marked : True
Location : Northwest Washington
Country Code : US
Raw File Name : IMG_2910.JPG
Version : 16.1
Process Version : 6.7
Incremental Temperature : -6
Incremental Tint : -7
Exposure 2012 : 0.00
Contrast 2012 : 0
Highlights 2012 : 0
Shadows 2012 : 0
Whites 2012 : +51
Blacks 2012 : -18
Texture : 0
Clarity 2012 : 0
Dehaze : 0
Parametric Shadows : 0
Parametric Darks : 0
Parametric Lights : 0
Parametric Highlights : 0
Parametric Shadow Split : 25
Parametric Midtone Split : 50
Parametric Highlight Split : 75
Sharpness : 0
Luminance Smoothing : 0
Color Noise Reduction : 0
Gray Mixer Red : -9
Gray Mixer Orange : -18
Gray Mixer Yellow : -22
Gray Mixer Green : -26
Gray Mixer Aqua : -18
Gray Mixer Blue : +10
Gray Mixer Purple : +15
Gray Mixer Magenta : +4
Split Toning Shadow Hue : 0
Split Toning Shadow Saturation : 0
Split Toning Highlight Hue : 0
Split Toning Highlight Saturation : 0
Split Toning Balance : 0
Color Grade Midtone Hue : 0
Color Grade Midtone Sat : 0
Color Grade Shadow Lum : 0
Color Grade Midtone Lum : 0
Color Grade Highlight Lum : 0
Color Grade Blending : 50
Color Grade Global Hue : 0
Color Grade Global Sat : 0
Color Grade Global Lum : 0
Auto Lateral CA : 0
Lens Profile Enable : 0
Lens Manual Distortion Amount : 0
Vignette Amount : 0
Perspective Upright : Off
Perspective Vertical : 0
Perspective Horizontal : 0
Perspective Rotate : 0.0
Perspective Aspect : 0
Perspective Scale : 100
Perspective X : 0.00
Perspective Y : 0.00
Grain Amount : 9
Grain Size : 25
Grain Frequency : 50
Post Crop Vignette Amount : -17
Post Crop Vignette Midpoint : 50
Post Crop Vignette Feather : 50
Post Crop Vignette Roundness : 0
Post Crop Vignette Style : Highlight Priority
Post Crop Vignette Highlight Contrast : 0
Shadow Tint : 0
Red Hue : 0
Red Saturation : 0
Green Hue : 0
Green Saturation : 0
Blue Hue : 0
Blue Saturation : 0
HDR Edit Mode : 0
Convert To Grayscale : True
Override Look Vignette : False
Tone Curve Name 2012 : Linear
Camera Profile : Embedded
Has Settings : True
Crop Top : 0.097026
Crop Left : 0
Crop Bottom : 0.869753
Crop Right : 1
Crop Angle : 0
Crop Constrain To Warp : 0
Has Crop : True
Already Applied : True
Creator : Tom Stermitz, Photokinesis.us
Title : Abe Lincoln
Rights : @ Copyright Tom Stermitz, 2014
Subject : Amy Beaudet, BW, FAMILY, Isabel Stermitz-Beaudet, United States, Washington DC
Usage Terms : All rights reserved, no reproduction without prior permission
Creator Postal Code : 80525
Creator Region : Colorado
Creator Country : USA
Creator Work Email : [email protected]
Creator Work URL : www.photokinesis.info
Weighted Flat Subject : Washington DC, United States, Isabel Stermitz-Beaudet, FAMILY, Amy Beaudet, BW
Hierarchical Subject : BW, FAMILY|Amy Beaudet, FAMILY|Isabel Stermitz-Beaudet, United States|Washington DC
Region Applied To Dimensions W : 2114
Region Applied To Dimensions H : 2736
Region Applied To Dimensions Unit : pixel
Region Rotation : 1.41202
Region Type : Face
Region Area H : 0.50950
Region Area W : 0.65935
Region Area X : 0.55679
Region Area Y : 0.73070
Tone Curve PV2012 : 0, 0, 255, 255
Tone Curve PV2012 Red : 0, 0, 255, 255
Tone Curve PV2012 Green : 0, 0, 255, 255
Tone Curve PV2012 Blue : 0, 0, 255, 255
Point Colors : -1.000000, -1.000000, -1.000000, -1.000000, -1.000000, -1.000000, -1.000000, -1.000000, -1.000000, -1.000000, -1.000000, -1.000000, -1.000000, -1.000000, -1.000000, -1.000000, -1.000000, -1.000000, -1.000000
Image Width : 309
Image Height : 400
Bits Per Sample : 8
Color Components : 3
Aperture : 3.2
Image Size : 309x400
Megapixels : 0.124
Scale Factor To 35 mm Equivalent : 4.7
Shutter Speed : 1/30
Modify Date : 2024:02:05 09:36:45-07:00
GPS Latitude : 38 deg 54' 38.90" N
GPS Longitude : 77 deg 2' 12.55" W
Circle Of Confusion : 0.006 mm
Depth Of Field : 0.11 m (0.26 - 0.38 m)
Field Of View : 65.5 deg
Focal Length : 6.0 mm (35 mm equivalent: 28.0 mm)
GPS Position : 38 deg 54' 38.90" N, 77 deg 2' 12.55" W
Hyperfocal Distance : 1.75 m
Light Value : 8.3
Lens ID : 6.0-22.5mm