Uber Exif Photo
Photometric Interpretation : RGB
Image Description : EPSON DSC Picture
Make : SEIKO EPSON CORP.
Camera Model Name : R-D1s
Orientation : Horizontal (normal)
Samples Per Pixel : 3
Planar Configuration : Chunky
Software : Adobe Photoshop Elements 9.0 Macintosh
Modify Date : 2011:12:11 18:18:50
Exposure Time : 1/80
Exposure Program : Aperture-priority AE
ISO : 400
Date/Time Original : 2008:08:30 18:16:40
Create Date : 2008:08:30 18:16:40
Shutter Speed Value : 1/80
Exposure Compensation : +1.3
Metering Mode : Center-weighted average
Light Source : Unknown
Color Space : Uncalibrated
Exif Image Width : 1000
Exif Image Height : 665
Scene Type : Directly photographed
Custom Rendered : Normal
Exposure Mode : Auto
White Balance : Auto
Scene Capture Type : Standard
Gain Control : None
Caption-Abstract : EPSON DSC Picture
Copyright Flag : False
Date/Time Digitized : 2008:08:30 18:16:40-07:00
Creator Tool : Adobe Photoshop CS3 Windows
Rating : 0
Format : image/jpeg
Raw File Name : _EPS2495.ERF
Version : 4.5
Color Temperature : 4550
Tint : 0
Exposure : +0.35
Shadows : 5
Brightness : +50
Contrast : +64
Saturation : +15
Sharpness : 25
Luminance Smoothing : 0
Color Noise Reduction : 25
Chromatic Aberration R : 0
Chromatic Aberration B : 0
Vignette Amount : 0
Shadow Tint : 0
Red Hue : 0
Red Saturation : 0
Green Hue : 0
Green Saturation : 0
Blue Hue : 0
Blue Saturation : 0
Fill Light : 17
Vibrance : +33
Highlight Recovery : 68
Clarity : +68
Defringe : 0
Hue Adjustment Red : 0
Hue Adjustment Orange : 0
Hue Adjustment Yellow : 0
Hue Adjustment Green : 0
Hue Adjustment Aqua : 0
Hue Adjustment Blue : 0
Hue Adjustment Purple : 0
Hue Adjustment Magenta : 0
Saturation Adjustment Red : 0
Saturation Adjustment Orange : 0
Saturation Adjustment Yellow : 0
Saturation Adjustment Green : 0
Saturation Adjustment Aqua : 0
Saturation Adjustment Blue : 0
Saturation Adjustment Purple : 0
Saturation Adjustment Magenta : 0
Luminance Adjustment Red : 0
Luminance Adjustment Orange : 0
Luminance Adjustment Yellow : 0
Luminance Adjustment Green : 0
Luminance Adjustment Aqua : 0
Luminance Adjustment Blue : 0
Luminance Adjustment Purple : 0
Luminance Adjustment Magenta : 0
Split Toning Shadow Hue : 0
Split Toning Shadow Saturation : 0
Split Toning Highlight Hue : 0
Split Toning Highlight Saturation : 0
Split Toning Balance : 0
Parametric Shadows : 0
Parametric Darks : 0
Parametric Lights : 0
Parametric Highlights : 0
Parametric Shadow Split : 25
Parametric Midtone Split : 50
Parametric Highlight Split : 75
Sharpen Radius : +1.0
Sharpen Detail : 25
Sharpen Edge Masking : 0
Post Crop Vignette Amount : 0
Convert To Grayscale : False
Tone Curve Name : Medium Contrast
Camera Profile : ACR 4.4
Has Settings : True
Has Crop : False
Already Applied : True
Sidecar For Extension : ERF
Color Mode : RGB
ICC Profile Name : Adobe RGB (1998)
Marked : False
Flash Fired : False
Flash Return : No return detection
Flash Mode : Unknown
Flash Function : True
Flash Red Eye Mode : False
Description : EPSON DSC Picture
Tone Curve : 0, 0, 32, 22, 64, 56, 128, 128, 192, 196, 255, 255
Profile Description : Adobe RGB (1998)
Image Width : 400
Image Height : 266
Bits Per Sample : 8
Color Components : 3
Image Size : 400x266
Megapixels : 0.106
Shutter Speed : 1/80
Flash : No flash function