Uber Exif Photo
Software : Adobe Photoshop Lightroom Classic 11.1 (Macintosh)
Modify Date : 2022:01:11 12:20:25
Color Space : sRGB
Profile Description : sRGB IEC61966-2.1
Preserved File Name : 186_ 20200216 012.jpg
Format : image/jpeg
Version : 14.1
Process Version : 11.0
Exposure 2012 : +0.25
Contrast 2012 : 0
Highlights 2012 : +14
Shadows 2012 : -17
Whites 2012 : +19
Blacks 2012 : -21
Texture : 0
Clarity 2012 : 0
Dehaze : 0
Parametric Shadows : 0
Parametric Darks : 0
Parametric Lights : 0
Parametric Highlights : 0
Parametric Shadow Split : 25
Parametric Midtone Split : 50
Parametric Highlight Split : 75
Sharpness : 0
Luminance Smoothing : 0
Split Toning Shadow Hue : 0
Split Toning Shadow Saturation : 0
Split Toning Highlight Hue : 0
Split Toning Highlight Saturation : 0
Split Toning Balance : 0
Color Grade Midtone Hue : 0
Color Grade Midtone Sat : 0
Color Grade Shadow Lum : 0
Color Grade Midtone Lum : 0
Color Grade Highlight Lum : 0
Color Grade Blending : 50
Color Grade Global Hue : 0
Color Grade Global Sat : 0
Color Grade Global Lum : 0
Lens Profile Enable : 0
Lens Manual Distortion Amount : 0
Vignette Amount : 0
Perspective Upright : Off
Perspective Vertical : 0
Perspective Horizontal : 0
Perspective Rotate : 0.0
Perspective Aspect : 0
Perspective Scale : 100
Perspective X : 0.00
Perspective Y : 0.00
Grain Amount : 0
Post Crop Vignette Amount : 0
Override Look Vignette : False
Tone Curve Name 2012 : Linear
Has Settings : True
Already Applied : True
Creator Tool : Adobe Photoshop Lightroom Classic 11.1 (Macintosh)
Tone Curve PV2012 : 0, 0, 255, 255
Tone Curve PV2012 Red : 0, 0, 255, 255
Tone Curve PV2012 Green : 0, 0, 255, 255
Tone Curve PV2012 Blue : 0, 0, 255, 255
Image Width : 400
Image Height : 289
Bits Per Sample : 8
Color Components : 1
Image Size : 400x289
Megapixels : 0.116
Modify Date : 2022:01:11 12:20:25-08:00