Uber Exif Photo
Make : PENTAX RICOH IMAGING
Camera Model Name : GR
Orientation : Horizontal (normal)
Software : Adobe Photoshop Elements 12.0 Macintosh
Modify Date : 2021:12:10 20:30:30
Exposure Time : 1/40
F Number : 4.0
Exposure Program : Aperture-priority AE
ISO : 200
Date/Time Original : 2021:11:17 11:19:31
Create Date : 2021:11:17 11:19:31
Shutter Speed Value : 1/40
Aperture Value : 4.0
Brightness Value : 2.3
Exposure Compensation : -1
Max Aperture Value : 2.8
Metering Mode : Spot
Light Source : Unknown
Flash : Off, Did not fire
Focal Length : 18.3 mm
Color Space : sRGB
Exif Image Width : 2976
Exif Image Height : 4708
Exposure Mode : Auto
White Balance : Auto
Focal Length In 35mm Format : 28 mm
Scene Capture Type : Standard
Sharpness : Normal
Lens Info : 18.3mm f/2.8
Lens Model : 18.3 mm f/2.8
Profile Description : sRGB IEC61966-2.1
Lens : 18.3 mm f/2.8
Rating : 0
Creator Tool : Adobe Photoshop Elements 12.0 Macintosh
Date Created : 2021:11:17 11:19:31
Color Mode : RGB
ICC Profile Name : sRGB IEC61966-2.1
Format : image/jpeg
Photographic Sensitivity : 200
Raw File Name : _R009188.DNG
Version : 8.0
Process Version : 6.7
Color Temperature : 2650
Tint : -7
Saturation : 0
Luminance Smoothing : 0
Color Noise Reduction : 0
Vignette Amount : 0
Shadow Tint : 0
Red Hue : 0
Red Saturation : 0
Green Hue : 0
Green Saturation : 0
Blue Hue : 0
Blue Saturation : 0
Vibrance : 0
Hue Adjustment Red : 0
Hue Adjustment Orange : 0
Hue Adjustment Yellow : 0
Hue Adjustment Green : 0
Hue Adjustment Aqua : 0
Hue Adjustment Blue : 0
Hue Adjustment Purple : 0
Hue Adjustment Magenta : 0
Saturation Adjustment Red : 0
Saturation Adjustment Orange : 0
Saturation Adjustment Yellow : 0
Saturation Adjustment Green : 0
Saturation Adjustment Aqua : 0
Saturation Adjustment Blue : 0
Saturation Adjustment Purple : 0
Saturation Adjustment Magenta : 0
Luminance Adjustment Red : 0
Luminance Adjustment Orange : 0
Luminance Adjustment Yellow : 0
Luminance Adjustment Green : 0
Luminance Adjustment Aqua : 0
Luminance Adjustment Blue : 0
Luminance Adjustment Purple : 0
Luminance Adjustment Magenta : 0
Split Toning Shadow Hue : 0
Split Toning Shadow Saturation : 0
Split Toning Highlight Hue : 0
Split Toning Highlight Saturation : 0
Split Toning Balance : 0
Parametric Shadows : 0
Parametric Darks : 0
Parametric Lights : 0
Parametric Highlights : 0
Parametric Shadow Split : 25
Parametric Midtone Split : 50
Parametric Highlight Split : 75
Sharpen Radius : +1.0
Sharpen Detail : 25
Sharpen Edge Masking : 0
Post Crop Vignette Amount : 0
Grain Amount : 0
Lens Profile Enable : 0
Lens Manual Distortion Amount : 0
Perspective Vertical : 0
Perspective Horizontal : 0
Perspective Rotate : 0.0
Perspective Scale : 100
Perspective Aspect : 0
Perspective Upright : Off
Auto Lateral CA : 0
Exposure 2012 : +1.35
Contrast 2012 : -2
Highlights 2012 : -28
Shadows 2012 : 0
Whites 2012 : +23
Blacks 2012 : -17
Clarity 2012 : 0
Defringe Purple Amount : 0
Defringe Purple Hue Lo : 30
Defringe Purple Hue Hi : 70
Defringe Green Amount : 0
Defringe Green Hue Lo : 40
Defringe Green Hue Hi : 60
Convert To Grayscale : False
Tone Curve Name 2012 : Linear
Camera Profile : Embedded
Lens Profile Setup : LensDefaults
Has Settings : True
Has Crop : False
Already Applied : True
Tone Curve PV2012 : 0, 0, 255, 255
Tone Curve PV2012 Red : 0, 0, 255, 255
Tone Curve PV2012 Green : 0, 0, 255, 255
Tone Curve PV2012 Blue : 0, 0, 255, 255
Image Width : 400
Image Height : 633
Bits Per Sample : 8
Color Components : 3
Aperture : 4.0
Image Size : 400x633
Megapixels : 0.253
Scale Factor To 35 mm Equivalent : 1.5
Shutter Speed : 1/40
Circle Of Confusion : 0.020 mm
Field Of View : 65.5 deg
Focal Length : 18.3 mm (35 mm equivalent: 28.0 mm)
Hyperfocal Distance : 4.26 m
Light Value : 8.3
Lens ID : 18.3mm f/2.8