Uber Exif Photo
Make : Leica
Camera Model Name : Leica Standard (1938)
Software : Adobe Photoshop Lightroom Classic 11.2 (Windows)
Modify Date : 2022:02:25 18:08:37
Color Space : sRGB
XP Keywords : Georgia;Night Photography;Ilford HP5+;ISO 3200;Leica Standard (1938);Voigtlander Color Skopar 21mm f/4;Developed in HC-110
Profile Description : sRGB IEC61966-2.1
Lens Manufacturer : Viogtlander
Preserved File Name : Leica Standard Voigt017.jpg
Format : image/jpeg
Creator Tool : Adobe Photoshop Lightroom Classic 11.2 (Windows)
Raw File Name : Version : 14.2
Process Version : 11.0
Exposure 2012 : +0.09
Contrast 2012 : 0
Highlights 2012 : 0
Shadows 2012 : +42
Whites 2012 : +33
Blacks 2012 : -21
Texture : 0
Clarity 2012 : +25
Dehaze : 0
Parametric Shadows : 0
Parametric Darks : 0
Parametric Lights : 0
Parametric Highlights : 0
Parametric Shadow Split : 25
Parametric Midtone Split : 50
Parametric Highlight Split : 75
Sharpness : 0
Luminance Smoothing : 0
Split Toning Shadow Hue : 0
Split Toning Shadow Saturation : 0
Split Toning Highlight Hue : 0
Split Toning Highlight Saturation : 0
Split Toning Balance : 0
Color Grade Midtone Hue : 0
Color Grade Midtone Sat : 0
Color Grade Shadow Lum : 0
Color Grade Midtone Lum : 0
Color Grade Highlight Lum : 0
Color Grade Blending : 50
Color Grade Global Hue : 0
Color Grade Global Sat : 0
Color Grade Global Lum : 0
Lens Profile Enable : 0
Lens Manual Distortion Amount : 0
Vignette Amount : 0
Perspective Upright : Off
Perspective Vertical : 0
Perspective Horizontal : 0
Perspective Rotate : 0.0
Perspective Aspect : 0
Perspective Scale : 100
Perspective X : 0.00
Perspective Y : 0.00
Grain Amount : 0
Post Crop Vignette Amount : 0
Override Look Vignette : False
Tone Curve Name 2012 : Linear
Has Settings : True
Crop Top : 0.070747
Crop Left : 0.216577
Crop Bottom : 0.958181
Crop Right : 0.983325
Crop Angle : -0.712303
Crop Constrain To Warp : 0
Has Crop : True
Already Applied : True
Tone Curve PV2012 : 0, 0, 255, 255
Tone Curve PV2012 Red : 0, 0, 255, 255
Tone Curve PV2012 Green : 0, 0, 255, 255
Tone Curve PV2012 Blue : 0, 0, 255, 255
Subject : Georgia, McDonough, GA, Night Photography, Ilford HP5+, ISO 3200, Leica Standard (1938), Voigtlander Color Skopar 21mm f/4, Developed in HC-110
Last Keyword XMP : Georgia, McDonough, GA, Night Photography, Ilford HP5+, ISO 3200, Leica Standard (1938), Voigtlander Color Skopar 21mm f/4, Developed in HC-110
Lens Model : Color Skopar 21mm f/4
Image Width : 400
Image Height : 275
Bits Per Sample : 8
Color Components : 1
Image Size : 400x275
Megapixels : 0.110
Modify Date : 2022:02:25 18:08:37-05:00
Lens ID : Color Skopar 21mm f/4