Uber Exif Photo
By-line : Will Gunadi
Copyright Notice : Zuikography
Copyright Flag : True
Make : Nikon
Camera Model Name : Nikon COOLSCAN V ED
Orientation : Horizontal (normal)
Software : Adobe Photoshop CS3 Macintosh
Modify Date : 2008:10:30 14:55:43
Artist : Will Gunadi
Copyright : Zuikography
Color Space : Uncalibrated
Exif Image Width : 1024
Exif Image Height : 667
Creator Tool : Adobe Photoshop CS3 Macintosh
Create Date : 2008:10:30 14:51:14-05:00
Marked : True
Version : 4.5
White Balance : As Shot
Incremental Temperature : 0
Incremental Tint : 0
Exposure : 0.00
Shadows : 0
Brightness : 0
Contrast : 0
Sharpness : 0
Luminance Smoothing : 0
Color Noise Reduction : 0
Chromatic Aberration R : 0
Chromatic Aberration B : 0
Vignette Amount : 0
Shadow Tint : 0
Red Hue : 0
Red Saturation : 0
Green Hue : 0
Green Saturation : 0
Blue Hue : 0
Blue Saturation : 0
Fill Light : 0
Highlight Recovery : 0
Clarity : 0
Defringe : 0
Gray Mixer Red : +64
Gray Mixer Orange : +43
Gray Mixer Yellow : 0
Gray Mixer Green : -27
Gray Mixer Aqua : -20
Gray Mixer Blue : +8
Gray Mixer Purple : +17
Gray Mixer Magenta : +7
Split Toning Shadow Hue : 0
Split Toning Shadow Saturation : 0
Split Toning Highlight Hue : 0
Split Toning Highlight Saturation : 0
Split Toning Balance : 0
Parametric Shadows : 0
Parametric Darks : 0
Parametric Lights : +60
Parametric Highlights : -55
Parametric Shadow Split : 25
Parametric Midtone Split : 50
Parametric Highlight Split : 75
Sharpen Radius : +1.0
Sharpen Detail : 25
Sharpen Edge Masking : 0
Post Crop Vignette Amount : 0
Convert To Grayscale : True
Tone Curve Name : Linear
Camera Profile : Embedded
Has Settings : True
Has Crop : False
Already Applied : True
Color Mode : RGB
Tone Curve : 0, 0, 255, 255
Creator : Will Gunadi
Rights : Zuikography
Creator City : Dallas
Creator Region : TX
Creator Country : United States
Image Width : 250
Image Height : 163
Bits Per Sample : 8
Color Components : 1
Image Size : 250x163
Megapixels : 0.041