Uber Exif Photo
Make : NORITSU KOKI
Camera Model Name : EZ Controller
Orientation : Horizontal (normal)
Software : Adobe Photoshop Lightroom Classic 8.2.1 (Windows)
Modify Date : 2019:06:17 13:13:25
Color Space : sRGB
Exif Image Width : 1000
Exif Image Height : 663
Red Saturation : 0
Hue Adjustment Magenta : 0
Green Saturation : 0
Perspective Vertical : 0
Highlights 2012 : 0
Dehaze : 0
Saturation Adjustment Red : 0
Lens Profile Enable : 0
Saturation Adjustment Purple : 0
Version : 11.2.1
Vignette Amount : 0
Camera Profile : Embedded
Split Toning Highlight Saturation : 0
Luminance Adjustment Aqua : 0
Defringe Green Hue Hi : 60
Luminance Adjustment Green : 0
Defringe Purple Amount : 0
Override Look Vignette : False
Hue Adjustment Purple : 0
Lens Manual Distortion Amount : 0
Saturation Adjustment Aqua : 0
Convert To Grayscale : False
Green Hue : 0
Blue Hue : 0
Saturation Adjustment Magenta : 0
Parametric Shadow Split : 25
Shadows 2012 : 0
Tone Curve Name : Linear
Perspective Horizontal : 0
Hue Adjustment Yellow : 0
Incremental Temperature : 0
Perspective Aspect : 0
Process Version : 11.0
Exposure 2012 : +0.25
Perspective Upright : Off
Parametric Darks : 0
Split Toning Balance : 0
Clarity 2012 : 0
Luminance Adjustment Yellow : 0
Saturation Adjustment Green : 0
Already Applied : True
Luminance Adjustment Purple : 0
Hue Adjustment Aqua : 0
Defringe Purple Hue Lo : 30
Tone Curve Name 2012 : Linear
Perspective Scale : 100
Post Crop Vignette Amount : 0
Auto Lateral CA : 0
Split Toning Shadow Hue : 0
Split Toning Shadow Saturation : 0
Luminance Adjustment Blue : 0
Defringe Green Hue Lo : 40
Sharpen Edge Masking : 0
Blue Saturation : 0
Incremental Tint : 0
Luminance Smoothing : 0
White Balance : As Shot
Whites 2012 : +20
Parametric Highlight Split : 75
Lens Profile Setup : LensDefaults
Parametric Highlights : 0
Has Crop : False
Shadow Tint : 0
Hue Adjustment Orange : 0
Perspective Rotate : 0.0
Luminance Adjustment Red : 0
Sharpness : 0
Parametric Midtone Split : 50
Color Noise Reduction : 0
Vibrance : 0
Split Toning Highlight Hue : 0
Luminance Adjustment Magenta : 0
Hue Adjustment Blue : 0
Grain Amount : 0
Saturation Adjustment Blue : 0
Red Hue : 0
Saturation Adjustment Yellow : 0
Tone Map Strength : 0
Perspective Y : 0.00
Perspective X : 0.00
Saturation : 0
Defringe Purple Hue Hi : 70
Blacks 2012 : -16
Hue Adjustment Red : 0
Contrast 2012 : 0
Luminance Adjustment Orange : 0
Sharpen Radius : +1.0
Sharpen Detail : 25
Defringe Green Amount : 0
Parametric Shadows : 0
Has Settings : True
Parametric Lights : 0
Saturation Adjustment Orange : 0
Hue Adjustment Green : 0
Creator Tool : Adobe Photoshop Lightroom Classic 8.2.1 (Windows)
Format : image/jpeg
Look Name : Tone Curve Red : 0, 0, 255, 255
Tone Curve Blue : 0, 0, 255, 255
Tone Curve PV2012 : 0, 0, 255, 255
Tone Curve PV2012 Red : 0, 0, 255, 255
Tone Curve Green : 0, 0, 255, 255
Tone Curve PV2012 Green : 0, 0, 255, 255
Tone Curve : 0, 0, 255, 255
Tone Curve PV2012 Blue : 0, 0, 255, 255
Image Width : 250
Image Height : 166
Bits Per Sample : 8
Color Components : 3
Image Size : 250x166
Megapixels : 0.042