Uber Exif Photo
Make : Leica Camera AG
Camera Model Name : LEICA M-D (Typ 262)
Software : Adobe Photoshop Lightroom Classic 10.3 (Macintosh)
Modify Date : 2021:07:05 23:58:18
Exposure Time : 1/1500
F Number : 8.0
Exposure Program : Aperture-priority AE
ISO : 400
Date/Time Original : 2020:08:25 20:51:04
Create Date : 2020:08:25 20:51:04
Shutter Speed Value : 1/1500
Aperture Value : 8.0
Exposure Compensation : 0
Max Aperture Value : 2.0
Metering Mode : Center-weighted average
Light Source : Unknown
Flash : No Flash
Focal Length : 50.0 mm
Color Space : Uncalibrated
Scene Type : Directly photographed
Custom Rendered : Normal
Exposure Mode : Auto
White Balance : Auto
Digital Zoom Ratio : 0
Scene Capture Type : Standard
Contrast : Normal
Saturation : Normal
Sharpness : Normal
Serial Number : 5150456
Lens Info : 50mm f/2-16
Lens Make : Leica Camera AG
Lens Model : Apo-Summicron-M 1:2/50 ASPH.
Lens Serial Number : -------
Orientation : Horizontal (normal)
Profile Description : Adobe RGB (1998)
Creator Tool : Adobe Photoshop Lightroom Classic 10.3 (Macintosh)
Lens : Apo-Summicron-M 1:2/50 ASPH.
Lateral Chromatic Aberration Correction Already Applied : True
Date Created : 2020:08:25 20:51:04
Preserved File Name : 200901-076.DNG
Format : image/tiff
Raw File Name : Version : 13.3
Process Version : 11.0
Color Temperature : 4000
Tint : -6
Exposure 2012 : 0.00
Contrast 2012 : +30
Highlights 2012 : -35
Shadows 2012 : +35
Whites 2012 : 0
Blacks 2012 : 0
Texture : +10
Clarity 2012 : +15
Dehaze : 0
Vibrance : +25
Parametric Shadows : 0
Parametric Darks : 0
Parametric Lights : 0
Parametric Highlights : 0
Parametric Shadow Split : 25
Parametric Midtone Split : 50
Parametric Highlight Split : 75
Sharpen Radius : +1.0
Sharpen Detail : 25
Sharpen Edge Masking : 0
Luminance Smoothing : 0
Color Noise Reduction : 25
Color Noise Reduction Detail : 50
Color Noise Reduction Smoothness : 50
Hue Adjustment Red : 0
Hue Adjustment Orange : 0
Hue Adjustment Yellow : 0
Hue Adjustment Green : +5
Hue Adjustment Aqua : 0
Hue Adjustment Blue : 0
Hue Adjustment Purple : 0
Hue Adjustment Magenta : 0
Saturation Adjustment Red : 0
Saturation Adjustment Orange : 0
Saturation Adjustment Yellow : 0
Saturation Adjustment Green : 0
Saturation Adjustment Aqua : 0
Saturation Adjustment Blue : 0
Saturation Adjustment Purple : 0
Saturation Adjustment Magenta : 0
Luminance Adjustment Red : 0
Luminance Adjustment Orange : 0
Luminance Adjustment Yellow : 0
Luminance Adjustment Green : +10
Luminance Adjustment Aqua : 0
Luminance Adjustment Blue : 0
Luminance Adjustment Purple : 0
Luminance Adjustment Magenta : 0
Split Toning Shadow Hue : 0
Split Toning Shadow Saturation : 0
Split Toning Highlight Hue : 0
Split Toning Highlight Saturation : 0
Split Toning Balance : 0
Color Grade Midtone Hue : 0
Color Grade Midtone Sat : 0
Color Grade Shadow Lum : 0
Color Grade Midtone Lum : 0
Color Grade Highlight Lum : 0
Color Grade Blending : 50
Color Grade Global Hue : 0
Color Grade Global Sat : 0
Color Grade Global Lum : 0
Auto Lateral CA : 1
Lens Profile Enable : 0
Lens Manual Distortion Amount : 0
Vignette Amount : 0
Defringe Purple Amount : 0
Defringe Purple Hue Lo : 14
Defringe Purple Hue Hi : 52
Defringe Green Amount : 0
Defringe Green Hue Lo : 40
Defringe Green Hue Hi : 60
Perspective Upright : Off
Perspective Vertical : +5
Perspective Horizontal : 0
Perspective Rotate : +2.4
Perspective Aspect : 0
Perspective Scale : 100
Perspective X : 0.00
Perspective Y : 0.00
Grain Amount : 0
Post Crop Vignette Amount : 0
Shadow Tint : 0
Red Hue : 0
Red Saturation : 0
Green Hue : 0
Green Saturation : 0
Blue Hue : 0
Blue Saturation : 0
Override Look Vignette : False
Tone Curve Name 2012 : Linear
Camera Profile : Adobe Standard
Has Settings : True
Crop Top : 0.036508
Crop Left : 0.034329
Crop Bottom : 0.965076
Crop Right : 0.962897
Crop Angle : 0
Crop Constrain To Warp : 1
Has Crop : True
Already Applied : True
Tone Curve PV2012 : 0, 0, 255, 255
Tone Curve PV2012 Red : 0, 0, 255, 255
Tone Curve PV2012 Green : 0, 0, 255, 255
Tone Curve PV2012 Blue : 0, 0, 255, 255
Look Name : Adobe Color
Look Amount : 1.000000
Look Supports Amount : false
Look Supports Monochrome : false
Look Supports Output Referred : false
Look Group : Profiles
Look Parameters Version : 13.3
Look Parameters Process Version : 11.0
Look Parameters Convert To Grayscale : False
Look Parameters Camera Profile : Adobe Standard
Look Parameters Look Table : E1095149FDB39D7A057BAB208837E2E1
Look Parameters Tone Curve PV2012 : 0, 0, 22, 16, 40, 35, 127, 127, 224, 230, 240, 246, 255, 255
Look Parameters Tone Curve PV2012 Red : 0, 0, 255, 255
Look Parameters Tone Curve PV2012 Green : 0, 0, 255, 255
Look Parameters Tone Curve PV2012 Blue : 0, 0, 255, 255
Image Width : 250
Image Height : 167
Bits Per Sample : 8
Color Components : 3
Aperture : 8.0
Image Size : 250x167
Megapixels : 0.042
Scale Factor To 35 mm Equivalent : 23.8
Shutter Speed : 1/1500
Modify Date : 2021:07:05 23:58:18-07:00
Circle Of Confusion : 0.001 mm
Field Of View : 1.7 deg
Focal Length : 50.0 mm (35 mm equivalent: 1189.7 mm)
Hyperfocal Distance : 247.47 m
Light Value : 14.6
Lens ID : Apo-Summicron-M 1:2/50 ASPH.