Uber Exif Photo
By-line : DOUG MILES
Copyright Notice : DOUG MILES
Make : RICOH IMAGING COMPANY, LTD.
Camera Model Name : PENTAX K-1
Software : Adobe Photoshop Lightroom Classic 7.4 (Macintosh)
Modify Date : 2018:09:28 00:08:55
Artist : DOUG MILES
Exposure Time : 1/320
F Number : 6.3
Exposure Program : Program AE
ISO : 200
Sensitivity Type : Standard Output Sensitivity
Standard Output Sensitivity : 200
Date/Time Original : 2018:03:01 09:28:36
Create Date : 2018:03:01 09:28:36
Shutter Speed Value : 1/320
Aperture Value : 6.3
Exposure Compensation : 0
Metering Mode : Multi-segment
Flash : Off, Did not fire
Focal Length : 31.0 mm
Color Space : Uncalibrated
Sensing Method : One-chip color area
Custom Rendered : Normal
Exposure Mode : Auto
White Balance : Auto
Focal Length In 35mm Format : 31 mm
Scene Capture Type : Standard
Contrast : High
Saturation : Normal
Sharpness : Hard
Subject Distance Range : Distant
Lens Info : 31mm f/1.8
Lens Model : smc PENTAX-FA 31mm F1.8AL Limited
Orientation : Horizontal (normal)
Profile Description : Adobe RGB (1998)
Format : image/tiff
Creator : DOUG MILES
Rights : DOUG MILES
Creator Tool : Adobe Photoshop Lightroom Classic 7.4 (Macintosh)
Rating : 1
Lens : smc PENTAX-FA 31mm F1.8AL Limited
Approximate Focus Distance : 4
Lateral Chromatic Aberration Correction Already Applied : True
Date Created : 2018:03:01 09:28:36
Raw File Name : Version : 10.4
Process Version : 10.0
Color Temperature : 5400
Tint : 0
Luminance Smoothing : 0
Color Noise Reduction : 25
Vignette Amount : 0
Shadow Tint : 0
Red Hue : 0
Red Saturation : 0
Green Hue : 0
Green Saturation : 0
Blue Hue : 0
Blue Saturation : 0
Vibrance : +25
Hue Adjustment Red : 0
Hue Adjustment Orange : 0
Hue Adjustment Yellow : 0
Hue Adjustment Green : +5
Hue Adjustment Aqua : 0
Hue Adjustment Blue : 0
Hue Adjustment Purple : 0
Hue Adjustment Magenta : 0
Saturation Adjustment Red : 0
Saturation Adjustment Orange : 0
Saturation Adjustment Yellow : 0
Saturation Adjustment Green : 0
Saturation Adjustment Aqua : 0
Saturation Adjustment Blue : 0
Saturation Adjustment Purple : 0
Saturation Adjustment Magenta : 0
Luminance Adjustment Red : 0
Luminance Adjustment Orange : 0
Luminance Adjustment Yellow : 0
Luminance Adjustment Green : +10
Luminance Adjustment Aqua : 0
Luminance Adjustment Blue : 0
Luminance Adjustment Purple : 0
Luminance Adjustment Magenta : 0
Split Toning Shadow Hue : 0
Split Toning Shadow Saturation : 0
Split Toning Highlight Hue : 0
Split Toning Highlight Saturation : 0
Split Toning Balance : 0
Parametric Shadows : 0
Parametric Darks : 0
Parametric Lights : 0
Parametric Highlights : 0
Parametric Shadow Split : 25
Parametric Midtone Split : 50
Parametric Highlight Split : 75
Sharpen Radius : +1.0
Sharpen Detail : 25
Sharpen Edge Masking : 0
Post Crop Vignette Amount : 0
Grain Amount : 0
Color Noise Reduction Detail : 50
Color Noise Reduction Smoothness : 50
Lens Profile Enable : 0
Lens Manual Distortion Amount : 0
Perspective Vertical : 0
Perspective Horizontal : 0
Perspective Rotate : -3.6
Perspective Scale : 100
Perspective Aspect : 0
Perspective Upright : Off
Perspective X : 0.00
Perspective Y : 0.00
Auto Lateral CA : 1
Exposure 2012 : +1.40
Contrast 2012 : +35
Highlights 2012 : -35
Shadows 2012 : +35
Whites 2012 : +1
Blacks 2012 : -22
Clarity 2012 : +15
Defringe Purple Amount : 5
Defringe Purple Hue Lo : 14
Defringe Purple Hue Hi : 52
Defringe Green Amount : 5
Defringe Green Hue Lo : 40
Defringe Green Hue Hi : 60
Dehaze : 0
Tone Map Strength : 0
Convert To Grayscale : False
Override Look Vignette : False
Tone Curve Name : Linear
Tone Curve Name 2012 : Linear
Camera Profile : Embedded
Lens Profile Setup : LensDefaults
Has Settings : True
Crop Top : 0.039924
Crop Left : 0.066007
Crop Bottom : 0.955582
Crop Right : 0.981665
Crop Angle : 0
Crop Constrain To Warp : 1
Has Crop : True
Already Applied : True
Tone Curve : 0, 0, 255, 255
Tone Curve Red : 0, 0, 255, 255
Tone Curve Green : 0, 0, 255, 255
Tone Curve Blue : 0, 0, 255, 255
Tone Curve PV2012 : 0, 0, 255, 255
Tone Curve PV2012 Red : 0, 0, 255, 255
Tone Curve PV2012 Green : 0, 0, 255, 255
Tone Curve PV2012 Blue : 0, 0, 255, 255
Paint Correction What : Correction
Paint Correction Amount : 1.000000
Paint Correction Active : true
Paint Correction Saturation : 0.060000
Paint Correction Sharpness : 0.000000
Paint Correction Brightness : 0.000000
Paint Correction Toning Hue : 0.000000
Paint Correction Toning Saturation : 0.000000
Paint Correction Exposure 2012 : -0.050842
Paint Correction Contrast 2012 : 0.060000
Paint Correction Highlights 2012 : 0.000000
Paint Correction Shadows 2012 : 0.000000
Paint Correction Whites 2012 : 0.000000
Paint Correction Blacks 2012 : 0.000000
Paint Correction Clarity 2012 : 0.000000
Paint Correction Dehaze : 0.000000
Paint Correction Luminance Noise : 0.000000
Paint Correction Moire : 0.000000
Paint Correction Defringe : 0.000000
Paint Correction Temperature : 0.000000
Paint Correction Tint : 0.000000
Paint Correction Mask What : Mask/Paint
Paint Correction Mask Value : 1.000000
Paint Correction Mask Radius : 0.405932
Paint Correction Mask Flow : 1.000000
Paint Correction Mask Center Weight : 0.000000
Paint Correction Range Mask Version : +2
Paint Correction Range Mask Type : 0
Paint Correction Range Mask Color Amount : 0.500000
Paint Correction Range Mask Lum Min : 0.000000
Paint Correction Range Mask Lum Max : 1.000000
Paint Correction Range Mask Lum Feather : 0.500000
Look Name : Image Width : 250
Image Height : 374
Bits Per Sample : 8
Color Components : 3
Aperture : 6.3
Image Size : 250x374
Megapixels : 0.093
Scale Factor To 35 mm Equivalent : 1.0
Shutter Speed : 1/320
Circle Of Confusion : 0.030 mm
Depth Of Field : 16.09 m (2.24 - 18.33 m)
Field Of View : 60.3 deg
Focal Length : 31.0 mm (35 mm equivalent: 31.0 mm)
Hyperfocal Distance : 5.08 m
Light Value : 12.6
Lens ID : smc PENTAX-FA 31mm F1.8 AL Limited