Uber Exif Photo
Caption-Abstract : mde
Image Description : mde
Make : HUAWEI
Camera Model Name : PRA-LX1
Orientation : Horizontal (normal)
Software : Adobe Photoshop CC 2019 (Windows)
Modify Date : 2021:02:05 00:47:05
Exposure Time : 1/14
F Number : 2.2
Exposure Program : Program AE
ISO : 3200
Date/Time Original : 2021:02:01 17:01:59
Create Date : 2021:02:01 17:01:59
Shutter Speed Value : 1/14
Aperture Value : 2.2
Brightness Value : 0
Exposure Compensation : 0
Metering Mode : Multi-segment
Light Source : Daylight
Flash : No Flash
Focal Length : 3.8 mm
Color Space : Uncalibrated
Exif Image Width : 650
Exif Image Height : 909
Sensing Method : One-chip color area
Scene Type : Directly photographed
Custom Rendered : Custom
Exposure Mode : Auto
White Balance : Auto
Digital Zoom Ratio : 1
Focal Length In 35mm Format : 26 mm
Scene Capture Type : Standard
Gain Control : None
Contrast : Normal
Saturation : Normal
Sharpness : Normal
Subject Distance Range : Unknown
Profile Description : Adobe RGB (1998)
Format : image/jpeg
Creator Tool : PRA-LX1 8.0.0.390(C02)
Rating : 0
Date Created : 2021:02:01 17:01:58.840177344
Color Mode : RGB
ICC Profile Name : Adobe RGB (1998)
Photographic Sensitivity : 3200
Version : 12.4
Process Version : 11.0
Incremental Temperature : -7
Incremental Tint : 0
Luminance Smoothing : 0
Color Noise Reduction : 0
Vignette Amount : 0
Shadow Tint : 0
Red Hue : 0
Red Saturation : 0
Green Hue : 0
Green Saturation : 0
Blue Hue : 0
Blue Saturation : 0
Vibrance : +42
Hue Adjustment Red : 0
Hue Adjustment Orange : 0
Hue Adjustment Yellow : 0
Hue Adjustment Green : 0
Hue Adjustment Aqua : 0
Hue Adjustment Blue : 0
Hue Adjustment Purple : 0
Hue Adjustment Magenta : 0
Saturation Adjustment Red : 0
Saturation Adjustment Orange : 0
Saturation Adjustment Yellow : 0
Saturation Adjustment Green : 0
Saturation Adjustment Aqua : 0
Saturation Adjustment Blue : 0
Saturation Adjustment Purple : 0
Saturation Adjustment Magenta : 0
Luminance Adjustment Red : 0
Luminance Adjustment Orange : 0
Luminance Adjustment Yellow : 0
Luminance Adjustment Green : 0
Luminance Adjustment Aqua : 0
Luminance Adjustment Blue : 0
Luminance Adjustment Purple : 0
Luminance Adjustment Magenta : 0
Split Toning Shadow Hue : 0
Split Toning Shadow Saturation : 0
Split Toning Highlight Hue : 0
Split Toning Highlight Saturation : 0
Split Toning Balance : 0
Parametric Shadows : 0
Parametric Darks : 0
Parametric Lights : 0
Parametric Highlights : 0
Parametric Shadow Split : 25
Parametric Midtone Split : 50
Parametric Highlight Split : 75
Sharpen Radius : +1.0
Sharpen Detail : 25
Sharpen Edge Masking : 0
Post Crop Vignette Amount : 0
Grain Amount : 0
Lens Profile Enable : 0
Lens Manual Distortion Amount : 0
Perspective Vertical : 0
Perspective Horizontal : 0
Perspective Rotate : 0.0
Perspective Scale : 100
Perspective Aspect : 0
Perspective Upright : Off
Perspective X : 0.00
Perspective Y : 0.00
Auto Lateral CA : 0
Exposure 2012 : 0.00
Contrast 2012 : +39
Highlights 2012 : 0
Shadows 2012 : +38
Whites 2012 : 0
Blacks 2012 : 0
Clarity 2012 : +29
Defringe Purple Amount : 0
Defringe Purple Hue Lo : 30
Defringe Purple Hue Hi : 70
Defringe Green Amount : 0
Defringe Green Hue Lo : 40
Defringe Green Hue Hi : 60
Dehaze : 0
Texture : 0
Tone Map Strength : 0
Convert To Grayscale : False
Override Look Vignette : False
Tone Curve Name : Linear
Tone Curve Name 2012 : Linear
Camera Profile : Embedded
Lens Profile Setup : LensDefaults
Has Settings : True
Crop Top : 0.071429
Crop Left : 0.055755
Crop Bottom : 1
Crop Right : 0.940647
Crop Angle : 0
Crop Constrain To Warp : 0
Has Crop : True
Already Applied : True
Description : mde
Tone Curve : 0, 0, 255, 255
Tone Curve Red : 0, 0, 255, 255
Tone Curve Green : 0, 0, 255, 255
Tone Curve Blue : 0, 0, 255, 255
Tone Curve PV2012 : 0, 0, 255, 255
Tone Curve PV2012 Red : 0, 0, 255, 255
Tone Curve PV2012 Green : 0, 0, 255, 255
Tone Curve PV2012 Blue : 0, 0, 255, 255
Image Width : 250
Image Height : 350
Bits Per Sample : 8
Color Components : 3
Aperture : 2.2
Image Size : 250x350
Megapixels : 0.087
Scale Factor To 35 mm Equivalent : 6.8
Shutter Speed : 1/14
Create Date : 2021:02:01 17:01:59.154459
Date/Time Original : 2021:02:01 17:01:59.154459
Modify Date : 2021:02:05 00:47:05.154459
Circle Of Confusion : 0.004 mm
Field Of View : 69.4 deg
Focal Length : 3.8 mm (35 mm equivalent: 26.0 mm)
Hyperfocal Distance : 1.51 m
Light Value : 1.1