Uber Exif Photo
Make : EPSON
Camera Model Name : Perfection V700/V750
Software : Adobe Photoshop Lightroom 5.0 (Windows)
Modify Date : 2022:08:30 11:34:35
Creator Tool : Adobe Photoshop Lightroom 5.0 (Windows)
Format : image/jpeg
Version : 8.1
Process Version : 6.7
White Balance : Auto
Incremental Temperature : +8
Incremental Tint : -3
Sharpness : 0
Luminance Smoothing : 0
Color Noise Reduction : 0
Vignette Amount : 0
Shadow Tint : 0
Red Hue : 0
Red Saturation : 0
Green Hue : 0
Green Saturation : 0
Blue Hue : 0
Blue Saturation : 0
Gray Mixer Red : -8
Gray Mixer Orange : -16
Gray Mixer Yellow : -20
Gray Mixer Green : -25
Gray Mixer Aqua : -19
Gray Mixer Blue : +7
Gray Mixer Purple : +14
Gray Mixer Magenta : +4
Split Toning Shadow Hue : 0
Split Toning Shadow Saturation : 0
Split Toning Highlight Hue : 0
Split Toning Highlight Saturation : 0
Split Toning Balance : 0
Parametric Shadows : 0
Parametric Darks : 0
Parametric Lights : 0
Parametric Highlights : 0
Parametric Shadow Split : 25
Parametric Midtone Split : 50
Parametric Highlight Split : 75
Sharpen Radius : +1.0
Sharpen Detail : 25
Sharpen Edge Masking : 0
Post Crop Vignette Amount : 0
Grain Amount : 0
Lens Profile Enable : 0
Lens Manual Distortion Amount : 0
Perspective Vertical : 0
Perspective Horizontal : 0
Perspective Rotate : 0.0
Perspective Scale : 100
Perspective Aspect : 0
Perspective Upright : Off
Auto Lateral CA : 0
Exposure 2012 : +0.36
Contrast 2012 : +33
Highlights 2012 : +33
Shadows 2012 : -33
Whites 2012 : 0
Blacks 2012 : 0
Clarity 2012 : +10
Convert To Grayscale : True
Tone Curve Name 2012 : Linear
Camera Profile : Embedded
Lens Profile Setup : LensDefaults
Has Settings : True
Crop Top : 0.065756
Crop Left : 0.008338
Crop Bottom : 0.934078
Crop Right : 0.994303
Crop Angle : -3.61417
Crop Constrain To Warp : 0
Has Crop : True
Already Applied : True
Tone Curve PV2012 : 0, 0, 255, 255
Tone Curve PV2012 Red : 0, 0, 255, 255
Tone Curve PV2012 Green : 0, 0, 255, 255
Tone Curve PV2012 Blue : 0, 0, 255, 255
Gradient Based Corr What : Correction
Gradient Based Corr Amount : 1.000000
Gradient Based Corr Active : true
Gradient Based Corr Saturation : 0.000000
Gradient Based Corr Sharpness : 0.000000
Gradient Based Corr Brightness : 0.000000
Gradient Based Corr Toning Hue : 0.000000
Gradient Based Corr Toning Saturation : 0.000000
Gradient Based Corr Exposure 2012 : -0.119000
Gradient Based Corr Contrast 2012 : 0.000000
Gradient Based Corr Highlights 2012 : 0.000000
Gradient Based Corr Shadows 2012 : 0.000000
Gradient Based Corr Clarity 2012 : 0.000000
Gradient Based Corr Luminance Noise : 0.000000
Gradient Based Corr Moire : 0.000000
Gradient Based Corr Defringe : 0.000000
Gradient Based Corr Temperature : 0.000000
Gradient Based Corr Tint : 0.000000
Gradient Based Corr Mask What : Mask/Gradient
Gradient Based Corr Mask Value : 1.000000
Gradient Based Corr Mask Zero X : 0.498720
Gradient Based Corr Mask Zero Y : 0.400403
Gradient Based Corr Mask Full X : 0.476633
Gradient Based Corr Mask Full Y : 0.031246
Image Width : 400
Image Height : 400
Bits Per Sample : 8
Color Components : 3
Image Size : 400x400
Megapixels : 0.160