Uber Exif Photo
By-line : Frank Petronio
By-line Title : photographer
Keywords : Frank Petronio, Petronio, www.frankpetronio.com
Copyright Notice : © 2020 Frank Petronio
Copyright Flag : True
Photometric Interpretation : RGB
Make : NORITSU KOKI
Camera Model Name : EZ Controller
Orientation : Horizontal (normal)
Software : Adobe Photoshop 21.1 (Macintosh)
Modify Date : 2020:03:25 22:46:30
Artist : Frank Petronio
Copyright : © 2020 Frank Petronio
Create Date : 2020:02:13 12:06:40
Color Space : sRGB
Exif Image Width : 1067
Exif Image Height : 1600
Profile Description : sRGB IEC61966-2.1
Creator Tool : Adobe Photoshop CS3 Windows
Rating : 1
Format : image/jpeg
Authors Position : photographer
Credit : copyright 2020 Frank Petronio
Color Mode : RGB
ICC Profile Name : sRGB IEC61966-2.1
Marked : True
Version : 12.2
Process Version : 11.0
White Balance : Custom
Incremental Temperature : -3
Incremental Tint : -3
Sharpness : 0
Luminance Smoothing : 0
Color Noise Reduction : 0
Vignette Amount : 0
Shadow Tint : 0
Red Hue : 0
Red Saturation : 0
Green Hue : 0
Green Saturation : 0
Blue Hue : 0
Blue Saturation : 0
Gray Mixer Red : -10
Gray Mixer Orange : -10
Gray Mixer Yellow : -8
Gray Mixer Green : -14
Gray Mixer Aqua : -8
Gray Mixer Blue : +11
Gray Mixer Purple : +3
Gray Mixer Magenta : +3
Split Toning Shadow Hue : 0
Split Toning Shadow Saturation : 0
Split Toning Highlight Hue : 0
Split Toning Highlight Saturation : 0
Split Toning Balance : 0
Parametric Shadows : +4
Parametric Darks : +44
Parametric Lights : -56
Parametric Highlights : +94
Parametric Shadow Split : 25
Parametric Midtone Split : 50
Parametric Highlight Split : 75
Sharpen Radius : +1.0
Sharpen Detail : 25
Sharpen Edge Masking : 0
Post Crop Vignette Amount : 0
Grain Amount : 0
Lens Profile Enable : 1
Lens Manual Distortion Amount : 0
Perspective Vertical : 0
Perspective Horizontal : 0
Perspective Rotate : 0.0
Perspective Scale : 100
Perspective Aspect : 0
Perspective Upright : Off
Perspective X : 0.00
Perspective Y : 0.00
Auto Lateral CA : 1
Exposure 2012 : -1.45
Contrast 2012 : +100
Highlights 2012 : -85
Shadows 2012 : +77
Whites 2012 : +37
Blacks 2012 : +37
Clarity 2012 : -5
Dehaze : -2
Texture : +12
Tone Map Strength : 0
Convert To Grayscale : True
Override Look Vignette : False
Tone Curve Name : Linear
Tone Curve Name 2012 : Linear
Camera Profile : Embedded
Lens Profile Setup : Auto
Has Settings : True
Crop Top : 0.029561
Crop Left : 0.069606
Crop Bottom : 0.815697
Crop Right : 0.778085
Crop Angle : 2.832103
Crop Constrain To Warp : 0
Crop Width : 2
Crop Height : 3
Crop Unit : Unknown (3)
Has Crop : True
Already Applied : True
Lateral Chromatic Aberration Correction Already Applied : True
Subject : Frank Petronio, Petronio, www.frankpetronio.com
Creator : Frank Petronio
Rights : © 2020 Frank Petronio
Usage Terms : All Rights Reserved
Tone Curve : 0, 0, 255, 255
Tone Curve Red : 0, 0, 255, 255
Tone Curve Green : 0, 0, 255, 255
Tone Curve Blue : 0, 0, 255, 255
Tone Curve PV2012 : 0, 0, 255, 255
Tone Curve PV2012 Red : 0, 0, 255, 255
Tone Curve PV2012 Green : 0, 0, 255, 255
Tone Curve PV2012 Blue : 0, 0, 255, 255
Creator Address : 1 Skidmore Drive
Creator City : Spencerport
Creator Region : NY
Creator Postal Code : 14559
Creator Country : USA
Creator Work Telephone : 01 585 259 0189
Creator Work Email : [email protected]
Creator Work URL : http://frankpetronio.com
Image Width : 250
Image Height : 375
Bits Per Sample : 8
Color Components : 1
Image Size : 250x375
Megapixels : 0.094