Uber Exif Photo
Keywords : Louisiana, USA, USS Kidd, baton rouge, places, structures
By-line : Russ Norwood - Perceptivist.com
Copyright Notice : Russ Norwood
Make : FUJIFILM
Camera Model Name : X100F
Software : Adobe Photoshop Lightroom 6.12 (Windows)
Modify Date : 2017:09:16 14:53:58
Artist : Russ Norwood - Perceptivist.com
Copyright : Russ Norwood
Exposure Time : 1/125
F Number : 5.6
Exposure Program : Aperture-priority AE
ISO : 640
Sensitivity Type : Standard Output Sensitivity
Date/Time Original : 2017:03:17 11:00:03
Create Date : 2017:03:17 11:00:03
Shutter Speed Value : 1/125
Aperture Value : 5.6
Brightness Value : 5.42
Exposure Compensation : 0
Max Aperture Value : 2.0
Metering Mode : Multi-segment
Light Source : Unknown
Flash : No Flash
Focal Length : 23.0 mm
Color Space : sRGB
Sensing Method : One-chip color area
Scene Type : Directly photographed
Custom Rendered : Normal
Exposure Mode : Auto
White Balance : Auto
Scene Capture Type : Standard
Sharpness : Normal
Subject Distance Range : Unknown
Serial Number : 71A51509
Profile Description : sRGB IEC61966-2.1
Format : image/jpeg
Creator Tool : Adobe Photoshop Lightroom 6.12 (Windows)
Lateral Chromatic Aberration Correction Already Applied : True
Vignette Correction Already Applied : True
Date Created : 2017:03:17 11:00:03
Version : 9.12
Process Version : 6.7
Auto White Version : 134348800
Color Temperature : 5929
Tint : +19
Luminance Smoothing : 0
Color Noise Reduction : 25
Vignette Amount : 0
Shadow Tint : 0
Red Hue : 0
Red Saturation : 0
Green Hue : 0
Green Saturation : 0
Blue Hue : 0
Blue Saturation : 0
Gray Mixer Red : -10
Gray Mixer Orange : -19
Gray Mixer Yellow : -23
Gray Mixer Green : -27
Gray Mixer Aqua : -18
Gray Mixer Blue : +9
Gray Mixer Purple : +15
Gray Mixer Magenta : +4
Split Toning Shadow Hue : 0
Split Toning Shadow Saturation : 0
Split Toning Highlight Hue : 0
Split Toning Highlight Saturation : 0
Split Toning Balance : 0
Parametric Shadows : 0
Parametric Darks : 0
Parametric Lights : 0
Parametric Highlights : 0
Parametric Shadow Split : 25
Parametric Midtone Split : 50
Parametric Highlight Split : 75
Sharpen Radius : +1.0
Sharpen Detail : 25
Sharpen Edge Masking : 0
Post Crop Vignette Amount : 0
Grain Amount : 0
Color Noise Reduction Detail : 50
Color Noise Reduction Smoothness : 50
Lens Profile Enable : 0
Lens Manual Distortion Amount : 0
Perspective Vertical : 0
Perspective Horizontal : 0
Perspective Rotate : 0.0
Perspective Scale : 100
Perspective Aspect : 0
Perspective Upright : Off
Perspective X : 0.00
Perspective Y : 0.00
Auto Lateral CA : 1
Exposure 2012 : 0.00
Contrast 2012 : 0
Highlights 2012 : +7
Shadows 2012 : +38
Whites 2012 : +17
Blacks 2012 : -43
Clarity 2012 : 0
Dehaze : 0
Tone Map Strength : 0
Convert To Grayscale : True
Tone Curve Name : Linear
Tone Curve Name 2012 : Linear
Camera Profile : Camera PROVIA/STANDARD
Lens Profile Setup : LensDefaults
Has Settings : True
Has Crop : False
Already Applied : True
Creator : Russ Norwood - Perceptivist.com
Rights : Russ Norwood
Subject : Louisiana, USA, USS Kidd, baton rouge, places, structures
Tone Curve : 0, 0, 255, 255
Tone Curve Red : 0, 0, 255, 255
Tone Curve Green : 0, 0, 255, 255
Tone Curve Blue : 0, 0, 255, 255
Tone Curve PV2012 : 0, 0, 255, 255
Tone Curve PV2012 Red : 0, 0, 255, 255
Tone Curve PV2012 Green : 0, 0, 255, 255
Tone Curve PV2012 Blue : 0, 0, 255, 255
Image Width : 250
Image Height : 167
Bits Per Sample : 8
Color Components : 1
Aperture : 5.6
Image Size : 250x167
Megapixels : 0.042
Scale Factor To 35 mm Equivalent : 36.7
Shutter Speed : 1/125
Circle Of Confusion : 0.001 mm
Field Of View : 2.4 deg
Focal Length : 23.0 mm (35 mm equivalent: 845.1 mm)
Hyperfocal Distance : 115.52 m
Light Value : 9.3