Uber Exif Photo
Make : Panasonic
Camera Model Name : DMC-GM5
Software : Adobe Photoshop Lightroom Classic 10.3 (Windows)
Modify Date : 2021:06:18 09:54:30
Exposure Time : 1/13
F Number : 8.0
Exposure Program : Aperture-priority AE
ISO : 200
Date/Time Original : 2016:04:04 20:03:02
Create Date : 2016:04:04 20:03:02
Shutter Speed Value : 1/13
Aperture Value : 8.0
Exposure Compensation : +0.66
Max Aperture Value : 5.6
Metering Mode : Multi-segment
Light Source : Unknown
Flash : Off, Did not fire
Focal Length : 32.0 mm
Color Space : sRGB
Sensing Method : One-chip color area
Scene Type : Directly photographed
Custom Rendered : Normal
Exposure Mode : Auto
White Balance : Manual
Digital Zoom Ratio : 0
Focal Length In 35mm Format : 64 mm
Scene Capture Type : Standard
Gain Control : Low gain up
Contrast : Normal
Saturation : Normal
Sharpness : Normal
Serial Number : X041502050058
Lens Model : LUMIX G VARIO 12-32/F3.5-5.6
Lens Serial Number : 05AX2243439B
Profile Description : sRGB IEC61966-2.1
Lens : LUMIX G VARIO 12-32/F3.5-5.6
Distortion Correction Already Applied : True
Lateral Chromatic Aberration Correction Already Applied : True
Creator Tool : Adobe Photoshop Lightroom Classic 10.3 (Windows)
Date Created : 2016:04:04 20:03:02.297
Preserved File Name : _1000004.RW2
Format : image/jpeg
Raw File Name : _1000004.RW2
Version : 13.3
Process Version : 11.0
Color Temperature : 4500
Tint : +20
Exposure 2012 : +0.09
Contrast 2012 : 0
Highlights 2012 : -12
Shadows 2012 : +23
Whites 2012 : 0
Blacks 2012 : 0
Texture : 0
Clarity 2012 : 0
Dehaze : 0
Vibrance : 0
Parametric Shadows : 0
Parametric Darks : 0
Parametric Lights : 0
Parametric Highlights : 0
Parametric Shadow Split : 25
Parametric Midtone Split : 50
Parametric Highlight Split : 75
Sharpen Radius : +1.0
Sharpen Detail : 25
Sharpen Edge Masking : 0
Luminance Smoothing : 0
Color Noise Reduction : 0
Hue Adjustment Red : 0
Hue Adjustment Orange : 0
Hue Adjustment Yellow : 0
Hue Adjustment Green : 0
Hue Adjustment Aqua : 0
Hue Adjustment Blue : 0
Hue Adjustment Purple : 0
Hue Adjustment Magenta : 0
Saturation Adjustment Red : 0
Saturation Adjustment Orange : 0
Saturation Adjustment Yellow : 0
Saturation Adjustment Green : 0
Saturation Adjustment Aqua : 0
Saturation Adjustment Blue : 0
Saturation Adjustment Purple : 0
Saturation Adjustment Magenta : 0
Luminance Adjustment Red : 0
Luminance Adjustment Orange : 0
Luminance Adjustment Yellow : 0
Luminance Adjustment Green : 0
Luminance Adjustment Aqua : 0
Luminance Adjustment Blue : 0
Luminance Adjustment Purple : 0
Luminance Adjustment Magenta : 0
Split Toning Shadow Hue : 0
Split Toning Shadow Saturation : 0
Split Toning Highlight Hue : 0
Split Toning Highlight Saturation : 0
Split Toning Balance : 0
Color Grade Midtone Hue : 0
Color Grade Midtone Sat : 0
Color Grade Shadow Lum : 0
Color Grade Midtone Lum : 0
Color Grade Highlight Lum : 0
Color Grade Blending : 50
Color Grade Global Hue : 0
Color Grade Global Sat : 0
Color Grade Global Lum : 0
Auto Lateral CA : 0
Lens Profile Enable : 0
Lens Manual Distortion Amount : 0
Vignette Amount : 0
Defringe Purple Amount : 0
Defringe Purple Hue Lo : 30
Defringe Purple Hue Hi : 70
Defringe Green Amount : 0
Defringe Green Hue Lo : 40
Defringe Green Hue Hi : 60
Perspective Upright : Off
Perspective Vertical : +7
Perspective Horizontal : 0
Perspective Rotate : 0.0
Perspective Aspect : 0
Perspective Scale : 100
Perspective X : 0.00
Perspective Y : 0.00
Grain Amount : 0
Post Crop Vignette Amount : 0
Shadow Tint : 0
Red Hue : 0
Red Saturation : 0
Green Hue : 0
Green Saturation : 0
Blue Hue : 0
Blue Saturation : 0
Override Look Vignette : False
Tone Curve Name 2012 : Linear
Camera Profile : Adobe Standard
Has Settings : True
Crop Top : 0.094034
Crop Left : 0.077239
Crop Bottom : 0.911446
Crop Right : 0.894651
Crop Angle : 0
Crop Constrain To Warp : 0
Has Crop : True
Already Applied : True
Tone Curve PV2012 : 0, 0, 255, 255
Tone Curve PV2012 Red : 0, 0, 255, 255
Tone Curve PV2012 Green : 0, 0, 255, 255
Tone Curve PV2012 Blue : 0, 0, 255, 255
Look Name : Adobe Color
Look Amount : 1.000000
Look Supports Amount : false
Look Supports Monochrome : false
Look Supports Output Referred : false
Look Group : Profiles
Look Parameters Version : 13.3
Look Parameters Process Version : 11.0
Look Parameters Convert To Grayscale : False
Look Parameters Camera Profile : Adobe Standard
Look Parameters Look Table : E1095149FDB39D7A057BAB208837E2E1
Look Parameters Tone Curve PV2012 : 0, 0, 22, 16, 40, 35, 127, 127, 224, 230, 240, 246, 255, 255
Look Parameters Tone Curve PV2012 Red : 0, 0, 255, 255
Look Parameters Tone Curve PV2012 Green : 0, 0, 255, 255
Look Parameters Tone Curve PV2012 Blue : 0, 0, 255, 255
Image Width : 250
Image Height : 188
Bits Per Sample : 8
Color Components : 3
Aperture : 8.0
Image Size : 250x188
Megapixels : 0.047
Scale Factor To 35 mm Equivalent : 2.0
Shutter Speed : 1/13
Create Date : 2016:04:04 20:03:02.297
Date/Time Original : 2016:04:04 20:03:02.297
Modify Date : 2021:06:18 09:54:30-06:00
Circle Of Confusion : 0.015 mm
Field Of View : 31.4 deg
Focal Length : 32.0 mm (35 mm equivalent: 64.0 mm)
Hyperfocal Distance : 8.52 m
Light Value : 8.7
Lens ID : LUMIX G VARIO 12-32mm F3.5-5.6