Uber Exif Photo
Keywords : dunkirk lighthouse
By-line : Christopher Coppola
Copyright Notice : Christopher Coppola
Copyright Flag : True
Make : Leica Camera AG
Camera Model Name : LEICA M (Typ 240)
Software : Adobe Photoshop Lightroom Classic 9.3 (Macintosh)
Modify Date : 2020:09:07 16:50:26
Artist : Christopher Coppola
Copyright : Christopher Coppola
Exposure Time : 1/125
F Number : 1.4
Exposure Program : Manual
ISO : 3200
Date/Time Original : 2020:09:06 20:00:45
Create Date : 2020:09:06 20:00:45
Shutter Speed Value : 1/125
Aperture Value : 1.4
Exposure Compensation : 0
Max Aperture Value : 1.0
Metering Mode : Center-weighted average
Light Source : Unknown
Flash : No Flash
Color Space : sRGB
Scene Type : Directly photographed
Exposure Mode : Manual
White Balance : Auto
Digital Zoom Ratio : 0
Scene Capture Type : Standard
Contrast : Low
Saturation : Normal
Sharpness : Normal
Serial Number : 4904394
Lens Model : not selected
Lens Serial Number : -------
GPS Status : Measurement Void
GPS Dilution Of Precision : 0
GPS Speed : 0
GPS Track : 0
Profile Description : sRGB IEC61966-2.1
Lens : not selected
Format : image/jpeg
Creator Tool : Adobe Photoshop Lightroom Classic 9.3 (Macintosh)
Label : Red
Photographic Sensitivity : 3200
Date Created : 2020:09:06 20:00:45
Preserved File Name : L1002387.DNG
Marked : True
Raw File Name : Version : 12.3
Process Version : 11.0
Incremental Temperature : 0
Incremental Tint : 0
Luminance Smoothing : 0
Color Noise Reduction : 0
Vignette Amount : 0
Shadow Tint : 0
Red Hue : 0
Red Saturation : 0
Green Hue : 0
Green Saturation : 0
Blue Hue : 0
Blue Saturation : 0
Vibrance : 0
Hue Adjustment Red : 0
Hue Adjustment Orange : 0
Hue Adjustment Yellow : 0
Hue Adjustment Green : 0
Hue Adjustment Aqua : 0
Hue Adjustment Blue : 0
Hue Adjustment Purple : 0
Hue Adjustment Magenta : 0
Saturation Adjustment Red : 0
Saturation Adjustment Orange : 0
Saturation Adjustment Yellow : 0
Saturation Adjustment Green : 0
Saturation Adjustment Aqua : 0
Saturation Adjustment Blue : 0
Saturation Adjustment Purple : 0
Saturation Adjustment Magenta : 0
Luminance Adjustment Red : 0
Luminance Adjustment Orange : 0
Luminance Adjustment Yellow : 0
Luminance Adjustment Green : 0
Luminance Adjustment Aqua : 0
Luminance Adjustment Blue : 0
Luminance Adjustment Purple : 0
Luminance Adjustment Magenta : 0
Split Toning Shadow Hue : 0
Split Toning Shadow Saturation : 0
Split Toning Highlight Hue : 0
Split Toning Highlight Saturation : 0
Split Toning Balance : 0
Parametric Shadows : 0
Parametric Darks : 0
Parametric Lights : 0
Parametric Highlights : 0
Parametric Shadow Split : 25
Parametric Midtone Split : 50
Parametric Highlight Split : 75
Sharpen Radius : +1.0
Sharpen Detail : 25
Sharpen Edge Masking : 0
Post Crop Vignette Amount : 0
Grain Amount : 0
Lens Profile Enable : 0
Lens Manual Distortion Amount : 0
Perspective Vertical : 0
Perspective Horizontal : 0
Perspective Rotate : +2.4
Perspective Scale : 100
Perspective Aspect : 0
Perspective Upright : Off
Perspective X : 0.00
Perspective Y : 0.00
Auto Lateral CA : 0
Exposure 2012 : 0.00
Contrast 2012 : 0
Highlights 2012 : 0
Shadows 2012 : 0
Whites 2012 : 0
Blacks 2012 : 0
Clarity 2012 : 0
Defringe Purple Amount : 0
Defringe Purple Hue Lo : 30
Defringe Purple Hue Hi : 70
Defringe Green Amount : 0
Defringe Green Hue Lo : 40
Defringe Green Hue Hi : 60
Dehaze : 0
Texture : 0
Tone Map Strength : 0
Convert To Grayscale : False
Override Look Vignette : False
Tone Curve Name : Linear
Tone Curve Name 2012 : Linear
Camera Profile : Embedded
Lens Profile Setup : LensDefaults
Has Settings : True
Crop Top : 0.029106
Crop Left : 0.029106
Crop Bottom : 0.970894
Crop Right : 0.970894
Crop Angle : 0
Crop Constrain To Warp : 1
Has Crop : True
Already Applied : True
Creator : Christopher Coppola
Rights : Christopher Coppola
Subject : dunkirk lighthouse
Usage Terms : WIth express written consent from Christopher Coppola
Creator City : Buffalo
Creator Country : USA
Creator Region : NY
Creator Work Email : [email protected]
Creator Work Telephone : 808.282.2400
Creator Work URL : www.chriscoppola.com
Hierarchical Subject : dunkirk lighthouse
Tone Curve : 0, 0, 255, 255
Tone Curve Red : 0, 0, 255, 255
Tone Curve Green : 0, 0, 255, 255
Tone Curve Blue : 0, 0, 255, 255
Tone Curve PV2012 : 0, 0, 255, 255
Tone Curve PV2012 Red : 0, 0, 255, 255
Tone Curve PV2012 Green : 0, 0, 255, 255
Tone Curve PV2012 Blue : 0, 0, 255, 255
Paint Correction What : Correction
Paint Correction Amount : 1.000000
Paint Correction Active : true
Paint Correction Hue : 0.000000
Paint Correction Saturation : 0.000000
Paint Correction Sharpness : 0.000000
Paint Correction Brightness : 0.000000
Paint Correction Toning Hue : 240.000000
Paint Correction Toning Saturation : 0.000000
Paint Correction Exposure 2012 : 0.000000
Paint Correction Contrast 2012 : 0.000000
Paint Correction Highlights 2012 : 0.000000
Paint Correction Shadows 2012 : 0.000000
Paint Correction Whites 2012 : 0.302734
Paint Correction Blacks 2012 : 0.000000
Paint Correction Clarity 2012 : 0.000000
Paint Correction Dehaze : 0.000000
Paint Correction Luminance Noise : 0.000000
Paint Correction Moire : 0.000000
Paint Correction Defringe : 0.000000
Paint Correction Temperature : 0.000000
Paint Correction Tint : 0.000000
Paint Correction Texture : 0.000000
Paint Correction Mask What : Mask/Paint
Paint Correction Mask Value : 0.749735
Paint Correction Mask Radius : 0.038994
Paint Correction Mask Flow : 0.600000
Paint Correction Mask Center Weight : 0.000000
Paint Correction Range Mask Version : +2
Paint Correction Range Mask Type : 0
Paint Correction Range Mask Color Amount : 0.500000
Paint Correction Range Mask Lum Min : 0.000000
Paint Correction Range Mask Lum Max : 1.000000
Paint Correction Range Mask Lum Feather : 0.500000
Paint Correction Range Mask Depth Min : 0.000000
Paint Correction Range Mask Depth Max : 1.000000
Paint Correction Range Mask Depth Feather : 0.500000
Look Name : Image Width : 250
Image Height : 374
Bits Per Sample : 8
Color Components : 1
Aperture : 1.4
Image Size : 250x374
Megapixels : 0.093
Scale Factor To 35 mm Equivalent : 15.9
Shutter Speed : 1/125
Modify Date : 2020:09:07 16:50:26-04:00
Circle Of Confusion : 0.002 mm
Light Value : 2.9