Uber Exif Photo
Make : Leica Camera AG
Camera Model Name : LEICA M (Typ 240)
Software : Adobe Photoshop Lightroom Classic 12.5.1 (Macintosh)
Modify Date : 2024:02:16 17:19:32
Artist : Chris Coppola
Copyright : Chris Coppola
Exposure Time : 1/60
F Number : 2.4
Exposure Program : Manual
ISO : 500
Date/Time Original : 2024:02:08 18:43:55
Create Date : 2024:02:08 18:43:55
Shutter Speed Value : 1/60
Aperture Value : 2.4
Exposure Compensation : 0
Max Aperture Value : 1.0
Metering Mode : Center-weighted average
Light Source : Unknown
Flash : No Flash
Color Space : sRGB
Scene Type : Directly photographed
Custom Rendered : Normal
Exposure Mode : Manual
White Balance : Auto
Digital Zoom Ratio : 0
Scene Capture Type : Standard
Contrast : Low
Saturation : Normal
Sharpness : Normal
Serial Number : 4955940
Lens Make : Leica Camera AG
Lens Model : not selected
Lens Serial Number : -------
By-line : Chris Coppola
Copyright Notice : Chris Coppola
Profile Description : sRGB IEC61966-2.1
Format : image/jpeg
Creator Tool : Adobe Photoshop Lightroom Classic 12.5.1 (Macintosh)
Lens : not selected
Date Created : 2024:02:08 18:43:55
Preserved File Name : L1009373.DNG
Raw File Name : 20240208-L1009373.DNG
Version : 15.5
Process Version : 15.4
Color Temperature : 9700
Tint : -14
Exposure 2012 : +0.90
Contrast 2012 : 0
Highlights 2012 : -19
Shadows 2012 : +15
Whites 2012 : -10
Blacks 2012 : +10
Texture : 0
Clarity 2012 : 0
Dehaze : 0
Vibrance : -5
Parametric Shadows : -50
Parametric Darks : +34
Parametric Lights : +45
Parametric Highlights : +20
Parametric Shadow Split : 20
Parametric Midtone Split : 48
Parametric Highlight Split : 84
Sharpen Radius : +1.0
Sharpen Detail : 25
Sharpen Edge Masking : 0
Luminance Smoothing : 0
Color Noise Reduction : 25
Color Noise Reduction Detail : 50
Color Noise Reduction Smoothness : 50
Hue Adjustment Red : 0
Hue Adjustment Orange : -29
Hue Adjustment Yellow : -29
Hue Adjustment Green : +4
Hue Adjustment Aqua : 0
Hue Adjustment Blue : -17
Hue Adjustment Purple : 0
Hue Adjustment Magenta : +5
Saturation Adjustment Red : -20
Saturation Adjustment Orange : -24
Saturation Adjustment Yellow : -27
Saturation Adjustment Green : -65
Saturation Adjustment Aqua : -57
Saturation Adjustment Blue : -40
Saturation Adjustment Purple : -30
Saturation Adjustment Magenta : -25
Luminance Adjustment Red : -28
Luminance Adjustment Orange : +9
Luminance Adjustment Yellow : -10
Luminance Adjustment Green : -47
Luminance Adjustment Aqua : -72
Luminance Adjustment Blue : -52
Luminance Adjustment Purple : 0
Luminance Adjustment Magenta : -20
Split Toning Shadow Hue : 0
Split Toning Shadow Saturation : 0
Split Toning Highlight Hue : 0
Split Toning Highlight Saturation : 0
Split Toning Balance : 0
Color Grade Midtone Hue : 0
Color Grade Midtone Sat : 0
Color Grade Shadow Lum : 0
Color Grade Midtone Lum : 0
Color Grade Highlight Lum : 0
Color Grade Blending : 50
Color Grade Global Hue : 0
Color Grade Global Sat : 0
Color Grade Global Lum : 0
Auto Lateral CA : 0
Lens Profile Enable : 0
Lens Manual Distortion Amount : 0
Vignette Amount : 0
Defringe Purple Amount : 0
Defringe Purple Hue Lo : 30
Defringe Purple Hue Hi : 70
Defringe Green Amount : 0
Defringe Green Hue Lo : 40
Defringe Green Hue Hi : 60
Perspective Upright : Off
Perspective Vertical : 0
Perspective Horizontal : 0
Perspective Rotate : 0.0
Perspective Aspect : 0
Perspective Scale : 100
Perspective X : 0.00
Perspective Y : 0.00
Grain Amount : 0
Post Crop Vignette Amount : 0
Shadow Tint : 0
Red Hue : +45
Red Saturation : +20
Green Hue : +10
Green Saturation : -8
Blue Hue : +25
Blue Saturation : +10
Curve Refine Saturation : 100
Convert To Grayscale : False
Override Look Vignette : False
Tone Curve Name 2012 : Custom
Camera Profile : RNI Films Prime
Has Settings : True
Crop Top : 0
Crop Left : 0
Crop Bottom : 1
Crop Right : 1
Crop Angle : 0
Crop Constrain To Warp : 0
Has Crop : False
Already Applied : True
Creator : Chris Coppola
Rights : Chris Coppola
Tone Curve PV2012 : 0, 11, 72, 72, 129, 129, 197, 197, 255, 255
Tone Curve PV2012 Red : 0, 0, 23, 11, 68, 57, 116, 126, 191, 212, 255, 255
Tone Curve PV2012 Green : 0, 0, 25, 13, 69, 59, 116, 126, 191, 212, 255, 255
Tone Curve PV2012 Blue : 0, 3, 20, 14, 66, 59, 110, 126, 171, 196, 255, 249
Image Width : 267
Image Height : 400
Bits Per Sample : 8
Color Components : 3
Aperture : 2.4
Image Size : 267x400
Megapixels : 0.107
Scale Factor To 35 mm Equivalent : 14.9
Shutter Speed : 1/60
Modify Date : 2024:02:16 17:19:32-05:00
Circle Of Confusion : 0.002 mm
Light Value : 6.1