Uber Exif Photo
By-line : Chris Coppola
Copyright Notice : 2020
Make : Leica Camera AG
Camera Model Name : LEICA M MONOCHROM (Typ 246)
Software : Adobe Photoshop Lightroom Classic 11.3.1 (Macintosh)
Modify Date : 2022:04:29 00:03:38
Artist : Chris Coppola
Copyright : 2020
Exposure Time : 1/750
F Number : 11.0
Exposure Program : Aperture-priority AE
ISO : 1000
Date/Time Original : 2022:04:28 15:14:55
Create Date : 2022:04:28 15:14:55
Shutter Speed Value : 1/750
Aperture Value : 11.0
Exposure Compensation : +0.332
Max Aperture Value : 2.8
Metering Mode : Center-weighted average
Light Source : Unknown
Flash : No Flash
Focal Length : 21.0 mm
Color Space : sRGB
Scene Type : Directly photographed
Custom Rendered : Normal
Exposure Mode : Auto
Digital Zoom Ratio : 0
Scene Capture Type : Standard
Contrast : Normal
Sharpness : Normal
Serial Number : 5499429
Lens Info : 21mm f/2.8-16
Lens Make : Leica Camera AG
Lens Model : Elmarit-M 1:2.8/21
Lens Serial Number : -------
Profile Description : sRGB IEC61966-2.1
Format : image/jpeg
Creator Tool : Adobe Photoshop Lightroom Classic 11.3.1 (Macintosh)
Label : Red
Rating : 5
Lens : Elmarit-M 1:2.8/21
Date Created : 2022:04:28 15:14:55
Preserved File Name : L1002739.DNG
Raw File Name : Version : 14.3
Process Version : 11.0
Exposure 2012 : +0.15
Contrast 2012 : 0
Highlights 2012 : -15
Shadows 2012 : +26
Whites 2012 : -10
Blacks 2012 : 0
Texture : 0
Clarity 2012 : +7
Dehaze : 0
Parametric Shadows : 0
Parametric Darks : 0
Parametric Lights : 0
Parametric Highlights : 0
Parametric Shadow Split : 25
Parametric Midtone Split : 50
Parametric Highlight Split : 75
Sharpen Radius : +1.0
Sharpen Detail : 25
Sharpen Edge Masking : 0
Luminance Smoothing : 0
Split Toning Shadow Hue : 0
Split Toning Shadow Saturation : 0
Split Toning Highlight Hue : 0
Split Toning Highlight Saturation : 0
Split Toning Balance : 0
Color Grade Midtone Hue : 0
Color Grade Midtone Sat : 0
Color Grade Shadow Lum : 0
Color Grade Midtone Lum : 0
Color Grade Highlight Lum : 0
Color Grade Blending : 50
Color Grade Global Hue : 0
Color Grade Global Sat : 0
Color Grade Global Lum : 0
Lens Profile Enable : 0
Lens Manual Distortion Amount : 0
Vignette Amount : 0
Perspective Upright : Off
Perspective Vertical : 0
Perspective Horizontal : 0
Perspective Rotate : -2.8
Perspective Aspect : 0
Perspective Scale : 100
Perspective X : 0.00
Perspective Y : 0.00
Grain Amount : 0
Post Crop Vignette Amount : -10
Post Crop Vignette Midpoint : 50
Post Crop Vignette Feather : 50
Post Crop Vignette Roundness : 0
Post Crop Vignette Style : Highlight Priority
Post Crop Vignette Highlight Contrast : 0
Override Look Vignette : False
Tone Curve Name 2012 : Custom
Has Settings : True
Crop Top : 0.033553
Crop Left : 0.033553
Crop Bottom : 0.966447
Crop Right : 0.966447
Crop Angle : 0
Crop Constrain To Warp : 1
Has Crop : True
Already Applied : True
Creator : Chris Coppola
Rights : 2020
Tone Curve PV2012 : 0, 0, 27, 16, 48, 39, 134, 126, 210, 210, 255, 255
Tone Curve PV2012 Red : 0, 0, 255, 255
Tone Curve PV2012 Green : 0, 0, 255, 255
Tone Curve PV2012 Blue : 0, 0, 255, 255
Image Width : 400
Image Height : 267
Bits Per Sample : 8
Color Components : 1
Aperture : 11.0
Image Size : 400x267
Megapixels : 0.107
Scale Factor To 35 mm Equivalent : 14.9
Shutter Speed : 1/750
Modify Date : 2022:04:29 00:03:38-04:00
Circle Of Confusion : 0.002 mm
Field Of View : 6.6 deg
Focal Length : 21.0 mm (35 mm equivalent: 312.4 mm)
Hyperfocal Distance : 19.85 m
Light Value : 13.1