Uber Exif Photo
Make : Apple
Camera Model Name : iPhone 11 Pro
Software : Adobe Bridge 2020 (Macintosh)
Modify Date : 2020:07:27 15:12:23
Exposure Time : 1/900
F Number : 2.0
Exposure Program : Program AE
ISO : 20
Date/Time Original : 2020:06:12 06:56:24
Shutter Speed Value : 1/900
Aperture Value : 2.0
Brightness Value : 5.613443538
Exposure Compensation : -4
Metering Mode : Multi-segment
Flash : Off, Did not fire
Focal Length : 6.0 mm
Exif Image Width : 900
Exif Image Height : 675
Sensing Method : One-chip color area
Scene Type : Directly photographed
Exposure Mode : Auto
White Balance : Auto
Focal Length In 35mm Format : 52 mm
Lens Info : 6mm f/2
Lens Make : Apple
Lens Model : iPhone 11 Pro back camera 6mm f/2
Profile Description : sRGB IEC61966-2.1
Creator Tool : Adobe Bridge 2020 (Macintosh)
Create Date : 2020:06:12 06:56:24.637-05:00
Lens : iPhone 11 Pro back camera 6mm f/2
Is Merged HDR : True
Date Created : 2020:06:12 06:56:24.637-05:00
Format : image/jpeg
Version : 12.2.1
Process Version : 11.0
Color Temperature : 7150
Tint : +29
Saturation : +1
Sharpness : 50
Luminance Smoothing : 10
Color Noise Reduction : 25
Vignette Amount : 0
Shadow Tint : 0
Red Hue : 0
Red Saturation : 0
Green Hue : 0
Green Saturation : 0
Blue Hue : 0
Blue Saturation : 0
Vibrance : +15
Hue Adjustment Red : 0
Hue Adjustment Orange : 0
Hue Adjustment Yellow : 0
Hue Adjustment Green : 0
Hue Adjustment Aqua : 0
Hue Adjustment Blue : 0
Hue Adjustment Purple : 0
Hue Adjustment Magenta : 0
Saturation Adjustment Red : 0
Saturation Adjustment Orange : 0
Saturation Adjustment Yellow : 0
Saturation Adjustment Green : 0
Saturation Adjustment Aqua : 0
Saturation Adjustment Blue : 0
Saturation Adjustment Purple : 0
Saturation Adjustment Magenta : 0
Luminance Adjustment Red : 0
Luminance Adjustment Orange : 0
Luminance Adjustment Yellow : 0
Luminance Adjustment Green : 0
Luminance Adjustment Aqua : 0
Luminance Adjustment Blue : 0
Luminance Adjustment Purple : 0
Luminance Adjustment Magenta : 0
Split Toning Shadow Hue : 0
Split Toning Shadow Saturation : 0
Split Toning Highlight Hue : 0
Split Toning Highlight Saturation : 0
Split Toning Balance : 0
Parametric Shadows : 0
Parametric Darks : 0
Parametric Lights : 0
Parametric Highlights : 0
Parametric Shadow Split : 25
Parametric Midtone Split : 50
Parametric Highlight Split : 75
Sharpen Radius : +1.4
Sharpen Detail : 25
Sharpen Edge Masking : 0
Post Crop Vignette Amount : 0
Grain Amount : 0
Luminance Noise Reduction Detail : 50
Color Noise Reduction Detail : 50
Luminance Noise Reduction Contrast : 0
Color Noise Reduction Smoothness : 50
Lens Profile Enable : 1
Lens Manual Distortion Amount : 0
Perspective Vertical : 0
Perspective Horizontal : 0
Perspective Rotate : 0.0
Perspective Scale : 100
Perspective Aspect : 0
Perspective Upright : Off
Perspective X : 0.00
Perspective Y : 0.00
Auto Lateral CA : 0
Exposure 2012 : -1.77
Contrast 2012 : +7
Highlights 2012 : -100
Shadows 2012 : +57
Whites 2012 : -33
Blacks 2012 : -15
Clarity 2012 : +8
Defringe Purple Amount : 0
Defringe Purple Hue Lo : 30
Defringe Purple Hue Hi : 70
Defringe Green Amount : 0
Defringe Green Hue Lo : 40
Defringe Green Hue Hi : 60
Dehaze : 0
Texture : 0
Tone Map Strength : 0
Convert To Grayscale : False
Override Look Vignette : False
Tone Curve Name : Medium Contrast
Tone Curve Name 2012 : Custom
Camera Profile : Adobe Standard
Lens Profile Setup : LensDefaults
Lens Profile Name : Adobe (Apple iPhone 11 Pro back camera 6mm f/2)
Lens Profile Filename : Apple iPhone (Apple iPhone 11 Pro back camera 6mm f2) - RAW.lcp
Lens Profile Distortion Scale : 100
Lens Profile Chromatic Aberration Scale : 100
Lens Profile Vignetting Scale : 100
Has Settings : True
Has Crop : False
Raw File Name : APC_4348-hdr.dng
Already Applied : True
DNG Version : 1.4
DNG Backward Version : 1.3
Camera Raw Compatibility : 5.4
Lightroom Compatibility : 2.4
Has Mosaic Data : True
Lossy Compression : False
Floating Point : False
Has Transparency : False
Image Length : 3024
Original Image Width : 4032
Original Image Length : 3024
Preview Width : 2048
Preview Length : 1536
Has Fast Load Data : False
Has Embedded Original Raw File : False
Tone Curve : 0, 0, 32, 22, 64, 56, 128, 128, 192, 196, 255, 255
Tone Curve Red : 0, 0, 255, 255
Tone Curve Green : 0, 0, 255, 255
Tone Curve Blue : 0, 0, 255, 255
Tone Curve PV2012 : 0, 0, 36, 30, 74, 69, 130, 130, 212, 218, 255, 255
Tone Curve PV2012 Red : 0, 0, 255, 255
Tone Curve PV2012 Green : 0, 0, 255, 255
Tone Curve PV2012 Blue : 0, 0, 65, 76, 206, 206, 255, 255
Look Name : Adobe Color
Look Amount : 1.000000
Look Supports Amount : false
Look Supports Monochrome : false
Look Supports Output Referred : false
Look Copyright : © 2018 Adobe Systems, Inc.
Look Group : Profiles
Look Parameters Version : 12.2.1
Look Parameters Process Version : 11.0
Look Parameters Convert To Grayscale : False
Look Parameters Camera Profile : Adobe Standard
Look Parameters Look Table : E1095149FDB39D7A057BAB208837E2E1
Look Parameters Tone Curve PV2012 : 0, 0, 22, 16, 40, 35, 127, 127, 224, 230, 240, 246, 255, 255
Look Parameters Tone Curve PV2012 Red : 0, 0, 255, 255
Look Parameters Tone Curve PV2012 Green : 0, 0, 255, 255
Look Parameters Tone Curve PV2012 Blue : 0, 0, 255, 255
Image Width : 250
Image Height : 188
Bits Per Sample : 8
Color Components : 3
Aperture : 2.0
Image Size : 250x188
Megapixels : 0.047
Scale Factor To 35 mm Equivalent : 8.7
Shutter Speed : 1/900
Date/Time Original : 2020:06:12 06:56:24.6371
Circle Of Confusion : 0.003 mm
Field Of View : 38.2 deg
Focal Length : 6.0 mm (35 mm equivalent: 52.0 mm)
Hyperfocal Distance : 5.19 m
Light Value : 14.1
Lens ID : iPhone 11 Pro back camera 6mm f/2