Uber Exif Photo
Make : Panasonic
Camera Model Name : DMC-L1
Orientation : Horizontal (normal)
Software : Adobe Photoshop Elements 2.0
Modify Date : 2009:10:28 12:46:04
Time Zone Offset : -5 -5
Exposure Time : 1/200
F Number : 6.3
Exposure Program : Aperture-priority AE
ISO : 400
Date/Time Original : 2009:10:24 05:47:06
Create Date : 2009:10:24 05:47:06
Shutter Speed Value : 1/200
Aperture Value : 6.3
Exposure Compensation : 0
Max Aperture Value : 2.8
Metering Mode : Multi-segment
Focal Length : 113.0 mm
Color Space : sRGB
Exif Image Width : 2352
Exif Image Height : 2752
Copyright Flag : False
Version : 1.0
White Balance : As Shot
Color Temperature : 5250
Tint : +2
Exposure : +0.50
Shadows : 8
Brightness : +51
Contrast : +51
Saturation : +8
Sharpness : 25
Luminance Smoothing : 0
Color Noise Reduction : 25
Chromatic Aberration R : 0
Chromatic Aberration B : 0
Vignette Amount : 0
Shadow Tint : 0
Red Hue : 0
Red Saturation : 0
Green Hue : 0
Green Saturation : 0
Blue Hue : 0
Blue Saturation : 0
Fill Light : 0
Vibrance : +29
Highlight Recovery : 0
Clarity : 78
Defringe : 0
Hue Adjustment Red : 0
Hue Adjustment Orange : 0
Hue Adjustment Yellow : 0
Hue Adjustment Green : 0
Hue Adjustment Aqua : 0
Hue Adjustment Blue : 0
Hue Adjustment Purple : 0
Hue Adjustment Magenta : 0
Saturation Adjustment Red : 0
Saturation Adjustment Orange : 0
Saturation Adjustment Yellow : 0
Saturation Adjustment Green : 0
Saturation Adjustment Aqua : 0
Saturation Adjustment Blue : 0
Saturation Adjustment Purple : 0
Saturation Adjustment Magenta : 0
Luminance Adjustment Red : 0
Luminance Adjustment Orange : 0
Luminance Adjustment Yellow : 0
Luminance Adjustment Green : 0
Luminance Adjustment Aqua : 0
Luminance Adjustment Blue : 0
Luminance Adjustment Purple : 0
Luminance Adjustment Magenta : 0
Split Toning Shadow Hue : 0
Split Toning Shadow Saturation : 0
Split Toning Highlight Hue : 0
Split Toning Highlight Saturation : 0
Split Toning Balance : 0
Parametric Shadows : 0
Parametric Darks : 0
Parametric Lights : 0
Parametric Highlights : 0
Parametric Shadow Split : 25
Parametric Midtone Split : 50
Parametric Highlight Split : 75
Sharpen Radius : +1.0
Sharpen Detail : 25
Sharpen Edge Masking : 0
Convert To Grayscale : False
Tone Curve Name : Medium Contrast
Camera Profile : ACR 3.5
Has Settings : True
Crop Top : 0
Crop Left : 0.122303
Crop Bottom : 1
Crop Right : 1
Crop Angle : 0
Crop Width : 2752
Crop Height : 2352
Crop Unit : pixels
Has Crop : True
Already Applied : True
Tone Curve : 0, 0, 32, 22, 64, 56, 128, 128, 192, 196, 255, 255
Date/Time Digitized : 2009:10:24 05:47:06-05:00
Flash Fired : False
Flash Return : No return detection
Flash Mode : Off
Flash Function : False
Flash Red Eye Mode : False
Creator Tool : Adobe Photoshop Elements for Windows, version 2.0
Profile Description : sRGB IEC61966-2.1
Image Width : 342
Image Height : 400
Bits Per Sample : 8
Color Components : 3
Aperture : 6.3
Image Size : 342x400
Megapixels : 0.137
Shutter Speed : 1/200
Flash : Off, Did not fire
Light Value : 11.0