Uber Exif Photo
By-line : unknown
Copyright Flag : False
Make : Canon
Camera Model Name : Canon EOS DIGITAL REBEL XT
Orientation : Horizontal (normal)
Software : Adobe Photoshop CS3 Windows
Modify Date : 2008:05:06 21:32:57
Artist : unknown
Exposure Time : 1/250
F Number : 8.0
Exposure Program : Aperture-priority AE
ISO : 200
Date/Time Original : 2008:05:04 19:41:41
Create Date : 2008:05:04 19:41:41
Shutter Speed Value : 1/250
Aperture Value : 8.0
Exposure Compensation : 0
Max Aperture Value : 2.8
Metering Mode : Partial
Focal Length : 24.0 mm
Color Space : Uncalibrated
Exif Image Width : 600
Exif Image Height : 400
Custom Rendered : Normal
Exposure Mode : Auto
White Balance : Auto
Scene Capture Type : Standard
Profile Description : Adobe RGB (1998)
Date/Time Digitized : 2008:05:04 19:41:41-07:00
Rating : 0
Creator Tool : Adobe Photoshop CS3 Windows
Format : image/jpeg
Serial Number : 420211673
Lens Info : 18-50mm f/?
Lens : 18.0-50.0 mm
Image Number : 70
Flash Compensation : 0
Owner Name : unknown
Firmware : 1.0.3
Raw File Name : IMG_4934.CR2
Version : 4.4.1
Color Temperature : 5500
Tint : +11
Exposure : +0.25
Shadows : 5
Brightness : +45
Contrast : +34
Saturation : +3
Sharpness : 25
Luminance Smoothing : 0
Color Noise Reduction : 25
Chromatic Aberration R : 0
Chromatic Aberration B : 0
Vignette Amount : 0
Shadow Tint : 0
Red Hue : 0
Red Saturation : 0
Green Hue : 0
Green Saturation : 0
Blue Hue : 0
Blue Saturation : 0
Fill Light : 8
Vibrance : +45
Highlight Recovery : 0
Clarity : 0
Defringe : 0
Hue Adjustment Red : 0
Hue Adjustment Orange : 0
Hue Adjustment Yellow : 0
Hue Adjustment Green : 0
Hue Adjustment Aqua : 0
Hue Adjustment Blue : 0
Hue Adjustment Purple : 0
Hue Adjustment Magenta : 0
Saturation Adjustment Red : 0
Saturation Adjustment Orange : 0
Saturation Adjustment Yellow : 0
Saturation Adjustment Green : 0
Saturation Adjustment Aqua : 0
Saturation Adjustment Blue : 0
Saturation Adjustment Purple : 0
Saturation Adjustment Magenta : 0
Luminance Adjustment Red : 0
Luminance Adjustment Orange : 0
Luminance Adjustment Yellow : 0
Luminance Adjustment Green : 0
Luminance Adjustment Aqua : 0
Luminance Adjustment Blue : 0
Luminance Adjustment Purple : 0
Luminance Adjustment Magenta : 0
Split Toning Shadow Hue : 0
Split Toning Shadow Saturation : 0
Split Toning Highlight Hue : 0
Split Toning Highlight Saturation : 0
Split Toning Balance : 0
Parametric Shadows : 0
Parametric Darks : 0
Parametric Lights : 0
Parametric Highlights : 0
Parametric Shadow Split : 25
Parametric Midtone Split : 50
Parametric Highlight Split : 75
Sharpen Radius : +1.0
Sharpen Detail : 25
Sharpen Edge Masking : 0
Convert To Grayscale : False
Tone Curve Name : Medium Contrast
Camera Profile : ACR 4.4
Has Settings : True
Has Crop : False
Already Applied : True
Sidecar For Extension : CR2
Color Mode : RGB
ICC Profile Name : Adobe RGB (1998)
Flash Fired : False
Flash Return : No return detection
Flash Mode : Off
Flash Function : False
Flash Red Eye Mode : False
Creator : unknown
Tone Curve : 0, 0, 32, 22, 64, 56, 128, 128, 192, 196, 255, 255
Image Width : 250
Image Height : 167
Bits Per Sample : 8
Color Components : 3
Aperture : 8.0
Image Size : 250x167
Megapixels : 0.042
Scale Factor To 35 mm Equivalent : 1.6
Shutter Speed : 1/250
Flash : Off, Did not fire
Circle Of Confusion : 0.019 mm
Field Of View : 49.6 deg
Focal Length : 24.0 mm (35 mm equivalent: 38.9 mm)
Hyperfocal Distance : 3.89 m
Light Value : 13.0
Lens ID : 18.0-50.0mm