Uber Exif Photo
By-line : unknown
Copyright Flag : False
Make : Canon
Camera Model Name : Canon EOS DIGITAL REBEL XT
Orientation : Horizontal (normal)
Software : Adobe Photoshop CS3 Windows
Modify Date : 2008:05:06 21:32:01
Artist : unknown
Exposure Time : 1/90
F Number : 9.5
Exposure Program : Aperture-priority AE
ISO : 200
Date/Time Original : 2008:05:04 19:32:17
Create Date : 2008:05:04 19:32:17
Shutter Speed Value : 1/90
Aperture Value : 9.5
Exposure Compensation : 0
Max Aperture Value : 4.0
Metering Mode : Partial
Focal Length : 176.0 mm
Color Space : Uncalibrated
Exif Image Width : 600
Exif Image Height : 400
Custom Rendered : Normal
Exposure Mode : Auto
White Balance : Auto
Scene Capture Type : Standard
Profile Description : Adobe RGB (1998)
Date/Time Digitized : 2008:05:04 19:32:17-07:00
Rating : 0
Creator Tool : Adobe Photoshop CS3 Windows
Format : image/jpeg
Serial Number : 420211673
Lens Info : 70-200mm f/?
Lens : 70.0-200.0 mm
Image Number : 68
Flash Compensation : 0
Owner Name : unknown
Firmware : 1.0.3
Raw File Name : IMG_4932.CR2
Version : 4.4.1
Color Temperature : 3950
Tint : 0
Exposure : +0.05
Shadows : 17
Brightness : +35
Contrast : +78
Saturation : +3
Sharpness : 25
Luminance Smoothing : 0
Color Noise Reduction : 25
Chromatic Aberration R : 0
Chromatic Aberration B : 0
Vignette Amount : 0
Shadow Tint : 0
Red Hue : 0
Red Saturation : 0
Green Hue : 0
Green Saturation : 0
Blue Hue : 0
Blue Saturation : 0
Fill Light : 30
Vibrance : +6
Highlight Recovery : 0
Clarity : 60
Defringe : 0
Hue Adjustment Red : 0
Hue Adjustment Orange : 0
Hue Adjustment Yellow : 0
Hue Adjustment Green : 0
Hue Adjustment Aqua : 0
Hue Adjustment Blue : 0
Hue Adjustment Purple : 0
Hue Adjustment Magenta : 0
Saturation Adjustment Red : 0
Saturation Adjustment Orange : 0
Saturation Adjustment Yellow : 0
Saturation Adjustment Green : 0
Saturation Adjustment Aqua : 0
Saturation Adjustment Blue : 0
Saturation Adjustment Purple : 0
Saturation Adjustment Magenta : 0
Luminance Adjustment Red : 0
Luminance Adjustment Orange : 0
Luminance Adjustment Yellow : 0
Luminance Adjustment Green : 0
Luminance Adjustment Aqua : 0
Luminance Adjustment Blue : 0
Luminance Adjustment Purple : 0
Luminance Adjustment Magenta : 0
Split Toning Shadow Hue : 0
Split Toning Shadow Saturation : 0
Split Toning Highlight Hue : 0
Split Toning Highlight Saturation : 0
Split Toning Balance : 0
Parametric Shadows : 0
Parametric Darks : 0
Parametric Lights : 0
Parametric Highlights : 0
Parametric Shadow Split : 25
Parametric Midtone Split : 50
Parametric Highlight Split : 75
Sharpen Radius : +1.0
Sharpen Detail : 25
Sharpen Edge Masking : 0
Convert To Grayscale : False
Tone Curve Name : Medium Contrast
Camera Profile : ACR 4.4
Has Settings : True
Has Crop : False
Already Applied : True
Sidecar For Extension : CR2
Color Mode : RGB
ICC Profile Name : Adobe RGB (1998)
Flash Fired : False
Flash Return : No return detection
Flash Mode : Off
Flash Function : False
Flash Red Eye Mode : False
Creator : unknown
Tone Curve : 0, 0, 32, 22, 64, 56, 128, 128, 192, 196, 255, 255
Image Width : 250
Image Height : 167
Bits Per Sample : 8
Color Components : 3
Aperture : 9.5
Image Size : 250x167
Megapixels : 0.042
Scale Factor To 35 mm Equivalent : 1.6
Shutter Speed : 1/90
Flash : Off, Did not fire
Circle Of Confusion : 0.019 mm
Field Of View : 7.2 deg
Focal Length : 176.0 mm (35 mm equivalent: 285.5 mm)
Hyperfocal Distance : 176.04 m
Light Value : 12.0
Lens ID : 70.0-200.0mm