Uber Exif Photo
By-line : unknown
Copyright Flag : False
Make : Canon
Camera Model Name : Canon EOS DIGITAL REBEL XT
Orientation : Horizontal (normal)
Software : Adobe Photoshop CS3 Windows
Modify Date : 2008:05:06 21:35:02
Artist : unknown
Exposure Time : 1/180
F Number : 8.0
Exposure Program : Aperture-priority AE
ISO : 200
Date/Time Original : 2008:05:04 07:41:37
Create Date : 2008:05:04 07:41:37
Shutter Speed Value : 1/180
Aperture Value : 8.0
Exposure Compensation : 0
Metering Mode : Partial
Focal Length : 168.0 mm
Color Space : Uncalibrated
Exif Image Width : 800
Exif Image Height : 533
Custom Rendered : Normal
Exposure Mode : Auto
White Balance : Auto
Scene Capture Type : Standard
Profile Description : Adobe RGB (1998)
Date/Time Digitized : 2008:05:04 07:41:37-07:00
Rating : 0
Creator Tool : Adobe Photoshop CS3 Windows
Format : image/jpeg
Serial Number : 420211673
Lens Info : 70-200mm f/?
Lens : 70.0-200.0 mm
Image Number : 246
Flash Compensation : 0
Owner Name : unknown
Firmware : 1.0.3
Raw File Name : IMG_4854.CR2
Version : 4.4.1
Color Temperature : 4800
Tint : 0
Exposure : 0.00
Shadows : 5
Brightness : +50
Contrast : +25
Saturation : +10
Sharpness : 25
Luminance Smoothing : 0
Color Noise Reduction : 25
Chromatic Aberration R : 0
Chromatic Aberration B : 0
Vignette Amount : 0
Shadow Tint : 0
Red Hue : 0
Red Saturation : 0
Green Hue : 0
Green Saturation : 0
Blue Hue : 0
Blue Saturation : 0
Fill Light : 0
Vibrance : +88
Highlight Recovery : 0
Clarity : 7
Defringe : 0
Hue Adjustment Red : 0
Hue Adjustment Orange : 0
Hue Adjustment Yellow : 0
Hue Adjustment Green : 0
Hue Adjustment Aqua : 0
Hue Adjustment Blue : 0
Hue Adjustment Purple : 0
Hue Adjustment Magenta : 0
Saturation Adjustment Red : 0
Saturation Adjustment Orange : 0
Saturation Adjustment Yellow : 0
Saturation Adjustment Green : 0
Saturation Adjustment Aqua : 0
Saturation Adjustment Blue : 0
Saturation Adjustment Purple : 0
Saturation Adjustment Magenta : 0
Luminance Adjustment Red : 0
Luminance Adjustment Orange : 0
Luminance Adjustment Yellow : 0
Luminance Adjustment Green : 0
Luminance Adjustment Aqua : 0
Luminance Adjustment Blue : 0
Luminance Adjustment Purple : 0
Luminance Adjustment Magenta : 0
Split Toning Shadow Hue : 0
Split Toning Shadow Saturation : 0
Split Toning Highlight Hue : 0
Split Toning Highlight Saturation : 0
Split Toning Balance : 0
Parametric Shadows : 0
Parametric Darks : 0
Parametric Lights : 0
Parametric Highlights : 0
Parametric Shadow Split : 25
Parametric Midtone Split : 50
Parametric Highlight Split : 75
Sharpen Radius : +1.0
Sharpen Detail : 25
Sharpen Edge Masking : 0
Convert To Grayscale : False
Tone Curve Name : Medium Contrast
Camera Profile : ACR 4.4
Has Settings : True
Has Crop : False
Already Applied : True
Sidecar For Extension : CR2
Color Mode : RGB
ICC Profile Name : Adobe RGB (1998)
Flash Fired : False
Flash Return : No return detection
Flash Mode : Off
Flash Function : False
Flash Red Eye Mode : False
Creator : unknown
Tone Curve : 0, 0, 32, 22, 64, 56, 128, 128, 192, 196, 255, 255
Image Width : 250
Image Height : 167
Bits Per Sample : 8
Color Components : 3
Aperture : 8.0
Image Size : 250x167
Megapixels : 0.042
Scale Factor To 35 mm Equivalent : 1.6
Shutter Speed : 1/180
Flash : Off, Did not fire
Circle Of Confusion : 0.019 mm
Field Of View : 7.6 deg
Focal Length : 168.0 mm (35 mm equivalent: 272.5 mm)
Hyperfocal Distance : 190.48 m
Light Value : 12.5
Lens ID : 70.0-200.0mm