Uber Exif Photo
By-line : BDrolshagen
Copyright Notice : Copyright
Photometric Interpretation : RGB
Make : Leica Camera AG
Camera Model Name : LEICA M10
Orientation : Horizontal (normal)
Samples Per Pixel : 3
Software : Adobe Photoshop CC 2019 (Windows)
Modify Date : 2022:05:09 15:53:00
Artist : BDrolshagen
Copyright : Copyright
Exposure Time : 1/500
F Number : 3.4
Exposure Program : Manual
ISO : 250
Date/Time Original : 2022:05:08 19:40:49
Create Date : 2022:05:08 19:40:49
Shutter Speed Value : 1/500
Aperture Value : 3.4
Exposure Compensation : 0
Max Aperture Value : 2.0
Metering Mode : Center-weighted average
Light Source : Unknown
Flash : No Flash
Focal Length : 50.0 mm
Color Space : sRGB
Exif Image Width : 5784
Exif Image Height : 3856
Scene Type : Directly photographed
Custom Rendered : Normal
Exposure Mode : Manual
White Balance : Auto
Digital Zoom Ratio : 0
Scene Capture Type : Standard
Contrast : Normal
Saturation : Normal
Sharpness : Normal
Serial Number : 5231975
Lens Info : 50mm f/2
Lens Make : Leica Camera AG
Lens Model : Summicron-M 1:2/50
Profile Description : sRGB IEC61966-2.1
Creator Tool : Adobe Photoshop Lightroom Classic 9.0 (Windows)
Format : image/jpeg
Lens : Summicron-M 1:2/50
Approximate Focus Distance : 1.37
Distortion Correction Already Applied : True
Lateral Chromatic Aberration Correction Already Applied : True
Date Created : 2022:05:08 19:40:49
Color Mode : RGB
ICC Profile Name : sRGB IEC61966-2.1
Preserved File Name : BD830314.DNG
Raw File Name : Version : 12.0
Process Version : 11.0
Color Temperature : 4750
Tint : +20
Luminance Smoothing : 5
Color Noise Reduction : 25
Vignette Amount : 0
Shadow Tint : 0
Red Hue : +30
Red Saturation : -10
Green Hue : +50
Green Saturation : -10
Blue Hue : -12
Blue Saturation : -15
Vibrance : 0
Hue Adjustment Red : +8
Hue Adjustment Orange : +12
Hue Adjustment Yellow : +10
Hue Adjustment Green : +15
Hue Adjustment Aqua : +5
Hue Adjustment Blue : -4
Hue Adjustment Purple : +10
Hue Adjustment Magenta : +25
Saturation Adjustment Red : -20
Saturation Adjustment Orange : -2
Saturation Adjustment Yellow : -5
Saturation Adjustment Green : -20
Saturation Adjustment Aqua : -10
Saturation Adjustment Blue : -10
Saturation Adjustment Purple : 0
Saturation Adjustment Magenta : -20
Luminance Adjustment Red : -20
Luminance Adjustment Orange : -2
Luminance Adjustment Yellow : 0
Luminance Adjustment Green : 0
Luminance Adjustment Aqua : 0
Luminance Adjustment Blue : -10
Luminance Adjustment Purple : 0
Luminance Adjustment Magenta : 0
Split Toning Shadow Hue : 0
Split Toning Shadow Saturation : 0
Split Toning Highlight Hue : 0
Split Toning Highlight Saturation : 0
Split Toning Balance : 0
Parametric Shadows : 0
Parametric Darks : 0
Parametric Lights : 0
Parametric Highlights : 0
Parametric Shadow Split : 14
Parametric Midtone Split : 60
Parametric Highlight Split : 75
Sharpen Radius : +1.0
Sharpen Detail : 50
Sharpen Edge Masking : 0
Post Crop Vignette Amount : 0
Grain Amount : 15
Grain Size : 20
Grain Frequency : 50
Luminance Noise Reduction Detail : 50
Color Noise Reduction Detail : 50
Luminance Noise Reduction Contrast : 0
Color Noise Reduction Smoothness : 50
Lens Profile Enable : 1
Lens Manual Distortion Amount : 0
Perspective Vertical : 0
Perspective Horizontal : 0
Perspective Rotate : 0.0
Perspective Scale : 100
Perspective Aspect : 0
Perspective Upright : Off
Perspective X : 0.00
Perspective Y : 0.00
Auto Lateral CA : 1
Exposure 2012 : 0.00
Contrast 2012 : 0
Highlights 2012 : +25
Shadows 2012 : -25
Whites 2012 : +25
Blacks 2012 : -25
Clarity 2012 : +15
Defringe Purple Amount : 0
Defringe Purple Hue Lo : 30
Defringe Purple Hue Hi : 70
Defringe Green Amount : 0
Defringe Green Hue Lo : 40
Defringe Green Hue Hi : 60
Dehaze : 0
Texture : 0
Tone Map Strength : 0
Convert To Grayscale : False
Override Look Vignette : False
Tone Curve Name : Linear
Tone Curve Name 2012 : Custom
Camera Profile : Adobe Standard
Missing Camera Profile : Portra 160⁺¹ - L
Lens Profile Setup : LensDefaults
Lens Profile Name : Adobe (Leica SUMMICRON-M 50 mm f/2)
Lens Profile Filename : Leica Camera AG (Leica SUMMICRON-M 50 mm f2) - RAW.lcp
Lens Profile Distortion Scale : 100
Lens Profile Chromatic Aberration Scale : 100
Lens Profile Vignetting Scale : 100
Has Settings : True
Crop Top : 0.032178
Crop Left : 0.028465
Crop Bottom : 1
Crop Right : 0.996287
Crop Angle : 0
Crop Constrain To Warp : 0
Has Crop : True
Already Applied : True
Creator : BDrolshagen
Rights : Copyright
Tone Curve : 0, 0, 255, 255
Tone Curve Red : 0, 0, 255, 255
Tone Curve Green : 0, 0, 255, 255
Tone Curve Blue : 0, 0, 255, 255
Tone Curve PV2012 : 0, 10, 35, 38, 96, 96, 166, 171, 255, 255
Tone Curve PV2012 Red : 0, 0, 47, 18, 80, 62, 117, 122, 179, 200, 255, 255
Tone Curve PV2012 Green : 0, 0, 46, 20, 117, 122, 179, 200, 255, 255
Tone Curve PV2012 Blue : 0, 0, 44, 18, 80, 63, 117, 122, 179, 200, 255, 255
Look Name : Image Width : 400
Image Height : 267
Bits Per Sample : 8
Color Components : 3
Aperture : 3.4
Image Size : 400x267
Megapixels : 0.107
Scale Factor To 35 mm Equivalent : 1.0
Shutter Speed : 1/500
Modify Date : 2022:05:09 15:53:00+02:00
Circle Of Confusion : 0.029 mm
Depth Of Field : 0.14 m (1.30 - 1.45 m)
Field Of View : 38.6 deg
Focal Length : 50.0 mm (35 mm equivalent: 51.5 mm)
Hyperfocal Distance : 25.18 m
Light Value : 11.2
Lens ID : Summicron-M 1:2/50