Uber Exif Photo
Make : FUJIFILM
Camera Model Name : X-E2S
Software : Adobe Photoshop Lightroom Classic 14.0.1 (Macintosh)
Modify Date : 2025:03:20 09:43:00
Artist : David Olson
Copyright : David Harry Olson
Exposure Time : 1/60
F Number : 2.0
Exposure Program : Aperture-priority AE
ISO : 1600
Sensitivity Type : Standard Output Sensitivity
Date/Time Original : 2016:11:14 16:46:00
Create Date : 2016:11:14 16:46:00
Shutter Speed Value : 1/60
Aperture Value : 2.0
Brightness Value : -1.13
Exposure Compensation : 0
Max Aperture Value : 1.4
Metering Mode : Multi-segment
Light Source : Unknown
Flash : Off, Did not fire
Focal Length : 35.0 mm
Color Space : sRGB
Sensing Method : One-chip color area
Scene Type : Directly photographed
Custom Rendered : Normal
Exposure Mode : Auto
White Balance : Auto
Focal Length In 35mm Format : 53 mm
Scene Capture Type : Standard
Sharpness : Hard
Subject Distance Range : Unknown
Lens Info : 35mm f/1.4
Lens Make : FUJIFILM
Lens Model : XF35mmF1.4 R
Lens Serial Number : 65A19694
JUMD Type : (c2pa)-0011-0010-800000aa00389b71
JUMD Label : c2pa
C2pa Thumbnail Claim Jpeg Type : image/jpeg
Title : untitled-3.RAF
Relationship : parentOf
Actions Action : c2pa.opened, c2pa.color_adjustments, c2pa.color_adjustments, c2pa.color_adjustments, c2pa.color_adjustments, c2pa.cropped
Actions Instance Id : xmp:iid:5e88a757-a28a-4911-8143-93eb108daaa0
Actions Parameters Ingredient Url : self#jumbf=c2pa.assertions/c2pa.ingredient
Actions Parameters Com Adobe Acr : Exposure2012, Point Curve, Saturation, Vibrance, Crop
Actions Parameters Com Adobe Acr Value : 90, Point Curve Changed, -51, 6, Changed Crop Area
Context : https://schema.org
Type : CreativeWork
Author Type : Person
Author Name : David Olson
Exclusions Start : 5045
Exclusions Length : 47624
Name : jumbf manifest
Alg : sha256
Claim generator : Lightroom_Classic/14.0.1 cr_sdk/17.0 adobe_c2pa/0.9.3 c2pa-rs/0.31.0
Claim Generator Info Name : Lightroom Classic
Claim Generator Info Version : 14.0.1
Signature : self#jumbf=c2pa.signature
Assertions Url : self#jumbf=c2pa.assertions/c2pa.thumbnail.claim.jpeg, self#jumbf=c2pa.assertions/c2pa.ingredient, self#jumbf=c2pa.assertions/c2pa.actions, self#jumbf=c2pa.assertions/stds.schema-org.CreativeWork, self#jumbf=c2pa.assertions/c2pa.hash.data
Item 2 : null
By-line : David Olson
Copyright Notice : David Harry Olson
Copyright Flag : True
Profile Description : sRGB IEC61966-2.1
Rating : 5
Creator Tool : Adobe Photoshop Lightroom Classic 14.0.1 (Macintosh)
Fuji Rating Already Applied : True
Lens : XF35mmF1.4 R
Lateral Chromatic Aberration Correction Already Applied : True
Vignette Correction Already Applied : True
Date Created : 2016:11:14 16:46:00
Preserved File Name : Dana Mist Fuji XE-2S Soft-13-2.RAF
Format : image/jpeg
Marked : True
Good : true
Pick : 1
Raw File Name : untitled-3.RAF
Version : 17.0
Process Version : 15.4
Color Temperature : 2750
Tint : +19
Exposure 2012 : +0.90
Contrast 2012 : 0
Highlights 2012 : 0
Shadows 2012 : 0
Whites 2012 : 0
Blacks 2012 : 0
Texture : 0
Clarity 2012 : 0
Dehaze : 0
Vibrance : +6
Saturation : -51
Parametric Shadows : 0
Parametric Darks : 0
Parametric Lights : 0
Parametric Highlights : 0
Parametric Shadow Split : 25
Parametric Midtone Split : 50
Parametric Highlight Split : 75
Sharpen Radius : +1.0
Sharpen Detail : 25
Sharpen Edge Masking : 0
Luminance Smoothing : 0
Color Noise Reduction : 25
Color Noise Reduction Detail : 50
Color Noise Reduction Smoothness : 50
Hue Adjustment Red : 0
Hue Adjustment Orange : 0
Hue Adjustment Yellow : 0
Hue Adjustment Green : 0
Hue Adjustment Aqua : 0
Hue Adjustment Blue : 0
Hue Adjustment Purple : 0
Hue Adjustment Magenta : 0
Saturation Adjustment Red : 0
Saturation Adjustment Orange : 0
Saturation Adjustment Yellow : 0
Saturation Adjustment Green : 0
Saturation Adjustment Aqua : 0
Saturation Adjustment Blue : 0
Saturation Adjustment Purple : 0
Saturation Adjustment Magenta : 0
Luminance Adjustment Red : 0
Luminance Adjustment Orange : 0
Luminance Adjustment Yellow : 0
Luminance Adjustment Green : 0
Luminance Adjustment Aqua : 0
Luminance Adjustment Blue : 0
Luminance Adjustment Purple : 0
Luminance Adjustment Magenta : 0
Split Toning Shadow Hue : 0
Split Toning Shadow Saturation : 0
Split Toning Highlight Hue : 0
Split Toning Highlight Saturation : 0
Split Toning Balance : 0
Color Grade Midtone Hue : 0
Color Grade Midtone Sat : 0
Color Grade Shadow Lum : 0
Color Grade Midtone Lum : 0
Color Grade Highlight Lum : 0
Color Grade Blending : 50
Color Grade Global Hue : 0
Color Grade Global Sat : 0
Color Grade Global Lum : 0
Auto Lateral CA : 1
Lens Profile Enable : 0
Lens Manual Distortion Amount : 0
Vignette Amount : 0
Defringe Purple Amount : 0
Defringe Purple Hue Lo : 30
Defringe Purple Hue Hi : 70
Defringe Green Amount : 0
Defringe Green Hue Lo : 40
Defringe Green Hue Hi : 60
Perspective Upright : Off
Perspective Vertical : 0
Perspective Horizontal : 0
Perspective Rotate : 0.0
Perspective Aspect : 0
Perspective Scale : 100
Perspective X : 0.00
Perspective Y : 0.00
Grain Amount : 0
Post Crop Vignette Amount : 0
Shadow Tint : 0
Red Hue : 0
Red Saturation : 0
Green Hue : 0
Green Saturation : 0
Blue Hue : 0
Blue Saturation : 0
HDR Edit Mode : 0
Curve Refine Saturation : 100
Override Look Vignette : False
Tone Curve Name 2012 : Custom
Camera Profile : Adobe Standard
Has Settings : True
Crop Top : 0.053334
Crop Left : 0.053334
Crop Bottom : 0.869504
Crop Right : 0.869504
Crop Angle : 0
Crop Constrain To Warp : 0
Has Crop : True
Already Applied : True
Creator : David Olson
Rights : David Harry Olson
Usage Terms : ASK
Creator Postal Code : 56201
Creator Region : MN
Creator Country : USA
Creator City : Willmar
Creator Address : PO Box 851
Creator Work Email : [email protected]
Tone Curve PV2012 : 0, 0, 74, 61, 184, 192, 255, 255
Tone Curve PV2012 Red : 0, 0, 255, 255
Tone Curve PV2012 Green : 0, 0, 255, 255
Tone Curve PV2012 Blue : 0, 0, 255, 255
Point Colors : -1.000000, -1.000000, -1.000000, -1.000000, -1.000000, -1.000000, -1.000000, -1.000000, -1.000000, -1.000000, -1.000000, -1.000000, -1.000000, -1.000000, -1.000000, -1.000000, -1.000000, -1.000000, -1.000000
Look Name : Adobe Color
Look Amount : 1
Look Supports Amount : false
Look Supports Monochrome : false
Look Supports Output Referred : false
Look Copyright : © 2018 Adobe Systems, Inc.
Look Group : Profiles
Look Parameters Version : 17.0
Look Parameters Process Version : 15.4
Look Parameters Convert To Grayscale : False
Look Parameters Camera Profile : Adobe Standard
Look Parameters Look Table : E1095149FDB39D7A057BAB208837E2E1
Look Parameters Tone Curve PV2012 : 0, 0, 22, 16, 40, 35, 127, 127, 224, 230, 240, 246, 255, 255
Look Parameters Tone Curve PV2012 Red : 0, 0, 255, 255
Look Parameters Tone Curve PV2012 Green : 0, 0, 255, 255
Look Parameters Tone Curve PV2012 Blue : 0, 0, 255, 255
Image Width : 267
Image Height : 400
Bits Per Sample : 8
Color Components : 3
Aperture : 2.0
Image Size : 267x400
Megapixels : 0.107
Scale Factor To 35 mm Equivalent : 1.5
Shutter Speed : 1/60
Modify Date : 2025:03:20 09:43:00-05:00
Circle Of Confusion : 0.020 mm
Field Of View : 37.5 deg
Focal Length : 35.0 mm (35 mm equivalent: 53.0 mm)
Hyperfocal Distance : 30.87 m
Light Value : 3.9
Lens ID : XF35mm F1.4 R