Uber Exif Photo
Make : THE DARKROOM - thedarkroom.com
Camera Model Name : THE DARKROOM - thedarkroom.com
Software : Adobe Photoshop Lightroom Classic 14.0.1 (Macintosh)
Modify Date : 2024:10:30 14:35:30
Artist : David Olson
Copyright : David Harry Olson
Date/Time Original : 2024:10:30 01:28:00
Create Date : 2024:10:30 01:28:00
Color Space : sRGB
By-line : David Olson
Copyright Notice : David Harry Olson
Copyright Flag : True
Profile Description : sRGB IEC61966-2.1
Creator Tool : Adobe Photoshop Lightroom Classic 14.0.1 (Macintosh)
Rating : 5
Date Created : 2024:10:30 01:28:00
Preserved File Name : 000450640013.jpg
Format : image/jpeg
Marked : True
Pick : 0
Raw File Name : untitled-14.jpg
Version : 17.0
Compatible Version : 234881024
Process Version : 15.4
White Balance : As Shot
Incremental Temperature : 0
Incremental Tint : 0
Exposure 2012 : +0.65
Contrast 2012 : 0
Highlights 2012 : 0
Shadows 2012 : 0
Whites 2012 : 0
Blacks 2012 : 0
Texture : 0
Clarity 2012 : 0
Dehaze : 0
Vibrance : 0
Saturation : 0
Parametric Shadows : 0
Parametric Darks : 0
Parametric Lights : 0
Parametric Highlights : 0
Parametric Shadow Split : 25
Parametric Midtone Split : 50
Parametric Highlight Split : 75
Sharpness : 0
Luminance Smoothing : 0
Color Noise Reduction : 0
Hue Adjustment Red : 0
Hue Adjustment Orange : 0
Hue Adjustment Yellow : 0
Hue Adjustment Green : 0
Hue Adjustment Aqua : 0
Hue Adjustment Blue : 0
Hue Adjustment Purple : 0
Hue Adjustment Magenta : 0
Saturation Adjustment Red : 0
Saturation Adjustment Orange : 0
Saturation Adjustment Yellow : 0
Saturation Adjustment Green : 0
Saturation Adjustment Aqua : 0
Saturation Adjustment Blue : 0
Saturation Adjustment Purple : 0
Saturation Adjustment Magenta : 0
Luminance Adjustment Red : 0
Luminance Adjustment Orange : 0
Luminance Adjustment Yellow : 0
Luminance Adjustment Green : 0
Luminance Adjustment Aqua : 0
Luminance Adjustment Blue : 0
Luminance Adjustment Purple : 0
Luminance Adjustment Magenta : 0
Split Toning Shadow Hue : 0
Split Toning Shadow Saturation : 0
Split Toning Highlight Hue : 0
Split Toning Highlight Saturation : 0
Split Toning Balance : 0
Color Grade Midtone Hue : 0
Color Grade Midtone Sat : 0
Color Grade Shadow Lum : 0
Color Grade Midtone Lum : 0
Color Grade Highlight Lum : 0
Color Grade Blending : 50
Color Grade Global Hue : 0
Color Grade Global Sat : 0
Color Grade Global Lum : 0
Auto Lateral CA : 0
Lens Profile Enable : 0
Lens Manual Distortion Amount : 0
Vignette Amount : 0
Defringe Purple Amount : 0
Defringe Purple Hue Lo : 30
Defringe Purple Hue Hi : 70
Defringe Green Amount : 0
Defringe Green Hue Lo : 40
Defringe Green Hue Hi : 60
Perspective Upright : Off
Perspective Vertical : 0
Perspective Horizontal : 0
Perspective Rotate : 0.0
Perspective Aspect : 0
Perspective Scale : 100
Perspective X : 0.00
Perspective Y : 0.00
Grain Amount : 0
Post Crop Vignette Amount : 0
Shadow Tint : 0
Red Hue : 0
Red Saturation : 0
Green Hue : 0
Green Saturation : 0
Blue Hue : 0
Blue Saturation : 0
HDR Edit Mode : 0
Curve Refine Saturation : 100
Convert To Grayscale : False
Override Look Vignette : False
Tone Curve Name 2012 : Custom
Camera Profile : Embedded
Has Settings : True
Crop Top : 0
Crop Left : 0
Crop Bottom : 0.96542
Crop Right : 0.915011
Crop Angle : 0
Crop Constrain To Warp : 0
Has Crop : True
Already Applied : True
Creator : David Olson
Rights : David Harry Olson
Usage Terms : ASK
Creator Postal Code : 56201
Creator Region : MN
Creator Country : USA
Creator City : Willmar
Creator Address : PO Box 851
Creator Work Email : [email protected]
Tone Curve PV2012 : 0, 0, 94, 92, 183, 190, 255, 255
Tone Curve PV2012 Red : 0, 0, 255, 255
Tone Curve PV2012 Green : 0, 0, 255, 255
Tone Curve PV2012 Blue : 0, 0, 255, 255
Point Colors : -1.000000, -1.000000, -1.000000, -1.000000, -1.000000, -1.000000, -1.000000, -1.000000, -1.000000, -1.000000, -1.000000, -1.000000, -1.000000, -1.000000, -1.000000, -1.000000, -1.000000, -1.000000, -1.000000
Image Width : 400
Image Height : 309
Bits Per Sample : 8
Color Components : 3
Image Size : 400x309
Megapixels : 0.124
Modify Date : 2024:10:30 14:35:30-05:00