Uber Exif Photo
By-line : Lukas Vangheluwe
Copyright Notice : Lukas Vangheluwe
Make : Leica Camera AG
Camera Model Name : Leica M10-P
Software : Adobe Photoshop Lightroom Classic 11.2 (Macintosh)
Modify Date : 2022:05:03 16:45:34
Artist : Lukas Vangheluwe
Copyright : Lukas Vangheluwe
Exposure Time : 1/500
F Number : 1.4
Exposure Program : Aperture-priority AE
ISO : 200
Date/Time Original : 2022:05:02 14:13:23
Create Date : 2022:05:02 14:13:23
Shutter Speed Value : 1/500
Aperture Value : 1.4
Exposure Compensation : -2/3
Max Aperture Value : 1.4
Metering Mode : Center-weighted average
Light Source : Daylight
Flash : No Flash
Focal Length : 50.0 mm
User Comment : Photo information: ..Film type: . ..Lens serial number: 7040766..
Color Space : Uncalibrated
Scene Type : Directly photographed
Custom Rendered : Normal
Exposure Mode : Auto
White Balance : Manual
Digital Zoom Ratio : 0
Scene Capture Type : Standard
Contrast : Normal
Saturation : Normal
Sharpness : Normal
Serial Number : 5324311
Lens Info : 50mm f/1.4
Lens Make : Leica Camera AG
Lens Model : Nokton 50mm f1.5
Profile Description : Adobe RGB (1998)
Rating : 2
Creator Tool : Adobe Photoshop Lightroom Classic 11.2 (Macintosh)
Format : image/jpeg
Correction Already Applied : False
Pitch Angle : 2.5000000000
Roll Angle : -0.5000000000
Focal Length 35mm : 50.0000000000
Target Aspect Ratio : 1.5000000000
Scaling Factor Height : 0.9842394590
Valid Crop Corners : True
Apply Automatically : False
Lens : Nokton 50mm f1.5
Approximate Focus Distance : 0.99
Camera Serial Number : 5324311
Flash Manufacturer :
Flash Model : Lens Manufacturer : Voigtlander
Film Type : Lens Serial Number : 7040766
Date Created : 2022:05:02 14:13:23
Preserved File Name : L1001703.DNG
Version : 14.2
Process Version : 11.0
Color Temperature : 5450
Tint : +13
Exposure 2012 : +2.60
Contrast 2012 : 0
Highlights 2012 : -100
Shadows 2012 : 0
Whites 2012 : 0
Blacks 2012 : 0
Texture : 0
Clarity 2012 : 0
Dehaze : 0
Parametric Shadows : 0
Parametric Darks : 0
Parametric Lights : 0
Parametric Highlights : 0
Parametric Shadow Split : 25
Parametric Midtone Split : 50
Parametric Highlight Split : 75
Sharpen Radius : +1.0
Sharpen Detail : 25
Sharpen Edge Masking : 0
Luminance Smoothing : 5
Luminance Noise Reduction Detail : 50
Luminance Noise Reduction Contrast : 0
Color Noise Reduction : 25
Color Noise Reduction Detail : 50
Color Noise Reduction Smoothness : 50
Gray Mixer Red : 0
Gray Mixer Orange : 0
Gray Mixer Yellow : 0
Gray Mixer Green : 0
Gray Mixer Aqua : 0
Gray Mixer Blue : 0
Gray Mixer Purple : 0
Gray Mixer Magenta : 0
Split Toning Shadow Hue : 0
Split Toning Shadow Saturation : 0
Split Toning Highlight Hue : 0
Split Toning Highlight Saturation : 0
Split Toning Balance : 0
Color Grade Midtone Hue : 0
Color Grade Midtone Sat : 0
Color Grade Shadow Lum : 0
Color Grade Midtone Lum : 0
Color Grade Highlight Lum : 0
Color Grade Blending : 50
Color Grade Global Hue : 0
Color Grade Global Sat : 0
Color Grade Global Lum : 0
Auto Lateral CA : 0
Lens Profile Enable : 0
Lens Manual Distortion Amount : 0
Vignette Amount : 0
Perspective Upright : Off
Perspective Vertical : 0
Perspective Horizontal : 0
Perspective Rotate : 0.0
Perspective Aspect : 0
Perspective Scale : 100
Perspective X : 0.00
Perspective Y : 0.00
Grain Amount : 0
Post Crop Vignette Amount : 0
Shadow Tint : 0
Red Hue : 0
Red Saturation : 0
Green Hue : 0
Green Saturation : 0
Blue Hue : 0
Blue Saturation : 0
Override Look Vignette : False
Tone Curve Name 2012 : Linear
Camera Profile : Adobe Standard
Has Settings : True
Already Applied : True
Creator : Lukas Vangheluwe
Rights : Lukas Vangheluwe
Normalized Crop Corners : 0.0158585049, 0.0002075926, 0.9898828268, 0.0129578644, 0.9943023324, 0.9961742163, 0.0000000000, 0.9831584692
Tone Curve PV2012 : 0, 0, 255, 255
Tone Curve PV2012 Red : 0, 0, 255, 255
Tone Curve PV2012 Green : 0, 0, 255, 255
Tone Curve PV2012 Blue : 0, 0, 255, 255
Look Name : Adobe Monochrome
Look Amount : 1
Look Supports Amount : false
Look Supports Monochrome : false
Look Supports Output Referred : false
Look Group : Profiles
Look Parameters Version : 14.2
Look Parameters Process Version : 11.0
Look Parameters Clarity 2012 : +8
Look Parameters Convert To Grayscale : True
Look Parameters Camera Profile : Adobe Standard
Look Parameters Look Table : 73ED6C18DDE909DD7EA2D771F5AC282D
Look Parameters Tone Curve PV2012 : 0, 0, 64, 56, 128, 128, 192, 197, 255, 255
Look Parameters Tone Curve PV2012 Red : 0, 0, 255, 255
Look Parameters Tone Curve PV2012 Green : 0, 0, 255, 255
Look Parameters Tone Curve PV2012 Blue : 0, 0, 255, 255
Image Width : 400
Image Height : 267
Bits Per Sample : 8
Color Components : 1
Aperture : 1.4
Image Size : 400x267
Megapixels : 0.107
Scale Factor To 35 mm Equivalent : 14.9
Shutter Speed : 1/500
Modify Date : 2022:05:03 16:45:34+02:00
Circle Of Confusion : 0.002 mm
Depth Of Field : 0.002 m (0.989 - 0.991 m)
Field Of View : 2.8 deg
Focal Length : 50.0 mm (35 mm equivalent: 743.7 mm)
Hyperfocal Distance : 884.01 m
Light Value : 8.9
Lens ID : Nokton 50mm f1.5