Uber Exif Photo
Make : Nikon
Camera Model Name : LS-50
Software : Adobe Photoshop Lightroom Classic 10.2 (Windows)
Modify Date : 2021:05:31 21:08:50
Create Date : 2021:05:29 08:58:03
Color Space : sRGB
Profile Description : sRGB IEC61966-2.1
Creator Tool : Adobe Photoshop Lightroom Classic 10.2 (Windows)
Rating : 4
Preserved File Name : 2021-05-29-0006.dng
Format : image/jpeg
Raw File Name : Version : 13.2
Process Version : 11.0
Exposure 2012 : -0.77
Contrast 2012 : 0
Highlights 2012 : +4
Shadows 2012 : -38
Whites 2012 : -59
Blacks 2012 : 0
Texture : 0
Clarity 2012 : 0
Dehaze : 0
Parametric Shadows : 0
Parametric Darks : 0
Parametric Lights : 0
Parametric Highlights : 0
Parametric Shadow Split : 25
Parametric Midtone Split : 50
Parametric Highlight Split : 75
Sharpness : 40
Sharpen Radius : +1.0
Sharpen Detail : 25
Sharpen Edge Masking : 0
Luminance Smoothing : 0
Split Toning Shadow Hue : 0
Split Toning Shadow Saturation : 0
Split Toning Highlight Hue : 0
Split Toning Highlight Saturation : 0
Split Toning Balance : 0
Color Grade Midtone Hue : 0
Color Grade Midtone Sat : 0
Color Grade Shadow Lum : 0
Color Grade Midtone Lum : 0
Color Grade Highlight Lum : 0
Color Grade Blending : 50
Color Grade Global Hue : 0
Color Grade Global Sat : 0
Color Grade Global Lum : 0
Lens Profile Enable : 0
Lens Manual Distortion Amount : 0
Vignette Amount : 0
Perspective Upright : Off
Perspective Vertical : 0
Perspective Horizontal : 0
Perspective Rotate : 0.0
Perspective Aspect : 0
Perspective Scale : 100
Perspective X : 0.00
Perspective Y : 0.00
Grain Amount : 0
Post Crop Vignette Amount : 0
Override Look Vignette : False
Tone Curve Name 2012 : Custom
Has Settings : True
Crop Top : 0.129261
Crop Left : 0.121659
Crop Bottom : 0.87642
Crop Right : 0.958525
Crop Angle : 0
Crop Constrain To Warp : 0
Has Crop : True
Already Applied : True
Tone Curve PV2012 : 0, 0, 58, 29, 235, 238, 255, 255
Tone Curve PV2012 Red : 0, 0, 255, 255
Tone Curve PV2012 Green : 0, 0, 255, 255
Tone Curve PV2012 Blue : 0, 0, 255, 255
Image Width : 250
Image Height : 145
Bits Per Sample : 8
Color Components : 1
Image Size : 250x145
Megapixels : 0.036
Modify Date : 2021:05:31 21:08:50+02:00