Uber Exif Photo
Make : Nikon
Camera Model Name : LS-50
Software : Adobe Photoshop Lightroom Classic 11.3.1 (Windows)
Modify Date : 2022:12:20 21:47:42
Create Date : 2022:11:13 14:48:53
Color Space : sRGB
Profile Description : sRGB IEC61966-2.1
Creator Tool : Adobe Photoshop Lightroom Classic 11.3.1 (Windows)
Rating : 5
Preserved File Name : raw0278.dng
Format : image/jpeg
Raw File Name : Version : 14.3
Process Version : 11.0
Exposure 2012 : 0.00
Contrast 2012 : 0
Highlights 2012 : 0
Shadows 2012 : +97
Whites 2012 : -35
Blacks 2012 : +38
Texture : 0
Clarity 2012 : 0
Dehaze : 0
Parametric Shadows : 0
Parametric Darks : 0
Parametric Lights : 0
Parametric Highlights : 0
Parametric Shadow Split : 25
Parametric Midtone Split : 50
Parametric Highlight Split : 75
Sharpness : 40
Sharpen Radius : +1.0
Sharpen Detail : 25
Sharpen Edge Masking : 0
Luminance Smoothing : 0
Split Toning Shadow Hue : 0
Split Toning Shadow Saturation : 0
Split Toning Highlight Hue : 0
Split Toning Highlight Saturation : 0
Split Toning Balance : 0
Color Grade Midtone Hue : 0
Color Grade Midtone Sat : 0
Color Grade Shadow Lum : 0
Color Grade Midtone Lum : 0
Color Grade Highlight Lum : 0
Color Grade Blending : 50
Color Grade Global Hue : 0
Color Grade Global Sat : 0
Color Grade Global Lum : 0
Lens Profile Enable : 0
Lens Manual Distortion Amount : 0
Vignette Amount : 0
Perspective Upright : Off
Perspective Vertical : 0
Perspective Horizontal : 0
Perspective Rotate : 0.0
Perspective Aspect : 0
Perspective Scale : 100
Perspective X : 0.00
Perspective Y : 0.00
Grain Amount : 0
Post Crop Vignette Amount : 0
Override Look Vignette : False
Tone Curve Name 2012 : Custom
Has Settings : True
Crop Top : 0
Crop Left : 0.049113
Crop Bottom : 0.974432
Crop Right : 0.967258
Crop Angle : 0
Crop Constrain To Warp : 0
Has Crop : True
Already Applied : True
Weighted Flat Subject : Aurora
Tone Curve PV2012 : 1, 4, 58, 37, 154, 158, 253, 249
Tone Curve PV2012 Red : 0, 0, 255, 255
Tone Curve PV2012 Green : 0, 0, 255, 255
Tone Curve PV2012 Blue : 0, 0, 255, 255
Image Width : 400
Image Height : 272
Bits Per Sample : 8
Color Components : 1
Image Size : 400x272
Megapixels : 0.109
Modify Date : 2022:12:20 21:47:42+01:00