Uber Exif Photo
Make : SIGMA
Camera Model Name : SIGMA DP3 Merrill
Software : Adobe Photoshop Lightroom 5.7 (Macintosh)
Modify Date : 2023:04:05 14:37:51
Copyright : Copyright 2012
Exposure Time : 1/1000
F Number : 2.8
Exposure Program : Aperture-priority AE
ISO : 200
Date/Time Original : 2023:04:05 13:51:32
Create Date : 2023:04:05 14:12:54
Shutter Speed Value : 1/1000
Aperture Value : 2.8
Exposure Compensation : -1
Max Aperture Value : 2.8
Metering Mode : Multi-segment
Flash : No Flash
Focal Length : 50.0 mm
Color Space : sRGB
Sensing Method : One-chip color area
Custom Rendered : Custom
Exposure Mode : Auto
White Balance : Auto
Focal Length In 35mm Format : 75 mm
Scene Capture Type : Standard
Copyright Notice : Copyright 2012
Format : image/jpeg
Rights : Copyright 2012
Saturation : Normal
Sharpness : Normal
Date Created : 2023:04:05 13:51:32
Creator Tool : Adobe Photoshop Lightroom 5.7 (Macintosh)
Already Applied : True
Blue Hue : 0
Blue Saturation : 0
Camera Profile : Embedded
Color Noise Reduction : 0
Convert To Grayscale : False
Crop Angle : 0
Crop Bottom : 0.719508
Crop Constrain To Warp : 0
Crop Left : 0.136201
Crop Right : 0.988951
Crop Top : 0
Grain Amount : 0
Green Hue : 0
Green Saturation : 0
Has Crop : True
Has Settings : True
Hue Adjustment Aqua : 0
Hue Adjustment Blue : 0
Hue Adjustment Green : 0
Hue Adjustment Magenta : 0
Hue Adjustment Orange : 0
Hue Adjustment Purple : 0
Hue Adjustment Red : 0
Hue Adjustment Yellow : 0
Incremental Temperature : 0
Incremental Tint : 0
Lens Manual Distortion Amount : 0
Lens Profile Enable : 0
Lens Profile Setup : LensDefaults
Luminance Adjustment Aqua : 0
Luminance Adjustment Blue : 0
Luminance Adjustment Green : 0
Luminance Adjustment Magenta : 0
Luminance Adjustment Orange : 0
Luminance Adjustment Purple : 0
Luminance Adjustment Red : 0
Luminance Adjustment Yellow : 0
Luminance Smoothing : 0
Parametric Darks : 0
Parametric Highlight Split : 75
Parametric Highlights : 0
Parametric Lights : 0
Parametric Midtone Split : 50
Parametric Shadow Split : 25
Parametric Shadows : 0
Perspective Horizontal : 0
Perspective Rotate : 0.0
Perspective Scale : 100
Perspective Vertical : 0
Post Crop Vignette Amount : -60
Post Crop Vignette Feather : 100
Post Crop Vignette Midpoint : 24
Post Crop Vignette Roundness : -63
Post Crop Vignette Style : Highlight Priority
Process Version : 6.7
Red Hue : 0
Red Saturation : 0
Saturation Adjustment Aqua : 0
Saturation Adjustment Blue : 0
Saturation Adjustment Green : 0
Saturation Adjustment Magenta : 0
Saturation Adjustment Orange : 0
Saturation Adjustment Purple : 0
Saturation Adjustment Red : 0
Saturation Adjustment Yellow : 0
Shadow Tint : 0
Sharpen Detail : 25
Sharpen Edge Masking : 0
Sharpen Radius : +1.0
Split Toning Balance : 0
Split Toning Highlight Hue : 0
Split Toning Highlight Saturation : 0
Split Toning Shadow Hue : 0
Split Toning Shadow Saturation : 0
Tone Curve : 0, 0, 255, 255
Tone Curve Name : Linear
Version : 8.7
Vibrance : +10
Vignette Amount : 0
Profile Description : sRGB IEC61966-2.1
Image Width : 400
Image Height : 228
Bits Per Sample : 8
Color Components : 3
Aperture : 2.8
Image Size : 400x228
Megapixels : 0.091
Scale Factor To 35 mm Equivalent : 1.5
Shutter Speed : 1/1000
Circle Of Confusion : 0.020 mm
Field Of View : 27.0 deg
Focal Length : 50.0 mm (35 mm equivalent: 75.0 mm)
Hyperfocal Distance : 44.57 m
Light Value : 11.9