Uber Exif Photo
Keywords : GRIII, Juneteenth, Olivia Boyd, Ricoh, beekeeping
Make : RICOH IMAGING COMPANY, LTD.
Camera Model Name : RICOH GR III
Software : Adobe Photoshop Lightroom Classic 10.1.1 (Macintosh)
Modify Date : 2021:04:29 10:40:09
Exposure Time : 1/640
F Number : 2.8
Exposure Program : Manual
ISO : 250
Sensitivity Type : Standard Output Sensitivity
Standard Output Sensitivity : 250
Date/Time Original : 2021:04:23 13:57:37
Create Date : 2021:04:23 13:57:37
Shutter Speed Value : 1/640
Aperture Value : 2.8
Exposure Compensation : 0
Metering Mode : Spot
Flash : Off, Did not fire
Focal Length : 18.3 mm
Color Space : sRGB
Exif Image Width : 1800
Exif Image Height : 1200
Sensing Method : One-chip color area
Custom Rendered : Custom
Exposure Mode : Manual
White Balance : Manual
Focal Length In 35mm Format : 28 mm
Scene Capture Type : Standard
Contrast : Normal
Saturation : Normal
Sharpness : Normal
Subject Distance Range : Macro
Profile Description : sRGB IEC61966-2.1
Creator Tool : Adobe Photoshop Lightroom Classic 10.1.1 (Macintosh)
Date Created : 2021:04:23 13:57:37
Preserved File Name : R0001214.DNG
Format : image/jpeg
Version : 13.1
Process Version : 11.0
Color Temperature : 7045
Tint : 0
Exposure 2012 : 0.00
Contrast 2012 : -24
Highlights 2012 : -1
Shadows 2012 : +47
Whites 2012 : 0
Blacks 2012 : 0
Texture : 0
Clarity 2012 : 0
Dehaze : +27
Parametric Shadows : 0
Parametric Darks : 0
Parametric Lights : 0
Parametric Highlights : 0
Parametric Shadow Split : 25
Parametric Midtone Split : 50
Parametric Highlight Split : 75
Sharpen Radius : +1.0
Sharpen Detail : 25
Sharpen Edge Masking : 0
Luminance Smoothing : 0
Color Noise Reduction : 25
Color Noise Reduction Detail : 50
Color Noise Reduction Smoothness : 50
Gray Mixer Red : 0
Gray Mixer Orange : 0
Gray Mixer Yellow : 0
Gray Mixer Green : 0
Gray Mixer Aqua : 0
Gray Mixer Blue : 0
Gray Mixer Purple : 0
Gray Mixer Magenta : 0
Split Toning Shadow Hue : 0
Split Toning Shadow Saturation : 0
Split Toning Highlight Hue : 0
Split Toning Highlight Saturation : 0
Split Toning Balance : 0
Color Grade Midtone Hue : 0
Color Grade Midtone Sat : 0
Color Grade Shadow Lum : 0
Color Grade Midtone Lum : 0
Color Grade Highlight Lum : 0
Color Grade Blending : 50
Color Grade Global Hue : 0
Color Grade Global Sat : 0
Color Grade Global Lum : 0
Auto Lateral CA : 0
Lens Profile Enable : 0
Lens Manual Distortion Amount : 0
Vignette Amount : 0
Perspective Upright : Off
Perspective Vertical : 0
Perspective Horizontal : 0
Perspective Rotate : 0.0
Perspective Aspect : 0
Perspective Scale : 100
Perspective X : 0.00
Perspective Y : 0.00
Grain Amount : 0
Post Crop Vignette Amount : 0
Shadow Tint : 0
Red Hue : 0
Red Saturation : 0
Green Hue : 0
Green Saturation : 0
Blue Hue : 0
Blue Saturation : 0
Override Look Vignette : False
Tone Curve Name 2012 : Linear
Camera Profile : Adobe Standard
Has Settings : True
Already Applied : True
Subject : GRIII, Juneteenth, Olivia Boyd, Ricoh, beekeeping
Tone Curve PV2012 : 0, 0, 255, 255
Tone Curve PV2012 Red : 0, 0, 255, 255
Tone Curve PV2012 Green : 0, 0, 255, 255
Tone Curve PV2012 Blue : 0, 0, 255, 255
Circ Grad Based Corr Range Mask Version : +2, +2
Circ Grad Based Corr Range Mask Type : 0, 0
Circ Grad Based Corr Range Mask Color Amount : 0.500000, 0.500000
Circ Grad Based Corr Range Mask Lum Min : 0.000000, 0.000000
Circ Grad Based Corr Range Mask Lum Max : 1.000000, 1.000000
Circ Grad Based Corr Range Mask Lum Feather : 0.500000, 0.500000
Circ Grad Based Corr Range Mask Depth Min : 0.000000, 0.000000
Circ Grad Based Corr Range Mask Depth Max : 1.000000, 1.000000
Circ Grad Based Corr Range Mask Depth Feather : 0.500000, 0.500000
Circ Grad Based Corr What : Correction
Circ Grad Based Corr Amount : 1.000000
Circ Grad Based Corr Active : true
Circ Grad Based Corr Exposure : 0.000000
Circ Grad Based Corr Hue : 0.000000
Circ Grad Based Corr Saturation : 0.018185
Circ Grad Based Corr Contrast : 0.000000
Circ Grad Based Corr Clarity : 0.000000
Circ Grad Based Corr Sharpness : 0.020339
Circ Grad Based Corr Brightness : 0.000000
Circ Grad Based Corr Toning Hue : 239.000000
Circ Grad Based Corr Toning Saturation : 0.000000
Circ Grad Based Corr Exposure 2012 : 0.214677
Circ Grad Based Corr Contrast 2012 : 0.236345
Circ Grad Based Corr Highlights 2012 : -0.282826
Circ Grad Based Corr Shadows 2012 : -0.257025
Circ Grad Based Corr Whites 2012 : -0.035058
Circ Grad Based Corr Blacks 2012 : 0.031644
Circ Grad Based Corr Clarity 2012 : 0.009615
Circ Grad Based Corr Dehaze : 0.014156
Circ Grad Based Corr Luminance Noise : 0.000000
Circ Grad Based Corr Moire : 0.000000
Circ Grad Based Corr Defringe : 0.000000
Circ Grad Based Corr Temperature : -0.018790
Circ Grad Based Corr Tint : 0.000000
Circ Grad Based Corr Texture : 0.063101
Circ Grad Based Corr Mask What : Mask/CircularGradient
Circ Grad Based Corr Mask Value : 1.000000
Circ Grad Based Corr Mask Top : 0.382180
Circ Grad Based Corr Mask Left : 0.166169
Circ Grad Based Corr Mask Bottom : 0.417705
Circ Grad Based Corr Mask Right : 0.460798
Circ Grad Based Corr Mask Angle : -4.447920
Circ Grad Based Corr Mask Midpoint : +50
Circ Grad Based Corr Mask Roundness : 0
Circ Grad Based Corr Mask Feather : +50
Circ Grad Based Corr Mask Flipped : true
Circ Grad Based Corr Mask Version : +2
Look Name : Adobe Monochrome
Look Amount : 1.000000
Look Supports Amount : false
Look Supports Monochrome : false
Look Supports Output Referred : false
Look Group : Profiles
Look Parameters Version : 13.1
Look Parameters Process Version : 11.0
Look Parameters Clarity 2012 : +8
Look Parameters Convert To Grayscale : True
Look Parameters Camera Profile : Adobe Standard
Look Parameters Look Table : 73ED6C18DDE909DD7EA2D771F5AC282D
Look Parameters Tone Curve PV2012 : 0, 0, 64, 56, 128, 128, 192, 197, 255, 255
Look Parameters Tone Curve PV2012 Red : 0, 0, 255, 255
Look Parameters Tone Curve PV2012 Green : 0, 0, 255, 255
Look Parameters Tone Curve PV2012 Blue : 0, 0, 255, 255
Image Width : 250
Image Height : 167
Bits Per Sample : 8
Color Components : 1
Aperture : 2.8
Image Size : 250x167
Megapixels : 0.042
Scale Factor To 35 mm Equivalent : 1.5
Shutter Speed : 1/640
Modify Date : 2021:04:29 10:40:09-04:00
Circle Of Confusion : 0.020 mm
Field Of View : 65.5 deg
Focal Length : 18.3 mm (35 mm equivalent: 28.0 mm)
Hyperfocal Distance : 6.09 m
Light Value : 11.0