Uber Exif Photo
Keywords : 45 Seiko, Bronica RF, SFO
By-line : Only the Best :-))
Caption-Abstract : Autosave-File vom d-lab2/3 der AgfaPhoto GmbH
Image Description : Autosave-File vom d-lab2/3 der AgfaPhoto GmbH
Make : AgfaPhoto GmbH
Camera Model Name : d-lab.2/3
Software : Adobe Lightroom 5.3.1 (iOS)
Modify Date : 2020:07:11 18:39:17
Artist : Only the Best :-))
Color Space : sRGB
Exif Image Width : 1498
Exif Image Height : 2148
Scene Capture Type : Standard
Profile Description : sRGB IEC61966-2.1
Creator Tool : Adobe Lightroom 5.3.1 (iOS)
Format : image/jpeg
Raw File Name : Version : 12.3
Process Version : 11.0
White Balance : As Shot
Incremental Temperature : 0
Incremental Tint : 0
Saturation : +3
Sharpness : 0
Luminance Smoothing : 0
Color Noise Reduction : 0
Vignette Amount : 0
Shadow Tint : 0
Red Hue : 0
Red Saturation : 0
Green Hue : 0
Green Saturation : 0
Blue Hue : 0
Blue Saturation : 0
Vibrance : +20
Hue Adjustment Red : 0
Hue Adjustment Orange : 0
Hue Adjustment Yellow : 0
Hue Adjustment Green : 0
Hue Adjustment Aqua : 0
Hue Adjustment Blue : 0
Hue Adjustment Purple : 0
Hue Adjustment Magenta : 0
Saturation Adjustment Red : 0
Saturation Adjustment Orange : 0
Saturation Adjustment Yellow : 0
Saturation Adjustment Green : 0
Saturation Adjustment Aqua : 0
Saturation Adjustment Blue : 0
Saturation Adjustment Purple : 0
Saturation Adjustment Magenta : 0
Luminance Adjustment Red : 0
Luminance Adjustment Orange : 0
Luminance Adjustment Yellow : 0
Luminance Adjustment Green : 0
Luminance Adjustment Aqua : 0
Luminance Adjustment Blue : 0
Luminance Adjustment Purple : 0
Luminance Adjustment Magenta : 0
Split Toning Shadow Hue : 0
Split Toning Shadow Saturation : 0
Split Toning Highlight Hue : 0
Split Toning Highlight Saturation : 0
Split Toning Balance : 0
Parametric Shadows : 0
Parametric Darks : 0
Parametric Lights : 0
Parametric Highlights : 0
Parametric Shadow Split : 25
Parametric Midtone Split : 50
Parametric Highlight Split : 75
Sharpen Radius : +1.0
Sharpen Detail : 25
Sharpen Edge Masking : 0
Post Crop Vignette Amount : 0
Grain Amount : 0
Lens Profile Enable : 0
Lens Manual Distortion Amount : 0
Perspective Vertical : +11
Perspective Horizontal : 0
Perspective Rotate : 0.0
Perspective Scale : 100
Perspective Aspect : 0
Perspective Upright : Off
Perspective X : 0.00
Perspective Y : 0.00
Auto Lateral CA : 0
Exposure 2012 : +0.29
Contrast 2012 : +6
Highlights 2012 : -33
Shadows 2012 : +20
Whites 2012 : +18
Blacks 2012 : -3
Clarity 2012 : 0
Defringe Purple Amount : 0
Defringe Purple Hue Lo : 30
Defringe Purple Hue Hi : 70
Defringe Green Amount : 0
Defringe Green Hue Lo : 40
Defringe Green Hue Hi : 60
Dehaze : 0
Texture : 0
Tone Map Strength : 0
Convert To Grayscale : False
Override Look Vignette : False
Tone Curve Name : Linear
Tone Curve Name 2012 : Linear
Camera Profile : Embedded
Lens Profile Setup : LensDefaults
Has Settings : True
Crop Top : 0.041019
Crop Left : 0.020509
Crop Bottom : 1
Crop Right : 0.979491
Crop Angle : 0
Crop Constrain To Warp : 0
Has Crop : True
Already Applied : True
Creator : Only the Best :-))
Description : Autosave-File vom d-lab2/3 der AgfaPhoto GmbH
Subject : 45 Seiko, Bronica RF, SFO
Tone Curve : 0, 0, 255, 255
Tone Curve Red : 0, 0, 255, 255
Tone Curve Green : 0, 0, 255, 255
Tone Curve Blue : 0, 0, 255, 255
Tone Curve PV2012 : 0, 0, 255, 255
Tone Curve PV2012 Red : 0, 0, 255, 255
Tone Curve PV2012 Green : 0, 0, 255, 255
Tone Curve PV2012 Blue : 0, 0, 255, 255
Look Name : Image Width : 250
Image Height : 358
Bits Per Sample : 8
Color Components : 1
Image Size : 250x358
Megapixels : 0.089
Modify Date : 2020:07:11 18:39:17-04:00