Uber Exif Photo
Keywords : 100 serenar, 15 Heliar
Make : RICOH
Camera Model Name : GXR MOUNT A12
Software : Adobe Photoshop Lightroom Classic 8.1 (Macintosh)
Modify Date : 2019:10:22 16:44:44
Exposure Time : 1/80
F Number : 1.0
Exposure Program : Manual
ISO : 400
Date/Time Original : 2012:11:16 15:07:05
Create Date : 2012:11:16 15:07:05
Shutter Speed Value : 1/80
Aperture Value : 1.0
Brightness Value : 0
Exposure Compensation : 0
Max Aperture Value : 1.0
Metering Mode : Spot
Light Source : Daylight
Flash : Off, Did not fire
Color Space : sRGB
Exposure Mode : Manual
White Balance : Manual
Scene Capture Type : Standard
Sharpness : Hard
Profile Description : sRGB IEC61966-2.1
Creator Tool : Adobe Photoshop Lightroom Classic 8.1 (Macintosh)
Format : image/jpeg
Photographic Sensitivity : 400
Date Created : 2012:11:16 15:07:05
Version : 11.1
Process Version : 11.0
Color Temperature : 7199
Tint : -3
Luminance Smoothing : 0
Color Noise Reduction : 19
Vignette Amount : 0
Shadow Tint : 0
Red Hue : 0
Red Saturation : 0
Green Hue : 0
Green Saturation : 0
Blue Hue : 0
Blue Saturation : 0
Gray Mixer Red : +28
Gray Mixer Orange : +46
Gray Mixer Yellow : +53
Gray Mixer Green : +32
Gray Mixer Aqua : +41
Gray Mixer Blue : +25
Gray Mixer Purple : +7
Gray Mixer Magenta : 0
Split Toning Shadow Hue : 0
Split Toning Shadow Saturation : 0
Split Toning Highlight Hue : 0
Split Toning Highlight Saturation : 0
Split Toning Balance : 0
Parametric Shadows : +27
Parametric Darks : 0
Parametric Lights : 0
Parametric Highlights : -37
Parametric Shadow Split : 25
Parametric Midtone Split : 50
Parametric Highlight Split : 75
Sharpen Radius : +1.0
Sharpen Detail : 25
Sharpen Edge Masking : 0
Post Crop Vignette Amount : 0
Grain Amount : 0
Color Noise Reduction Detail : 50
Color Noise Reduction Smoothness : 50
Lens Profile Enable : 0
Lens Manual Distortion Amount : 0
Perspective Vertical : -25
Perspective Horizontal : 0
Perspective Rotate : 0.0
Perspective Scale : 100
Perspective Aspect : 0
Perspective Upright : Off
Perspective X : 0.00
Perspective Y : 0.00
Auto Lateral CA : 0
Exposure 2012 : +1.25
Contrast 2012 : -20
Highlights 2012 : -51
Shadows 2012 : +33
Whites 2012 : 0
Blacks 2012 : 0
Clarity 2012 : +17
Dehaze : +68
Tone Map Strength : 0
Convert To Grayscale : True
Override Look Vignette : False
Tone Curve Name : Medium Contrast
Tone Curve Name 2012 : Linear
Camera Profile : Adobe Standard
Lens Profile Setup : LensDefaults
Has Settings : True
Crop Top : 0.119448
Crop Left : 0.073195
Crop Bottom : 0.965924
Crop Right : 0.919671
Crop Angle : 0
Crop Constrain To Warp : 0
Has Crop : True
Already Applied : True
Subject : 100 serenar, 15 Heliar
Tone Curve : 0, 0, 32, 22, 64, 56, 128, 128, 192, 196, 255, 255
Tone Curve Red : 0, 0, 255, 255
Tone Curve Green : 0, 0, 255, 255
Tone Curve Blue : 0, 0, 255, 255
Tone Curve PV2012 : 0, 0, 255, 255
Tone Curve PV2012 Red : 0, 0, 255, 255
Tone Curve PV2012 Green : 0, 0, 255, 255
Tone Curve PV2012 Blue : 0, 0, 255, 255
Look Name : Adobe Monochrome
Look Amount : 1.000000
Look Supports Amount : false
Look Supports Monochrome : false
Look Supports Output Referred : false
Look Group : Profiles
Look Parameters Version : 11.1
Look Parameters Process Version : 11.0
Look Parameters Clarity 2012 : +8
Look Parameters Convert To Grayscale : True
Look Parameters Camera Profile : Adobe Standard
Look Parameters Look Table : 73ED6C18DDE909DD7EA2D771F5AC282D
Look Parameters Tone Curve PV2012 : 0, 0, 64, 56, 128, 128, 192, 197, 255, 255
Look Parameters Tone Curve PV2012 Red : 0, 0, 255, 255
Look Parameters Tone Curve PV2012 Green : 0, 0, 255, 255
Look Parameters Tone Curve PV2012 Blue : 0, 0, 255, 255
Saved Settings Name : Import
Saved Settings Type : Snapshot
Saved Settings Parameters Version : 11.1
Saved Settings Parameters Process Version : 5.0
Saved Settings Parameters White Balance : As Shot
Saved Settings Parameters Auto Exposure : False
Saved Settings Parameters Exposure : 0.00
Saved Settings Parameters Auto Shadows : False
Saved Settings Parameters Shadows : 5
Saved Settings Parameters Auto Brightness : False
Saved Settings Parameters Brightness : +50
Saved Settings Parameters Auto Contrast : False
Saved Settings Parameters Contrast : +25
Saved Settings Parameters Saturation : 0
Saved Settings Parameters Sharpness : 25
Saved Settings Parameters Luminance Smoothing : 0
Saved Settings Parameters Color Noise Reduction : 25
Saved Settings Parameters Chromatic Aberration R : 0
Saved Settings Parameters Chromatic Aberration B : 0
Saved Settings Parameters Vignette Amount : 0
Saved Settings Parameters Vignette Midpoint : 50
Saved Settings Parameters Shadow Tint : 0
Saved Settings Parameters Red Hue : 0
Saved Settings Parameters Red Saturation : 0
Saved Settings Parameters Green Hue : 0
Saved Settings Parameters Green Saturation : 0
Saved Settings Parameters Blue Hue : 0
Saved Settings Parameters Blue Saturation : 0
Saved Settings Parameters Fill Light : 0
Saved Settings Parameters Vibrance : 0
Saved Settings Parameters Highlight Recovery : 0
Saved Settings Parameters Clarity : 0
Saved Settings Parameters Defringe : 0
Saved Settings Parameters Hue Adjustment Red : 0
Saved Settings Parameters Hue Adjustment Orange : 0
Saved Settings Parameters Hue Adjustment Yellow : 0
Saved Settings Parameters Hue Adjustment Green : 0
Saved Settings Parameters Hue Adjustment Aqua : 0
Saved Settings Parameters Hue Adjustment Blue : 0
Saved Settings Parameters Hue Adjustment Purple : 0
Saved Settings Parameters Hue Adjustment Magenta : 0
Saved Settings Parameters Saturation Adjustment Red : 0
Saved Settings Parameters Saturation Adjustment Orange : 0
Saved Settings Parameters Saturation Adjustment Yellow : 0
Saved Settings Parameters Saturation Adjustment Green : 0
Saved Settings Parameters Saturation Adjustment Aqua : 0
Saved Settings Parameters Saturation Adjustment Blue : 0
Saved Settings Parameters Saturation Adjustment Purple : 0
Saved Settings Parameters Saturation Adjustment Magenta : 0
Saved Settings Parameters Luminance Adjustment Red : 0
Saved Settings Parameters Luminance Adjustment Orange : 0
Saved Settings Parameters Luminance Adjustment Yellow : 0
Saved Settings Parameters Luminance Adjustment Green : 0
Saved Settings Parameters Luminance Adjustment Aqua : 0
Saved Settings Parameters Luminance Adjustment Blue : 0
Saved Settings Parameters Luminance Adjustment Purple : 0
Saved Settings Parameters Luminance Adjustment Magenta : 0
Saved Settings Parameters Split Toning Shadow Hue : 0
Saved Settings Parameters Split Toning Shadow Saturation : 0
Saved Settings Parameters Split Toning Highlight Hue : 0
Saved Settings Parameters Split Toning Highlight Saturation : 0
Saved Settings Parameters Split Toning Balance : 0
Saved Settings Parameters Parametric Shadows : 0
Saved Settings Parameters Parametric Darks : 0
Saved Settings Parameters Parametric Lights : 0
Saved Settings Parameters Parametric Highlights : 0
Saved Settings Parameters Parametric Shadow Split : 25
Saved Settings Parameters Parametric Midtone Split : 50
Saved Settings Parameters Parametric Highlight Split : 75
Saved Settings Parameters Sharpen Radius : +1.0
Saved Settings Parameters Sharpen Detail : 25
Saved Settings Parameters Sharpen Edge Masking : 0
Saved Settings Parameters Post Crop Vignette Amount : 0
Saved Settings Parameters Post Crop Vignette Midpoint : 50
Saved Settings Parameters Post Crop Vignette Feather : 50
Saved Settings Parameters Post Crop Vignette Roundness : 0
Saved Settings Parameters Post Crop Vignette Style : 3
Saved Settings Parameters Post Crop Vignette Highlight Contrast : 0
Saved Settings Parameters Grain Amount : 0
Saved Settings Parameters Grain Size : 25
Saved Settings Parameters Grain Frequency : 50
Saved Settings Parameters Luminance Noise Reduction Detail : 50
Saved Settings Parameters Color Noise Reduction Detail : 50
Saved Settings Parameters Luminance Noise Reduction Contrast : 0
Saved Settings Parameters Color Noise Reduction Smoothness : 50
Saved Settings Parameters Lens Profile Enable : 0
Saved Settings Parameters Lens Manual Distortion Amount : 0
Saved Settings Parameters Perspective Vertical : 0
Saved Settings Parameters Perspective Horizontal : 0
Saved Settings Parameters Perspective Rotate : 0.0
Saved Settings Parameters Perspective Scale : 100
Saved Settings Parameters Perspective Aspect : 0
Saved Settings Parameters Perspective Upright : 0
Saved Settings Parameters Perspective X : 0.00
Saved Settings Parameters Perspective Y : 0.00
Saved Settings Parameters Auto Lateral CA : 0
Saved Settings Parameters Exposure 2012 : 0.00
Saved Settings Parameters Contrast 2012 : 0
Saved Settings Parameters Highlights 2012 : 0
Saved Settings Parameters Shadows 2012 : 0
Saved Settings Parameters Whites 2012 : 0
Saved Settings Parameters Blacks 2012 : 0
Saved Settings Parameters Clarity 2012 : 0
Saved Settings Parameters Defringe Purple Amount : 0
Saved Settings Parameters Defringe Purple Hue Lo : 30
Saved Settings Parameters Defringe Purple Hue Hi : 70
Saved Settings Parameters Defringe Green Amount : 0
Saved Settings Parameters Defringe Green Hue Lo : 40
Saved Settings Parameters Defringe Green Hue Hi : 60
Saved Settings Parameters Dehaze : 0
Saved Settings Parameters Tone Map Strength : 0
Saved Settings Parameters Convert To Grayscale : False
Saved Settings Parameters Auto Grayscale Mix : True
Saved Settings Parameters Auto Tone : False
Saved Settings Parameters Override Look Vignette : False
Saved Settings Parameters Enable Tone Curve : True
Saved Settings Parameters Enable Split Toning : True
Saved Settings Parameters Enable Grayscale Mix : True
Saved Settings Parameters Enable Color Adjustments : True
Saved Settings Parameters Enable Detail : True
Saved Settings Parameters Enable Lens Corrections : True
Saved Settings Parameters Enable Transform : True
Saved Settings Parameters Enable Effects : True
Saved Settings Parameters Enable Calibration : True
Saved Settings Parameters Enable Retouch : True
Saved Settings Parameters Enable Red Eye : True
Saved Settings Parameters Enable Paint Based Corrections : True
Saved Settings Parameters Enable Gradient Based Corrections : True
Saved Settings Parameters Enable Circular Gradient Based Corrections : True
Saved Settings Parameters Tone Curve Name : Medium Contrast
Saved Settings Parameters Tone Curve Name 2012 : Linear
Saved Settings Parameters Camera Profile : Embedded
Saved Settings Parameters Lens Profile Setup : LensDefaults
Saved Settings Parameters Upright Version : 151388160
Saved Settings Parameters Upright Center Mode : 0
Saved Settings Parameters Upright Center Norm X : 0.5
Saved Settings Parameters Upright Center Norm Y : 0.5
Saved Settings Parameters Upright Focal Mode : 0
Saved Settings Parameters Upright Focal Length 35mm : 35
Saved Settings Parameters Upright Preview : False
Saved Settings Parameters Upright Transform Count : 6
Saved Settings Parameters Upright Four Segments Count : 0
Saved Settings Parameters Tone Curve : 0, 0, 32, 22, 64, 56, 128, 128, 192, 196, 255, 255
Saved Settings Parameters Tone Curve Red : 0, 0, 255, 255
Saved Settings Parameters Tone Curve Green : 0, 0, 255, 255
Saved Settings Parameters Tone Curve Blue : 0, 0, 255, 255
Saved Settings Parameters Tone Curve PV2012 : 0, 0, 255, 255
Saved Settings Parameters Tone Curve PV2012 Red : 0, 0, 255, 255
Saved Settings Parameters Tone Curve PV2012 Green : 0, 0, 255, 255
Saved Settings Parameters Tone Curve PV2012 Blue : 0, 0, 255, 255
Image Width : 250
Image Height : 166
Bits Per Sample : 8
Color Components : 1
Aperture : 1.0
Image Size : 250x166
Megapixels : 0.042
Shutter Speed : 1/80
Light Value : 4.3