Uber Exif Photo
Make : RICOH
Camera Model Name : GXR A12
Software : Adobe Photoshop Lightroom Classic 8.1 (Macintosh)
Modify Date : 2019:10:22 18:15:21
Exposure Time : 1/80
F Number : 2.5
Exposure Program : Manual
ISO : 2167
Date/Time Original : 2013:01:24 23:55:03
Create Date : 2013:01:24 23:55:03
Shutter Speed Value : 1/80
Aperture Value : 2.5
Brightness Value : -0.9
Exposure Compensation : 0
Max Aperture Value : 2.4
Metering Mode : Spot
Light Source : Unknown
Flash : Off, Did not fire
Focal Length : 33.0 mm
Color Space : sRGB
Exposure Mode : Manual
White Balance : Auto
Scene Capture Type : Standard
Sharpness : Normal
Lens Info : 33mm f/2.5
Lens Model : 33.0 mm f/2.5
Profile Description : sRGB IEC61966-2.1
Lens : 33.0 mm f/2.5
Creator Tool : Adobe Photoshop Lightroom Classic 8.1 (Macintosh)
Date Created : 2013:01:24 23:55:03
Format : image/jpeg
Photographic Sensitivity : 2167
Version : 11.1
Process Version : 11.0
Color Temperature : 2750
Tint : +21
Luminance Smoothing : 0
Color Noise Reduction : 25
Vignette Amount : 0
Shadow Tint : 0
Red Hue : 0
Red Saturation : 0
Green Hue : 0
Green Saturation : 0
Blue Hue : 0
Blue Saturation : 0
Gray Mixer Red : 0
Gray Mixer Orange : -35
Gray Mixer Yellow : 0
Gray Mixer Green : 0
Gray Mixer Aqua : 0
Gray Mixer Blue : 0
Gray Mixer Purple : 0
Gray Mixer Magenta : 0
Split Toning Shadow Hue : 0
Split Toning Shadow Saturation : 0
Split Toning Highlight Hue : 0
Split Toning Highlight Saturation : 0
Split Toning Balance : 0
Parametric Shadows : 0
Parametric Darks : 0
Parametric Lights : 0
Parametric Highlights : 0
Parametric Shadow Split : 25
Parametric Midtone Split : 50
Parametric Highlight Split : 75
Sharpen Radius : +1.0
Sharpen Detail : 25
Sharpen Edge Masking : 0
Post Crop Vignette Amount : 0
Grain Amount : 0
Color Noise Reduction Detail : 50
Color Noise Reduction Smoothness : 50
Lens Profile Enable : 0
Lens Manual Distortion Amount : 0
Perspective Vertical : 0
Perspective Horizontal : 0
Perspective Rotate : 0.0
Perspective Scale : 100
Perspective Aspect : 0
Perspective Upright : Off
Perspective X : 0.00
Perspective Y : 0.00
Auto Lateral CA : 0
Exposure 2012 : +0.30
Contrast 2012 : +47
Highlights 2012 : +43
Shadows 2012 : -53
Whites 2012 : 0
Blacks 2012 : 0
Clarity 2012 : +20
Dehaze : +47
Tone Map Strength : 0
Convert To Grayscale : True
Override Look Vignette : False
Tone Curve Name : Medium Contrast
Tone Curve Name 2012 : Linear
Camera Profile : Embedded
Lens Profile Setup : LensDefaults
Has Settings : True
Already Applied : True
Tone Curve : 0, 0, 32, 22, 64, 56, 128, 128, 192, 196, 255, 255
Tone Curve Red : 0, 0, 255, 255
Tone Curve Green : 0, 0, 255, 255
Tone Curve Blue : 0, 0, 255, 255
Tone Curve PV2012 : 0, 0, 255, 255
Tone Curve PV2012 Red : 0, 0, 255, 255
Tone Curve PV2012 Green : 0, 0, 255, 255
Tone Curve PV2012 Blue : 0, 0, 255, 255
Look Name : Default Grayscale
Look Amount : 1.000000
Look Supports Amount : false
Look Group : Profiles
Look Parameters Version : 11.1
Look Parameters Process Version : 11.0
Look Parameters Convert To Grayscale : True
Image Width : 250
Image Height : 166
Bits Per Sample : 8
Color Components : 1
Aperture : 2.5
Image Size : 250x166
Megapixels : 0.042
Shutter Speed : 1/80
Light Value : 4.5
Lens ID : 33.0mm f/2.5