Uber Exif Photo
Make : LEICA CAMERA AG
Camera Model Name : LEICA T (Typ 701)
Software : Adobe Photoshop Lightroom Classic 8.1 (Macintosh)
Modify Date : 2019:10:20 17:06:26
Exposure Time : 1/1600
Exposure Program : Manual
ISO : 200
Sensitivity Type : Standard Output Sensitivity
Shutter Speed Value : 1/1600
Exposure Compensation : 0
Max Aperture Value : 1.0
Metering Mode : Center-weighted average
Light Source : Unknown
Flash : Off, Did not fire
Lens Type : N/A
Original File Name : L1000025.DNG
Original Directory : 100LEICA
Focus Distance : 0 m
Exposure Mode : Manual
File Index : 25
Film Mode : Standard
WB RGB Levels : 0.384962406 1.001956947 0.635235732
Internal Serial Number : 000000000000
Color Space : sRGB
Sensing Method : One-chip color area
Custom Rendered : Normal
White Balance : Auto
Digital Zoom Ratio : 1
Scene Capture Type : Landscape
Contrast : Normal
Saturation : Normal
Sharpness : Normal
Serial Number : 000004923047
Lens Info : 35mm f/2.8
Lens Make : LEICA CAMERA AG
Lens Model : N/A
Lens Serial Number : N/A
GPS Status : Measurement Void
Maker Note Safety : Safe
Profile Description : sRGB IEC61966-2.1
Creator Tool : Adobe Photoshop Lightroom Classic 8.1 (Macintosh)
Lens : N/A
Format : image/jpeg
Version : 11.1
Process Version : 11.0
Color Temperature : 5250
Tint : +21
Luminance Smoothing : 0
Color Noise Reduction : 25
Vignette Amount : 0
Shadow Tint : 0
Red Hue : 0
Red Saturation : 0
Green Hue : 0
Green Saturation : 0
Blue Hue : 0
Blue Saturation : 0
Gray Mixer Red : -41
Gray Mixer Orange : +87
Gray Mixer Yellow : +58
Gray Mixer Green : +50
Gray Mixer Aqua : -49
Gray Mixer Blue : -48
Gray Mixer Purple : -81
Gray Mixer Magenta : -19
Split Toning Shadow Hue : 0
Split Toning Shadow Saturation : 0
Split Toning Highlight Hue : 0
Split Toning Highlight Saturation : 0
Split Toning Balance : 0
Parametric Shadows : -33
Parametric Darks : 0
Parametric Lights : -17
Parametric Highlights : +21
Parametric Shadow Split : 25
Parametric Midtone Split : 50
Parametric Highlight Split : 75
Sharpen Radius : +1.0
Sharpen Detail : 25
Sharpen Edge Masking : 0
Post Crop Vignette Amount : 0
Grain Amount : 0
Color Noise Reduction Detail : 50
Color Noise Reduction Smoothness : 50
Lens Profile Enable : 0
Lens Manual Distortion Amount : 0
Perspective Vertical : 0
Perspective Horizontal : 0
Perspective Rotate : 0.0
Perspective Scale : 100
Perspective Aspect : 0
Perspective Upright : Off
Perspective X : 0.00
Perspective Y : 0.00
Auto Lateral CA : 0
Exposure 2012 : +0.95
Contrast 2012 : -46
Highlights 2012 : -38
Shadows 2012 : +25
Whites 2012 : 0
Blacks 2012 : 0
Clarity 2012 : +26
Dehaze : +56
Tone Map Strength : 0
Convert To Grayscale : True
Override Look Vignette : False
Tone Curve Name : Medium Contrast
Tone Curve Name 2012 : Linear
Camera Profile : Adobe Standard
Lens Profile Setup : LensDefaults
Has Settings : True
Crop Top : 0.022209
Crop Left : 0.018727
Crop Bottom : 0.998395
Crop Right : 0.994913
Crop Angle : 0
Crop Constrain To Warp : 0
Has Crop : True
Already Applied : True
Tone Curve : 0, 0, 32, 22, 64, 56, 128, 128, 192, 196, 255, 255
Tone Curve Red : 0, 0, 255, 255
Tone Curve Green : 0, 0, 255, 255
Tone Curve Blue : 0, 0, 255, 255
Tone Curve PV2012 : 0, 0, 255, 255
Tone Curve PV2012 Red : 0, 0, 255, 255
Tone Curve PV2012 Green : 0, 0, 255, 255
Tone Curve PV2012 Blue : 0, 0, 255, 255
Look Name : Adobe Monochrome
Look Amount : 1.000000
Look Supports Amount : false
Look Supports Monochrome : false
Look Supports Output Referred : false
Look Group : Profiles
Look Parameters Version : 11.1
Look Parameters Process Version : 11.0
Look Parameters Clarity 2012 : +8
Look Parameters Convert To Grayscale : True
Look Parameters Camera Profile : Adobe Standard
Look Parameters Look Table : 73ED6C18DDE909DD7EA2D771F5AC282D
Look Parameters Tone Curve PV2012 : 0, 0, 64, 56, 128, 128, 192, 197, 255, 255
Look Parameters Tone Curve PV2012 Red : 0, 0, 255, 255
Look Parameters Tone Curve PV2012 Green : 0, 0, 255, 255
Look Parameters Tone Curve PV2012 Blue : 0, 0, 255, 255
Image Width : 250
Image Height : 166
Bits Per Sample : 8
Color Components : 1
Blue Balance : 0.633995
Image Size : 250x166
Megapixels : 0.042
Red Balance : 0.384211
Scale Factor To 35 mm Equivalent : 30.1
Shutter Speed : 1/1600
Circle Of Confusion : 0.001 mm