Uber Exif Photo
Make : Leica Camera AG
Camera Model Name : LEICA M-D (Typ 262)
Software : Adobe Photoshop Lightroom Classic 8.1 (Macintosh)
Modify Date : 2019:08:14 19:19:41
Exposure Time : 1/2000
F Number : 9.5
Exposure Program : Aperture-priority AE
ISO : 400
Date/Time Original : 2018:07:18 03:06:05
Create Date : 2018:07:18 03:06:05
Shutter Speed Value : 1/2000
Aperture Value : 9.5
Exposure Compensation : +0.332
Max Aperture Value : 4.0
Metering Mode : Center-weighted average
Light Source : Unknown
Flash : No Flash
Focal Length : 16.0 mm
Color Space : sRGB
Scene Type : Directly photographed
Custom Rendered : Normal
Exposure Mode : Auto
White Balance : Auto
Digital Zoom Ratio : 0
Scene Capture Type : Standard
Contrast : Normal
Saturation : Normal
Sharpness : Normal
Serial Number : 5142935
Lens Info : 16-21mm f/4-22
Lens Make : Leica Camera AG
Lens Model : Tri-Elmar-M 1:4/16-18-21 ASPH.
Lens Serial Number : -------
GPS Version ID : 2.2.0.0
GPS Altitude Ref : Above Sea Level
GPS Status : Measurement Void
GPS Dilution Of Precision : 0
GPS Speed : 0
GPS Track : 0
Profile Description : sRGB IEC61966-2.1
Creator Tool : Adobe Photoshop Lightroom Classic 8.1 (Macintosh)
Lens : Tri-Elmar-M 1:4/16-18-21 ASPH.
Date Created : 2018:07:18 03:06:05
Format : image/jpeg
Version : 11.1
Process Version : 11.0
Color Temperature : 5300
Tint : -6
Luminance Smoothing : 0
Color Noise Reduction : 25
Vignette Amount : 0
Shadow Tint : 0
Red Hue : 0
Red Saturation : 0
Green Hue : 0
Green Saturation : 0
Blue Hue : 0
Blue Saturation : 0
Gray Mixer Red : -17
Gray Mixer Orange : -5
Gray Mixer Yellow : -23
Gray Mixer Green : -5
Gray Mixer Aqua : -18
Gray Mixer Blue : +5
Gray Mixer Purple : +16
Gray Mixer Magenta : +4
Split Toning Shadow Hue : 0
Split Toning Shadow Saturation : 0
Split Toning Highlight Hue : 0
Split Toning Highlight Saturation : 0
Split Toning Balance : 0
Parametric Shadows : 0
Parametric Darks : 0
Parametric Lights : 0
Parametric Highlights : 0
Parametric Shadow Split : 25
Parametric Midtone Split : 50
Parametric Highlight Split : 75
Sharpen Radius : +1.0
Sharpen Detail : 25
Sharpen Edge Masking : 0
Post Crop Vignette Amount : 0
Grain Amount : 0
Color Noise Reduction Detail : 50
Color Noise Reduction Smoothness : 50
Lens Profile Enable : 0
Lens Manual Distortion Amount : 0
Perspective Vertical : 0
Perspective Horizontal : 0
Perspective Rotate : 0.0
Perspective Scale : 100
Perspective Aspect : 0
Perspective Upright : Off
Perspective X : 0.00
Perspective Y : 0.00
Auto Lateral CA : 0
Exposure 2012 : +0.20
Contrast 2012 : +28
Highlights 2012 : -31
Shadows 2012 : +26
Whites 2012 : +27
Blacks 2012 : -14
Clarity 2012 : 0
Dehaze : +27
Tone Map Strength : 0
Convert To Grayscale : True
Override Look Vignette : False
Tone Curve Name : Medium Contrast
Tone Curve Name 2012 : Linear
Camera Profile : Adobe Standard
Lens Profile Setup : LensDefaults
Has Settings : True
Crop Top : 0.074651
Crop Left : 0.163501
Crop Bottom : 0.896951
Crop Right : 0.985801
Crop Angle : 0
Crop Constrain To Warp : 0
Has Crop : True
Already Applied : True
Tone Curve : 0, 0, 32, 22, 64, 56, 128, 128, 192, 196, 255, 255
Tone Curve Red : 0, 0, 255, 255
Tone Curve Green : 0, 0, 255, 255
Tone Curve Blue : 0, 0, 255, 255
Tone Curve PV2012 : 0, 0, 255, 255
Tone Curve PV2012 Red : 0, 0, 255, 255
Tone Curve PV2012 Green : 0, 0, 255, 255
Tone Curve PV2012 Blue : 0, 0, 255, 255
Gradient Based Corr What : Correction
Gradient Based Corr Amount : 1.000000
Gradient Based Corr Active : true
Gradient Based Corr Exposure : 0.000000
Gradient Based Corr Saturation : -0.010068
Gradient Based Corr Contrast : 0.000000
Gradient Based Corr Clarity : 0.000000
Gradient Based Corr Sharpness : -0.019491
Gradient Based Corr Brightness : 0.000000
Gradient Based Corr Toning Hue : 239.000000
Gradient Based Corr Toning Saturation : 0.000000
Gradient Based Corr Exposure 2012 : 0.138382
Gradient Based Corr Contrast 2012 : -0.164062
Gradient Based Corr Highlights 2012 : 0.031008
Gradient Based Corr Shadows 2012 : 0.015947
Gradient Based Corr Whites 2012 : -0.010470
Gradient Based Corr Blacks 2012 : 0.002503
Gradient Based Corr Clarity 2012 : -0.048544
Gradient Based Corr Dehaze : 0.166615
Gradient Based Corr Luminance Noise : 0.000000
Gradient Based Corr Moire : 0.000000
Gradient Based Corr Defringe : 0.000000
Gradient Based Corr Temperature : 0.000000
Gradient Based Corr Tint : 0.000000
Gradient Based Corr Mask What : Mask/Gradient
Gradient Based Corr Mask Value : 1.000000
Gradient Based Corr Mask Zero X : 0.564977
Gradient Based Corr Mask Zero Y : 0.488067
Gradient Based Corr Mask Full X : 0.564947
Gradient Based Corr Mask Full Y : 0.493785
Gradient Based Corr Range Mask Version : +2
Gradient Based Corr Range Mask Type : 0
Gradient Based Corr Range Mask Color Amount : 0.500000
Gradient Based Corr Range Mask Lum Min : 0.000000
Gradient Based Corr Range Mask Lum Max : 1.000000
Gradient Based Corr Range Mask Lum Feather : 0.500000
Gradient Based Corr Range Mask Depth Min : 0.000000
Gradient Based Corr Range Mask Depth Max : 1.000000
Gradient Based Corr Range Mask Depth Feather : 0.500000
Look Name : Adobe Monochrome
Look Amount : 1.000000
Look Supports Amount : false
Look Supports Monochrome : false
Look Supports Output Referred : false
Look Group : Profiles
Look Parameters Version : 11.1
Look Parameters Process Version : 11.0
Look Parameters Clarity 2012 : +8
Look Parameters Convert To Grayscale : True
Look Parameters Camera Profile : Adobe Standard
Look Parameters Look Table : 73ED6C18DDE909DD7EA2D771F5AC282D
Look Parameters Tone Curve PV2012 : 0, 0, 64, 56, 128, 128, 192, 197, 255, 255
Look Parameters Tone Curve PV2012 Red : 0, 0, 255, 255
Look Parameters Tone Curve PV2012 Green : 0, 0, 255, 255
Look Parameters Tone Curve PV2012 Blue : 0, 0, 255, 255
Image Width : 250
Image Height : 167
Bits Per Sample : 8
Color Components : 1
Aperture : 9.5
Image Size : 250x167
Megapixels : 0.042
Scale Factor To 35 mm Equivalent : 23.8
Shutter Speed : 1/2000
GPS Altitude : 0 m Above Sea Level
Circle Of Confusion : 0.001 mm
Field Of View : 5.4 deg
Focal Length : 16.0 mm (35 mm equivalent: 380.7 mm)
Hyperfocal Distance : 21.34 m
Light Value : 15.5