Uber Exif Photo
Make : SIGMA
Camera Model Name : sd Quattro
Software : Adobe Photoshop Lightroom Classic 11.5 (Macintosh)
Modify Date : 2022:08:31 14:19:41
Exposure Time : 1/60
F Number : 5.6
Exposure Program : Manual
ISO : 100
Date/Time Original : 2022:08:31 09:49:04
Create Date : 2022:08:31 13:21:13
Shutter Speed Value : 1/60
Aperture Value : 5.6
Exposure Compensation : 0
Max Aperture Value : 1.4
Metering Mode : Spot
Flash : No Flash
Focal Length : 30.0 mm
Color Space : sRGB
Exif Image Width : 1808
Exif Image Height : 2240
Sensing Method : One-chip color area
Custom Rendered : Custom
Exposure Mode : Manual
White Balance : Auto
Focal Length In 35mm Format : 45 mm
Scene Capture Type : Standard
Profile Description : sRGB IEC61966-2.1
Creator Tool : Adobe Photoshop Lightroom Classic 11.5 (Macintosh)
Date Created : 2022:08:31 09:49:04
Preserved File Name : leaf curtain 75-25 reflect SDIM2276.jpg
Format : image/jpeg
Raw File Name : leaf curtain 75-25 reflect SDIM2276.jpg
Version : 14.5
Process Version : 11.0
Incremental Temperature : 0
Incremental Tint : 0
Exposure 2012 : +1.35
Contrast 2012 : 0
Highlights 2012 : -55
Shadows 2012 : +19
Whites 2012 : 0
Blacks 2012 : 0
Texture : +24
Clarity 2012 : 0
Dehaze : +24
Vibrance : +45
Saturation : +42
Parametric Shadows : 0
Parametric Darks : 0
Parametric Lights : 0
Parametric Highlights : 0
Parametric Shadow Split : 25
Parametric Midtone Split : 50
Parametric Highlight Split : 75
Sharpness : 0
Luminance Smoothing : 0
Color Noise Reduction : 0
Gray Mixer Red : 0
Gray Mixer Orange : 0
Gray Mixer Yellow : 0
Gray Mixer Green : 0
Gray Mixer Aqua : 0
Gray Mixer Blue : 0
Gray Mixer Purple : 0
Gray Mixer Magenta : 0
Split Toning Shadow Hue : 0
Split Toning Shadow Saturation : 0
Split Toning Highlight Hue : 0
Split Toning Highlight Saturation : 0
Split Toning Balance : 0
Color Grade Midtone Hue : 0
Color Grade Midtone Sat : 0
Color Grade Shadow Lum : 0
Color Grade Midtone Lum : 0
Color Grade Highlight Lum : 0
Color Grade Blending : 50
Color Grade Global Hue : 0
Color Grade Global Sat : 0
Color Grade Global Lum : 0
Auto Lateral CA : 0
Lens Profile Enable : 0
Lens Manual Distortion Amount : 0
Vignette Amount : 0
Perspective Upright : Off
Perspective Vertical : 0
Perspective Horizontal : 0
Perspective Rotate : 0.0
Perspective Aspect : 0
Perspective Scale : 100
Perspective X : 0.00
Perspective Y : 0.00
Grain Amount : 0
Post Crop Vignette Amount : 0
Shadow Tint : 0
Red Hue : 0
Red Saturation : 0
Green Hue : 0
Green Saturation : 0
Blue Hue : 0
Blue Saturation : 0
Convert To Grayscale : True
Override Look Vignette : False
Tone Curve Name 2012 : Linear
Camera Profile : Embedded
Has Settings : True
Crop Top : 0
Crop Left : 0
Crop Bottom : 1
Crop Right : 1
Crop Angle : 0
Crop Constrain To Warp : 0
Has Crop : False
Already Applied : True
Tone Curve PV2012 : 0, 0, 255, 255
Tone Curve PV2012 Red : 0, 0, 255, 255
Tone Curve PV2012 Green : 0, 0, 255, 255
Tone Curve PV2012 Blue : 0, 0, 255, 255
Image Width : 400
Image Height : 496
Bits Per Sample : 8
Color Components : 1
Aperture : 5.6
Image Size : 400x496
Megapixels : 0.198
Scale Factor To 35 mm Equivalent : 1.5
Shutter Speed : 1/60
Modify Date : 2022:08:31 14:19:41-04:00
Circle Of Confusion : 0.020 mm
Field Of View : 43.6 deg
Focal Length : 30.0 mm (35 mm equivalent: 45.0 mm)
Hyperfocal Distance : 8.02 m
Light Value : 10.9