Uber Exif Photo
Make : SIGMA
Camera Model Name : sd Quattro
Software : Adobe Photoshop Lightroom Classic 11.4.1 (Macintosh)
Modify Date : 2022:08:19 17:54:23
Exposure Time : 1/160
F Number : 8.0
Exposure Program : Manual
ISO : 125
Date/Time Original : 2019:03:14 13:36:01
Create Date : 2022:08:06 18:29:40
Shutter Speed Value : 1/160
Aperture Value : 8.0
Exposure Compensation : 0
Max Aperture Value : 5.0
Metering Mode : Spot
Flash : No Flash
Focal Length : 63.0 mm
Color Space : sRGB
Sensing Method : One-chip color area
Custom Rendered : Custom
Exposure Mode : Manual
White Balance : Auto
Focal Length In 35mm Format : 94 mm
Scene Capture Type : Standard
Profile Description : sRGB IEC61966-2.1
Creator Tool : Adobe Photoshop Lightroom Classic 11.4.1 (Macintosh)
Date Created : 2019:03:14 13:36:01
Preserved File Name : Yolo County pasture SDIM1780.jpg
Format : image/jpeg
Raw File Name : Yolo County pasture SDIM1780.jpg
Version : 14.4.1
Process Version : 11.0
Incremental Temperature : +20
Incremental Tint : -23
Exposure 2012 : 0.00
Contrast 2012 : -26
Highlights 2012 : +20
Shadows 2012 : +23
Whites 2012 : 0
Blacks 2012 : 0
Texture : +19
Clarity 2012 : 0
Dehaze : +26
Parametric Shadows : 0
Parametric Darks : 0
Parametric Lights : 0
Parametric Highlights : 0
Parametric Shadow Split : 25
Parametric Midtone Split : 50
Parametric Highlight Split : 75
Sharpness : 68
Sharpen Radius : +1.0
Sharpen Detail : 25
Sharpen Edge Masking : 0
Luminance Smoothing : 0
Color Noise Reduction : 0
Gray Mixer Red : 0
Gray Mixer Orange : 0
Gray Mixer Yellow : +29
Gray Mixer Green : -5
Gray Mixer Aqua : -31
Gray Mixer Blue : -45
Gray Mixer Purple : 0
Gray Mixer Magenta : 0
Split Toning Shadow Hue : 0
Split Toning Shadow Saturation : 0
Split Toning Highlight Hue : 0
Split Toning Highlight Saturation : 0
Split Toning Balance : 0
Color Grade Midtone Hue : 0
Color Grade Midtone Sat : 0
Color Grade Shadow Lum : 0
Color Grade Midtone Lum : 0
Color Grade Highlight Lum : 0
Color Grade Blending : 50
Color Grade Global Hue : 0
Color Grade Global Sat : 0
Color Grade Global Lum : 0
Auto Lateral CA : 0
Lens Profile Enable : 0
Lens Manual Distortion Amount : 0
Vignette Amount : 0
Perspective Upright : Off
Perspective Vertical : 0
Perspective Horizontal : 0
Perspective Rotate : 0.0
Perspective Aspect : 0
Perspective Scale : 100
Perspective X : 0.00
Perspective Y : 0.00
Grain Amount : 0
Post Crop Vignette Amount : 0
Shadow Tint : 0
Red Hue : 0
Red Saturation : 0
Green Hue : 0
Green Saturation : 0
Blue Hue : 0
Blue Saturation : 0
Convert To Grayscale : True
Override Look Vignette : False
Tone Curve Name 2012 : Linear
Camera Profile : Embedded
Has Settings : True
Crop Top : 0.205467
Crop Left : 0
Crop Bottom : 0.736441
Crop Right : 1
Crop Angle : 0
Crop Constrain To Warp : 0
Has Crop : True
Already Applied : True
Tone Curve PV2012 : 0, 0, 255, 255
Tone Curve PV2012 Red : 0, 0, 255, 255
Tone Curve PV2012 Green : 0, 0, 255, 255
Tone Curve PV2012 Blue : 0, 0, 255, 255
Image Width : 400
Image Height : 171
Bits Per Sample : 8
Color Components : 1
Aperture : 8.0
Image Size : 400x171
Megapixels : 0.068
Scale Factor To 35 mm Equivalent : 1.5
Shutter Speed : 1/160
Modify Date : 2022:08:19 17:54:23-04:00
Circle Of Confusion : 0.020 mm
Field Of View : 21.7 deg
Focal Length : 63.0 mm (35 mm equivalent: 94.0 mm)
Hyperfocal Distance : 24.64 m
Light Value : 13.0