Uber Exif Photo
Make : SIGMA
Camera Model Name : sd Quattro
Software : Adobe Photoshop Lightroom Classic 11.4.1 (Macintosh)
Modify Date : 2022:08:19 17:53:43
Exposure Time : 1/4000
F Number : 2.2
Exposure Program : Manual
ISO : 100
Date/Time Original : 2018:10:15 22:40:21
Create Date : 2022:08:10 15:08:33
Shutter Speed Value : 1/4000
Aperture Value : 2.2
Exposure Compensation : 0
Max Aperture Value : 1.4
Metering Mode : Spot
Flash : No Flash
Focal Length : 30.0 mm
Color Space : sRGB
Sensing Method : One-chip color area
Custom Rendered : Custom
Exposure Mode : Manual
White Balance : Auto
Focal Length In 35mm Format : 45 mm
Scene Capture Type : Standard
Profile Description : sRGB IEC61966-2.1
Creator Tool : Adobe Photoshop Lightroom Classic 11.4.1 (Macintosh)
Date Created : 2018:10:15 22:40:21
Preserved File Name : SDIM1681.jpg
Format : image/jpeg
Raw File Name : SDIM1681.jpg
Version : 14.4.1
Process Version : 11.0
Incremental Temperature : 0
Incremental Tint : 0
Shadows : 5
Brightness : +50
Contrast : +25
Exposure 2012 : +0.05
Contrast 2012 : -17
Highlights 2012 : -18
Shadows 2012 : +41
Whites 2012 : +7
Blacks 2012 : -14
Texture : +25
Clarity 2012 : 0
Dehaze : +22
Vibrance : +12
Parametric Shadows : 0
Parametric Darks : 0
Parametric Lights : 0
Parametric Highlights : 0
Parametric Shadow Split : 25
Parametric Midtone Split : 50
Parametric Highlight Split : 75
Sharpness : 67
Sharpen Radius : +1.0
Sharpen Detail : 25
Sharpen Edge Masking : 0
Luminance Smoothing : 0
Color Noise Reduction : 0
Gray Mixer Red : 0
Gray Mixer Orange : -19
Gray Mixer Yellow : +19
Gray Mixer Green : -30
Gray Mixer Aqua : 0
Gray Mixer Blue : 0
Gray Mixer Purple : 0
Gray Mixer Magenta : 0
Split Toning Shadow Hue : 0
Split Toning Shadow Saturation : 0
Split Toning Highlight Hue : 0
Split Toning Highlight Saturation : 0
Split Toning Balance : 0
Color Grade Midtone Hue : 0
Color Grade Midtone Sat : 0
Color Grade Shadow Lum : 0
Color Grade Midtone Lum : 0
Color Grade Highlight Lum : 0
Color Grade Blending : 50
Color Grade Global Hue : 0
Color Grade Global Sat : 0
Color Grade Global Lum : 0
Auto Lateral CA : 0
Lens Profile Enable : 0
Lens Manual Distortion Amount : 0
Vignette Amount : 0
Perspective Upright : Off
Perspective Vertical : 0
Perspective Horizontal : 0
Perspective Rotate : 0.0
Perspective Aspect : 0
Perspective Scale : 100
Perspective X : 0.00
Perspective Y : 0.00
Grain Amount : 0
Post Crop Vignette Amount : 0
Shadow Tint : 0
Red Hue : 0
Red Saturation : 0
Green Hue : 0
Green Saturation : 0
Blue Hue : 0
Blue Saturation : 0
Convert To Grayscale : True
Override Look Vignette : False
Tone Curve Name 2012 : Linear
Camera Profile : Embedded
Has Settings : True
Crop Top : 0
Crop Left : 0
Crop Bottom : 1
Crop Right : 1
Crop Angle : 0
Crop Constrain To Warp : 0
Has Crop : False
Already Applied : True
Tone Curve PV2012 : 0, 0, 255, 255
Tone Curve PV2012 Red : 0, 0, 255, 255
Tone Curve PV2012 Green : 0, 0, 255, 255
Tone Curve PV2012 Blue : 0, 0, 255, 255
Image Width : 400
Image Height : 496
Bits Per Sample : 8
Color Components : 1
Aperture : 2.2
Image Size : 400x496
Megapixels : 0.198
Scale Factor To 35 mm Equivalent : 1.5
Shutter Speed : 1/4000
Modify Date : 2022:08:19 17:53:43-04:00
Circle Of Confusion : 0.020 mm
Field Of View : 43.6 deg
Focal Length : 30.0 mm (35 mm equivalent: 45.0 mm)
Hyperfocal Distance : 20.42 m
Light Value : 14.2