Uber Exif Photo
Photometric Interpretation : RGB
Make : Plustek
Camera Model Name : OpticFilm 8100
Orientation : Horizontal (normal)
Samples Per Pixel : 3
Software : Adobe Photoshop 25.9 (Windows)
Modify Date : 2024:06:14 15:05:08
Create Date : 2024:06:11 14:06:34
Color Space : sRGB
Exif Image Width : 800
Exif Image Height : 545
Creator Tool : Adobe Photoshop Lightroom Classic 13.3.1 (Windows)
Preserved File Name : 2024-06-11-0005.tif
Format : image/jpeg
Pick : 0
Raw File Name : 2024-06-11-0005.tif
Version : 16.3.1
Process Version : 15.4
Exposure 2012 : 0.00
Contrast 2012 : 0
Highlights 2012 : 0
Shadows 2012 : +39
Whites 2012 : +44
Blacks 2012 : -25
Texture : 0
Clarity 2012 : +14
Dehaze : 0
Parametric Shadows : -15
Parametric Darks : 0
Parametric Lights : +25
Parametric Highlights : +60
Parametric Shadow Split : 25
Parametric Midtone Split : 50
Parametric Highlight Split : 75
Sharpness : 0
Sharpen Radius : +0.5
Sharpen Detail : 0
Luminance Smoothing : 0
Split Toning Shadow Hue : 0
Split Toning Shadow Saturation : 0
Split Toning Highlight Hue : 0
Split Toning Highlight Saturation : 0
Split Toning Balance : 0
Color Grade Midtone Hue : 0
Color Grade Midtone Sat : 0
Color Grade Shadow Lum : 0
Color Grade Midtone Lum : 0
Color Grade Highlight Lum : 0
Color Grade Blending : 50
Color Grade Global Hue : 0
Color Grade Global Sat : 0
Color Grade Global Lum : 0
Lens Profile Enable : 0
Lens Manual Distortion Amount : 0
Vignette Amount : 0
Perspective Upright : Off
Perspective Vertical : 0
Perspective Horizontal : 0
Perspective Rotate : 0.0
Perspective Aspect : 0
Perspective Scale : 100
Perspective X : 0.00
Perspective Y : 0.00
Grain Amount : 0
Post Crop Vignette Amount : 0
HDR Edit Mode : 0
Override Look Vignette : False
Tone Curve Name 2012 : Linear
Has Settings : True
Crop Top : 0
Crop Left : 0
Crop Bottom : 1
Crop Right : 1
Crop Angle : 0
Crop Constrain To Warp : 0
Has Crop : False
Already Applied : True
Color Mode : RGB
ICC Profile Name : sRGB IEC61966-2.1
Tone Curve PV2012 : 0, 0, 255, 255
Tone Curve PV2012 Red : 0, 0, 255, 255
Tone Curve PV2012 Green : 0, 0, 255, 255
Tone Curve PV2012 Blue : 0, 0, 255, 255
Point Colors : -1.000000, -1.000000, -1.000000, -1.000000, -1.000000, -1.000000, -1.000000, -1.000000, -1.000000, -1.000000, -1.000000, -1.000000, -1.000000, -1.000000, -1.000000, -1.000000, -1.000000, -1.000000, -1.000000
Profile Description : sRGB IEC61966-2.1
Image Width : 400
Image Height : 273
Bits Per Sample : 8
Color Components : 3
Image Size : 400x273
Megapixels : 0.109
Modify Date : 2024:06:14 15:05:08+10:00