Uber Exif Photo
Keywords : leica M10-R, summilux 35 asph FLE
Make : Leica Camera AG
Camera Model Name : LEICA M10-R
Software : Adobe Photoshop Lightroom 6.14 (Macintosh)
Modify Date : 2022:02:27 21:08:47
Exposure Time : 1/250
F Number : 9.5
Exposure Program : Manual
ISO : 100
Date/Time Original : 2022:02:27 09:43:59
Create Date : 2022:02:27 09:43:59
Shutter Speed Value : 1/250
Aperture Value : 9.5
Exposure Compensation : 0
Max Aperture Value : 1.4
Metering Mode : Center-weighted average
Light Source : Daylight
Flash : No Flash
Focal Length : 35.0 mm
Color Space : sRGB
Scene Type : Directly photographed
Custom Rendered : Normal
Exposure Mode : Manual
White Balance : Manual
Digital Zoom Ratio : 0
Scene Capture Type : Standard
Contrast : Normal
Saturation : Normal
Sharpness : Normal
Serial Number : 5625131
Lens Info : 35mm f/1.4
Lens Make : Leica Camera AG
Lens Model : Summilux-M 1:1.4/35 ASPH.
Profile Description : sRGB IEC61966-2.1
Creator Tool : Adobe Photoshop Lightroom 6.14 (Macintosh)
Format : image/jpeg
Correction Already Applied : False
Pitch Angle : 11.2010002136
Roll Angle : 14.0350036621
Focal Length 35mm : 35.0000000000
Target Aspect Ratio : 1.5000000000
Scaling Factor Height : 0.7486637831
Valid Crop Corners : True
Apply Automatically : False
Lens : Summilux-M 1:1.4/35 ASPH.
Date Created : 2022:02:27 09:43:59
Version : 10.1
Process Version : 6.7
Auto White Version : 134348800
Color Temperature : 5150
Tint : -15
Luminance Smoothing : 0
Color Noise Reduction : 30
Vignette Amount : 0
Shadow Tint : 0
Red Hue : 0
Red Saturation : 0
Green Hue : 0
Green Saturation : 0
Blue Hue : 0
Blue Saturation : 0
Vibrance : +14
Hue Adjustment Red : +5
Hue Adjustment Orange : 0
Hue Adjustment Yellow : 0
Hue Adjustment Green : 0
Hue Adjustment Aqua : 0
Hue Adjustment Blue : 0
Hue Adjustment Purple : 0
Hue Adjustment Magenta : 0
Saturation Adjustment Red : 0
Saturation Adjustment Orange : 0
Saturation Adjustment Yellow : 0
Saturation Adjustment Green : 0
Saturation Adjustment Aqua : 0
Saturation Adjustment Blue : 0
Saturation Adjustment Purple : 0
Saturation Adjustment Magenta : 0
Luminance Adjustment Red : 0
Luminance Adjustment Orange : 0
Luminance Adjustment Yellow : 0
Luminance Adjustment Green : 0
Luminance Adjustment Aqua : -6
Luminance Adjustment Blue : -14
Luminance Adjustment Purple : 0
Luminance Adjustment Magenta : 0
Split Toning Shadow Hue : 0
Split Toning Shadow Saturation : 0
Split Toning Highlight Hue : 0
Split Toning Highlight Saturation : 0
Split Toning Balance : 0
Parametric Shadows : +22
Parametric Darks : -10
Parametric Lights : +15
Parametric Highlights : 0
Parametric Shadow Split : 25
Parametric Midtone Split : 50
Parametric Highlight Split : 75
Sharpen Radius : +1.0
Sharpen Detail : 50
Sharpen Edge Masking : 40
Post Crop Vignette Amount : 0
Grain Amount : 20
Grain Size : 30
Grain Frequency : 50
Color Noise Reduction Detail : 50
Color Noise Reduction Smoothness : 50
Lens Profile Enable : 0
Lens Manual Distortion Amount : 0
Perspective Vertical : 0
Perspective Horizontal : 0
Perspective Rotate : 0.0
Perspective Scale : 100
Perspective Aspect : 0
Perspective Upright : Off
Perspective X : 0.00
Perspective Y : 0.00
Auto Lateral CA : 0
Exposure 2012 : -0.70
Contrast 2012 : +5
Highlights 2012 : -70
Shadows 2012 : 0
Whites 2012 : 0
Blacks 2012 : 0
Clarity 2012 : +15
Defringe Purple Amount : 0
Defringe Purple Hue Lo : 30
Defringe Purple Hue Hi : 70
Defringe Green Amount : 0
Defringe Green Hue Lo : 40
Defringe Green Hue Hi : 60
Dehaze : 0
Tone Map Strength : 0
Convert To Grayscale : False
Tone Curve Name : Linear
Tone Curve Name 2012 : Linear
Camera Profile : Huelight CF Standard V25
Lens Profile Setup : LensDefaults
Has Settings : True
Crop Top : 0.007051
Crop Left : 0.001984
Crop Bottom : 0.992949
Crop Right : 0.998016
Crop Angle : -0.269034
Crop Constrain To Warp : 0
Has Crop : True
Already Applied : True
Subject : leica M10-R, summilux 35 asph FLE
Normalized Crop Corners : 0.1323462278, 0.2274387777, 0.8366306424, 0.0196938049, 0.9477059841, 0.6862069964, 0.2610945702, 1.0000000000
Tone Curve : 0, 0, 255, 255
Tone Curve Red : 0, 0, 255, 255
Tone Curve Green : 0, 0, 255, 255
Tone Curve Blue : 0, 0, 255, 255
Tone Curve PV2012 : 0, 0, 255, 255
Tone Curve PV2012 Red : 0, 0, 255, 255
Tone Curve PV2012 Green : 0, 0, 255, 255
Tone Curve PV2012 Blue : 0, 0, 255, 255
Image Width : 400
Image Height : 605
Bits Per Sample : 8
Color Components : 3
Aperture : 9.5
Image Size : 400x605
Megapixels : 0.242
Shutter Speed : 1/250
Light Value : 14.5
Lens ID : Summilux-M 1:1.4/35 ASPH.