Uber Exif Photo
Keywords : Jack, Jack creamtone
By-line : Joseph Walsh
Copyright Notice : Joseph Walsh
Copyright Flag : True
URL : [email protected]
Make : NIKON CORPORATION
Camera Model Name : NIKON D700
Software : Adobe Photoshop Lightroom 6.14 (Macintosh)
Modify Date : 2019:03:25 12:43:08
Artist : Joseph Walsh
Copyright : Joseph Walsh
Exposure Time : 1/180
F Number : 3.3
Exposure Program : Manual
ISO : 200
Date/Time Original : 2010:12:10 16:44:18
Create Date : 2010:12:10 16:44:18
Shutter Speed Value : 1/180
Aperture Value : 3.3
Exposure Compensation : -1/3
Max Aperture Value : 3.4
Subject Distance : 1 m
Metering Mode : Multi-segment
Light Source : Unknown
Flash : No Flash
Focal Length : 150.0 mm
Color Space : sRGB
Sensing Method : One-chip color area
Scene Type : Directly photographed
CFA Pattern : [Red,Green][Green,Blue]
Custom Rendered : Normal
Exposure Mode : Manual
White Balance : Auto
Digital Zoom Ratio : 1
Focal Length In 35mm Format : 150 mm
Scene Capture Type : Standard
Gain Control : None
Contrast : Normal
Saturation : Normal
Sharpness : Normal
Subject Distance Range : Unknown
Serial Number : 2080309
Lens Info : 150mm f/2.8
Lens Model : 150.0 mm f/2.8
Profile Description : sRGB IEC61966-2.1
Creator Tool : Adobe Photoshop Lightroom 6.14 (Macintosh)
Label : Red
Lens : 150.0 mm f/2.8
Image Number : 35754
Approximate Focus Distance : 1
Marked : True
Web Statement : [email protected]
Format : image/jpeg
Date Created : 2010:12:10 16:44:18.39-06:00
Version : 10.1
Process Version : 6.7
Auto White Version : 134348800
Color Temperature : 12500
Tint : +35
Luminance Smoothing : 0
Color Noise Reduction : 25
Vignette Amount : 0
Shadow Tint : +8
Red Hue : +96
Red Saturation : +3
Green Hue : +11
Green Saturation : +25
Blue Hue : +11
Blue Saturation : -70
Vibrance : -3
Hue Adjustment Red : 0
Hue Adjustment Orange : 0
Hue Adjustment Yellow : 0
Hue Adjustment Green : 0
Hue Adjustment Aqua : 0
Hue Adjustment Blue : 0
Hue Adjustment Purple : 0
Hue Adjustment Magenta : 0
Saturation Adjustment Red : 0
Saturation Adjustment Orange : 0
Saturation Adjustment Yellow : 0
Saturation Adjustment Green : 0
Saturation Adjustment Aqua : 0
Saturation Adjustment Blue : 0
Saturation Adjustment Purple : 0
Saturation Adjustment Magenta : 0
Luminance Adjustment Red : 0
Luminance Adjustment Orange : 0
Luminance Adjustment Yellow : 0
Luminance Adjustment Green : 0
Luminance Adjustment Aqua : 0
Luminance Adjustment Blue : 0
Luminance Adjustment Purple : 0
Luminance Adjustment Magenta : 0
Split Toning Shadow Hue : 0
Split Toning Shadow Saturation : 0
Split Toning Highlight Hue : 51
Split Toning Highlight Saturation : 25
Split Toning Balance : 0
Parametric Shadows : -23
Parametric Darks : -5
Parametric Lights : +1
Parametric Highlights : +3
Parametric Shadow Split : 25
Parametric Midtone Split : 50
Parametric Highlight Split : 75
Sharpen Radius : +1.0
Sharpen Detail : 25
Sharpen Edge Masking : 0
Post Crop Vignette Amount : -34
Post Crop Vignette Midpoint : 31
Post Crop Vignette Feather : 55
Post Crop Vignette Roundness : +5
Post Crop Vignette Style : Highlight Priority
Post Crop Vignette Highlight Contrast : 0
Grain Amount : 0
Color Noise Reduction Detail : 50
Color Noise Reduction Smoothness : 50
Lens Profile Enable : 0
Lens Manual Distortion Amount : 0
Perspective Vertical : 0
Perspective Horizontal : 0
Perspective Rotate : 0.0
Perspective Scale : 100
Perspective Aspect : 0
Perspective Upright : Off
Perspective X : 0.00
Perspective Y : 0.00
Auto Lateral CA : 0
Exposure 2012 : 0.00
Contrast 2012 : 0
Highlights 2012 : 0
Shadows 2012 : 0
Whites 2012 : 0
Blacks 2012 : 0
Clarity 2012 : 0
Defringe Purple Amount : 0
Defringe Purple Hue Lo : 30
Defringe Purple Hue Hi : 70
Defringe Green Amount : 0
Defringe Green Hue Lo : 40
Defringe Green Hue Hi : 60
Dehaze : 0
Tone Map Strength : 0
Convert To Grayscale : False
Tone Curve Name : Linear
Tone Curve Name 2012 : Linear
Camera Profile : Adobe Standard
Lens Profile Setup : LensDefaults
Has Settings : True
Has Crop : False
Already Applied : True
Creator : Joseph Walsh
Rights : Joseph Walsh
Subject : Jack, Jack creamtone
Creator City : Blanco
Creator Address : 465 Landon's Way
Creator Region : Texas
Creator Work Email : [email protected]
Creator Work URL : josephwalsh.zenfolio.com
Tone Curve : 0, 0, 255, 255
Tone Curve Red : 0, 0, 255, 255
Tone Curve Green : 0, 0, 255, 255
Tone Curve Blue : 0, 0, 255, 255
Tone Curve PV2012 : 0, 0, 255, 255
Tone Curve PV2012 Red : 0, 0, 255, 255
Tone Curve PV2012 Green : 0, 0, 255, 255
Tone Curve PV2012 Blue : 0, 0, 255, 255
Image Width : 250
Image Height : 376
Bits Per Sample : 8
Color Components : 3
Aperture : 3.3
Image Size : 250x376
Megapixels : 0.094
Scale Factor To 35 mm Equivalent : 1.0
Shutter Speed : 1/180
Create Date : 2010:12:10 16:44:18.39
Date/Time Original : 2010:12:10 16:44:18.39
Circle Of Confusion : 0.030 mm
Depth Of Field : 0.007 m (0.996 - 1.004 m)
Field Of View : 13.7 deg
Focal Length : 150.0 mm (35 mm equivalent: 150.0 mm)
Hyperfocal Distance : 226.92 m
Light Value : 9.9
Lens ID : Sigma APO Macro 150mm F2.8 EX DG HSM