Uber Exif Photo
Make : Panasonic
Camera Model Name : DMC-GF3
Orientation : Horizontal (normal)
Software : Adobe Photoshop CS5 Macintosh
Modify Date : 2016:02:18 08:02:20
Exposure Time : 1/1000
F Number : 3.5
Exposure Program : Aperture-priority AE
ISO : 160
Date/Time Original : 2016:02:16 02:29:06
Create Date : 2016:02:16 02:29:06
Shutter Speed Value : 1/1000
Aperture Value : 3.5
Exposure Compensation : 0
Max Aperture Value : 2.5
Metering Mode : Multi-segment
Light Source : Unknown
Flash : Off, Did not fire
Focal Length : 14.0 mm
Color Space : sRGB
Exif Image Width : 900
Exif Image Height : 648
Sensing Method : One-chip color area
Scene Type : Directly photographed
Custom Rendered : Normal
Exposure Mode : Auto
White Balance : Auto
Digital Zoom Ratio : 0
Focal Length In 35mm Format : 28 mm
Scene Capture Type : Standard
Gain Control : Low gain up
Contrast : Normal
Saturation : Normal
Sharpness : Normal
Lens Model : LUMIX G 14/F2.5
Lens Serial Number : 01FG6292517R
Profile Description : sRGB IEC61966-2.1
Lens : LUMIX G 14/F2.5
Rating : 0
Creator Tool : Adobe Photoshop CS5 Macintosh
Date Created : 2016:02:16 02:29:06
Color Mode : RGB
ICC Profile Name : sRGB IEC61966-2.1
Format : image/jpeg
Raw File Name : P1220417.RW2
Version : 6.5
Process Version : 5.7
Color Temperature : 5250
Tint : +21
Exposure : 0.00
Shadows : 5
Brightness : +50
Luminance Smoothing : 0
Color Noise Reduction : 25
Chromatic Aberration R : 0
Chromatic Aberration B : 0
Vignette Amount : 0
Shadow Tint : 0
Red Hue : 0
Red Saturation : 0
Green Hue : 0
Green Saturation : 0
Blue Hue : 0
Blue Saturation : 0
Fill Light : 22
Vibrance : 0
Highlight Recovery : 43
Clarity : 0
Defringe : 0
Hue Adjustment Red : 0
Hue Adjustment Orange : 0
Hue Adjustment Yellow : 0
Hue Adjustment Green : 0
Hue Adjustment Aqua : 0
Hue Adjustment Blue : 0
Hue Adjustment Purple : 0
Hue Adjustment Magenta : 0
Saturation Adjustment Red : 0
Saturation Adjustment Orange : 0
Saturation Adjustment Yellow : 0
Saturation Adjustment Green : 0
Saturation Adjustment Aqua : 0
Saturation Adjustment Blue : 0
Saturation Adjustment Purple : 0
Saturation Adjustment Magenta : 0
Luminance Adjustment Red : 0
Luminance Adjustment Orange : 0
Luminance Adjustment Yellow : 0
Luminance Adjustment Green : 0
Luminance Adjustment Aqua : 0
Luminance Adjustment Blue : 0
Luminance Adjustment Purple : 0
Luminance Adjustment Magenta : 0
Split Toning Shadow Hue : 0
Split Toning Shadow Saturation : 0
Split Toning Highlight Hue : 0
Split Toning Highlight Saturation : 0
Split Toning Balance : 0
Parametric Shadows : 0
Parametric Darks : 0
Parametric Lights : 0
Parametric Highlights : 0
Parametric Shadow Split : 25
Parametric Midtone Split : 50
Parametric Highlight Split : 75
Sharpen Radius : +1.0
Sharpen Detail : 25
Sharpen Edge Masking : 0
Post Crop Vignette Amount : 0
Grain Amount : 0
Color Noise Reduction Detail : 50
Lens Profile Enable : 0
Lens Manual Distortion Amount : 0
Perspective Vertical : 0
Perspective Horizontal : 0
Perspective Rotate : 0.0
Perspective Scale : 100
Convert To Grayscale : False
Tone Curve Name : Medium Contrast
Camera Profile : Adobe Standard
Lens Profile Setup : LensDefaults
Has Settings : True
Has Crop : False
Already Applied : True
Tone Curve : 0, 0, 32, 22, 64, 56, 128, 128, 192, 196, 255, 255
Image Width : 250
Image Height : 180
Bits Per Sample : 8
Color Components : 1
Aperture : 3.5
Image Size : 250x180
Megapixels : 0.045
Scale Factor To 35 mm Equivalent : 2.0
Shutter Speed : 1/1000
Circle Of Confusion : 0.015 mm
Field Of View : 65.5 deg
Focal Length : 14.0 mm (35 mm equivalent: 28.0 mm)
Hyperfocal Distance : 3.73 m
Light Value : 12.9
Lens ID : LUMIX G 14mm F2.5