Uber Exif Photo
Caption-Abstract : OLYMPUS DIGITAL CAMERA
Image Description : OLYMPUS DIGITAL CAMERA
Make : OLYMPUS IMAGING CORP.
Camera Model Name : E-M5
Software : Adobe Photoshop Lightroom 5.6 (Macintosh)
Modify Date : 2015:02:19 14:09:35
Exposure Time : 1/1000
F Number : 5.3
Exposure Program : Aperture-priority AE
ISO : 200
Date/Time Original : 2015:02:15 14:28:43
Create Date : 2015:02:15 14:28:43
Shutter Speed Value : 1/1000
Aperture Value : 5.3
Exposure Compensation : 0
Max Aperture Value : 3.5
Metering Mode : Multi-segment
Light Source : Unknown
Flash : Auto, Did not fire
Focal Length : 29.0 mm
Color Space : sRGB
Exposure Mode : Auto
White Balance : Auto
Digital Zoom Ratio : 1
Focal Length In 35mm Format : 58 mm
Scene Capture Type : Standard
Gain Control : None
Contrast : Normal
Saturation : Normal
Sharpness : Soft
Serial Number : BEK204914
Lens Info : 12-50mm f/3.5-6.3
Lens Model : OLYMPUS M.12-50mm F3.5-6.3
Lens Serial Number : ABP392434
Profile Description : sRGB IEC61966-2.1
Approximate Focus Distance : 2.99
Flash Compensation : 0
Lens : OLYMPUS M.12-50mm F3.5-6.3
Format : image/jpeg
Creator Tool : Adobe Photoshop Lightroom 5.6 (Macintosh)
Date Created : 2015:02:15 14:28:43
Photographic Sensitivity : 200
Version : 8.6
Process Version : 6.7
Auto White Version : 134348800
Incremental Temperature : +9
Incremental Tint : 0
Luminance Smoothing : 0
Color Noise Reduction : 0
Vignette Amount : 0
Shadow Tint : 0
Red Hue : 0
Red Saturation : 0
Green Hue : 0
Green Saturation : 0
Blue Hue : 0
Blue Saturation : 0
Vibrance : 0
Hue Adjustment Red : 0
Hue Adjustment Orange : 0
Hue Adjustment Yellow : 0
Hue Adjustment Green : 0
Hue Adjustment Aqua : 0
Hue Adjustment Blue : 0
Hue Adjustment Purple : 0
Hue Adjustment Magenta : 0
Saturation Adjustment Red : 0
Saturation Adjustment Orange : 0
Saturation Adjustment Yellow : 0
Saturation Adjustment Green : 0
Saturation Adjustment Aqua : 0
Saturation Adjustment Blue : 0
Saturation Adjustment Purple : 0
Saturation Adjustment Magenta : 0
Luminance Adjustment Red : 0
Luminance Adjustment Orange : 0
Luminance Adjustment Yellow : 0
Luminance Adjustment Green : 0
Luminance Adjustment Aqua : 0
Luminance Adjustment Blue : 0
Luminance Adjustment Purple : 0
Luminance Adjustment Magenta : 0
Split Toning Shadow Hue : 0
Split Toning Shadow Saturation : 0
Split Toning Highlight Hue : 0
Split Toning Highlight Saturation : 0
Split Toning Balance : 0
Parametric Shadows : 0
Parametric Darks : 0
Parametric Lights : 0
Parametric Highlights : 0
Parametric Shadow Split : 25
Parametric Midtone Split : 50
Parametric Highlight Split : 75
Sharpen Radius : +1.0
Sharpen Detail : 25
Sharpen Edge Masking : 0
Post Crop Vignette Amount : 0
Grain Amount : 0
Lens Profile Enable : 0
Lens Manual Distortion Amount : 0
Perspective Vertical : 0
Perspective Horizontal : 0
Perspective Rotate : 0.0
Perspective Scale : 100
Perspective Aspect : 0
Perspective Upright : Off
Auto Lateral CA : 0
Exposure 2012 : 0.00
Contrast 2012 : 0
Highlights 2012 : -23
Shadows 2012 : 0
Whites 2012 : -22
Blacks 2012 : 0
Clarity 2012 : +10
Defringe Purple Amount : 0
Defringe Purple Hue Lo : 30
Defringe Purple Hue Hi : 70
Defringe Green Amount : 0
Defringe Green Hue Lo : 40
Defringe Green Hue Hi : 60
Convert To Grayscale : False
Tone Curve Name : Linear
Tone Curve Name 2012 : Linear
Camera Profile : Embedded
Lens Profile Setup : LensDefaults
Has Settings : True
Has Crop : False
Already Applied : True
Description : OLYMPUS DIGITAL CAMERA
Tone Curve : 0, 0, 255, 255
Tone Curve Red : 0, 0, 255, 255
Tone Curve Green : 0, 0, 255, 255
Tone Curve Blue : 0, 0, 255, 255
Tone Curve PV2012 : 0, 0, 255, 255
Tone Curve PV2012 Red : 0, 0, 255, 255
Tone Curve PV2012 Green : 0, 0, 255, 255
Tone Curve PV2012 Blue : 0, 0, 255, 255
Image Width : 250
Image Height : 188
Bits Per Sample : 8
Color Components : 3
Aperture : 5.3
Image Size : 250x188
Megapixels : 0.047
Scale Factor To 35 mm Equivalent : 2.0
Shutter Speed : 1/1000
Circle Of Confusion : 0.015 mm
Depth Of Field : 1.82 m (2.34 - 4.15 m)
Field Of View : 34.5 deg
Focal Length : 29.0 mm (35 mm equivalent: 58.0 mm)
Hyperfocal Distance : 10.56 m
Light Value : 13.8
Lens ID : OLYMPUS M.12-50mm F3.5-6.3